{"text_format":"1","workbook":"xlsx","n_sheets":12,"sheets":["Leaderboard","August","September","October","November","December","January","February","March","April","May","Jokers"],"not_rendered":{"charts":0,"images":6,"macros":1,"external_links":0,"defined_names":0,"comments":0,"pivot_tables":0},"unopened":[],"bounds":{"document_bytes":16777216,"sheet_cells":100000,"rows_first":2000,"rows_last":500,"rows_between":2000,"halvings":0,"cell_chars":16384,"cell_head_chars":4096},"cells_cut":0,"cells_raw":0,"read":"whole","date_system":"1900"}

{"sheet":"Leaderboard","index":0,"n_rows":105,"n_cols":14,"rows_kept":105,"cut":false,"hidden":false,"merged":[]}
[]
[]
[]
[]
["No.","Name","Team","2025-08-01","2025-09-01","2025-10-01","2025-11-01","2025-12-01","2026-01-01","2026-02-01","2026-03-01","2026-04-01","2026-05-01","Total"]
[1,"Chris Keohan","Nancy's Warriors",{"$f":"HLOOKUP(B6,August!$H$1:$DC$73,73,FALSE)","v":105},{"$f":"HLOOKUP(B6,September!$H$1:$DC$73,73,FALSE)","v":112},{"$f":"HLOOKUP(B6,October!$H$1:$DC$51,51,FALSE)","v":109},{"$f":"HLOOKUP(B6,November!$H$1:$DC$61,61,FALSE)","v":160},{"$f":"HLOOKUP(B6,December!$H$1:$DC$81,81,FALSE)","v":113},null,null,null,null,null,{"$f":"SUM(D6:M6)","v":599}]
[2,"Helen Fadian","Keelwestkats",{"$f":"HLOOKUP(B7,August!$H$1:$DC$73,73,FALSE)","v":105},{"$f":"HLOOKUP(B7,September!$H$1:$DC$73,73,FALSE)","v":99},{"$f":"HLOOKUP(B7,October!$H$1:$DC$51,51,FALSE)","v":106},{"$f":"HLOOKUP(B7,November!$H$1:$DC$61,61,FALSE)","v":141},{"$f":"HLOOKUP(B7,December!$H$1:$DC$81,81,FALSE)","v":121},null,null,null,null,null,{"$f":"SUM(D7:M7)","v":572}]
[3,"Jason Maloney","Time Out Hoops",{"$f":"HLOOKUP(B8,August!$H$1:$DC$73,73,FALSE)","v":108},{"$f":"HLOOKUP(B8,September!$H$1:$DC$73,73,FALSE)","v":104},{"$f":"HLOOKUP(B8,October!$H$1:$DC$51,51,FALSE)","v":108},{"$f":"HLOOKUP(B8,November!$H$1:$DC$61,61,FALSE)","v":138},{"$f":"HLOOKUP(B8,December!$H$1:$DC$81,81,FALSE)","v":113},null,null,null,null,null,{"$f":"SUM(D8:M8)","v":571}]
[4,"Gavin Morgan","FC Lorem Ipsum",{"$f":"HLOOKUP(B9,August!$H$1:$DC$73,73,FALSE)","v":94},{"$f":"HLOOKUP(B9,September!$H$1:$DC$73,73,FALSE)","v":94},{"$f":"HLOOKUP(B9,October!$H$1:$DC$51,51,FALSE)","v":126},{"$f":"HLOOKUP(B9,November!$H$1:$DC$61,61,FALSE)","v":123},{"$f":"HLOOKUP(B9,December!$H$1:$DC$81,81,FALSE)","v":129},null,null,null,null,null,{"$f":"SUM(D9:M9)","v":566}]
[5,"Peter Lavelle","Lavfavs",{"$f":"HLOOKUP(B10,August!$H$1:$DC$73,73,FALSE)","v":103},{"$f":"HLOOKUP(B10,September!$H$1:$DC$73,73,FALSE)","v":94},{"$f":"HLOOKUP(B10,October!$H$1:$DC$51,51,FALSE)","v":133},{"$f":"HLOOKUP(B10,November!$H$1:$DC$61,61,FALSE)","v":128},{"$f":"HLOOKUP(B10,December!$H$1:$DC$81,81,FALSE)","v":103},null,null,null,null,null,{"$f":"SUM(D10:M10)","v":561}]
[6,"Carl Toner","COYI",{"$f":"HLOOKUP(B11,August!$H$1:$DC$73,73,FALSE)","v":90},{"$f":"HLOOKUP(B11,September!$H$1:$DC$73,73,FALSE)","v":99},{"$f":"HLOOKUP(B11,October!$H$1:$DC$51,51,FALSE)","v":106},{"$f":"HLOOKUP(B11,November!$H$1:$DC$61,61,FALSE)","v":148},{"$f":"HLOOKUP(B11,December!$H$1:$DC$81,81,FALSE)","v":113},null,null,null,null,null,{"$f":"SUM(D11:M11)","v":556}]
[7,"Brendan Maguire","Cantthinkofone",{"$f":"HLOOKUP(B12,August!$H$1:$DC$73,73,FALSE)","v":102},{"$f":"HLOOKUP(B12,September!$H$1:$DC$73,73,FALSE)","v":89},{"$f":"HLOOKUP(B12,October!$H$1:$DC$51,51,FALSE)","v":113},{"$f":"HLOOKUP(B12,November!$H$1:$DC$61,61,FALSE)","v":145},{"$f":"HLOOKUP(B12,December!$H$1:$DC$81,81,FALSE)","v":106},null,null,null,null,null,{"$f":"SUM(D12:M12)","v":555}]
[8,"Jim Foley","Ronaldo's A Cod",{"$f":"HLOOKUP(B13,August!$H$1:$DC$73,73,FALSE)","v":82},{"$f":"HLOOKUP(B13,September!$H$1:$DC$73,73,FALSE)","v":99},{"$f":"HLOOKUP(B13,October!$H$1:$DC$51,51,FALSE)","v":103},{"$f":"HLOOKUP(B13,November!$H$1:$DC$61,61,FALSE)","v":170},{"$f":"HLOOKUP(B13,December!$H$1:$DC$81,81,FALSE)","v":101},null,null,null,null,null,{"$f":"SUM(D13:M13)","v":555}]
[9,"Robert Gaffney","Fiorentina Turner",{"$f":"HLOOKUP(B14,August!$H$1:$DC$73,73,FALSE)","v":83},{"$f":"HLOOKUP(B14,September!$H$1:$DC$73,73,FALSE)","v":122},{"$f":"HLOOKUP(B14,October!$H$1:$DC$51,51,FALSE)","v":103},{"$f":"HLOOKUP(B14,November!$H$1:$DC$61,61,FALSE)","v":153},{"$f":"HLOOKUP(B14,December!$H$1:$DC$81,81,FALSE)","v":91},null,null,null,null,null,{"$f":"SUM(D14:M14)","v":552}]
[10,"Tommy Walsh","Toon Army",{"$f":"HLOOKUP(B15,August!$H$1:$DC$73,73,FALSE)","v":102},{"$f":"HLOOKUP(B15,September!$H$1:$DC$73,73,FALSE)","v":89},{"$f":"HLOOKUP(B15,October!$H$1:$DC$51,51,FALSE)","v":103},{"$f":"HLOOKUP(B15,November!$H$1:$DC$61,61,FALSE)","v":143},{"$f":"HLOOKUP(B15,December!$H$1:$DC$81,81,FALSE)","v":114},null,null,null,null,null,{"$f":"SUM(D15:M15)","v":551}]
[11,"Aidan White","The Emery Board",{"$f":"HLOOKUP(B16,August!$H$1:$DC$73,73,FALSE)","v":101},{"$f":"HLOOKUP(B16,September!$H$1:$DC$73,73,FALSE)","v":106},{"$f":"HLOOKUP(B16,October!$H$1:$DC$51,51,FALSE)","v":82},{"$f":"HLOOKUP(B16,November!$H$1:$DC$61,61,FALSE)","v":139},{"$f":"HLOOKUP(B16,December!$H$1:$DC$81,81,FALSE)","v":117},null,null,null,null,null,{"$f":"SUM(D16:M16)","v":545}]
[12,"Keith Nerney","Now I'm A Baleba",{"$f":"HLOOKUP(B17,August!$H$1:$DC$73,73,FALSE)","v":87},{"$f":"HLOOKUP(B17,September!$H$1:$DC$73,73,FALSE)","v":94},{"$f":"HLOOKUP(B17,October!$H$1:$DC$51,51,FALSE)","v":123},{"$f":"HLOOKUP(B17,November!$H$1:$DC$61,61,FALSE)","v":150},{"$f":"HLOOKUP(B17,December!$H$1:$DC$81,81,FALSE)","v":91},null,null,null,null,null,{"$f":"SUM(D17:M17)","v":545}]
[13,"Joseph Kavanagh","CherryOrchardThieves",{"$f":"HLOOKUP(B18,August!$H$1:$DC$73,73,FALSE)","v":110},{"$f":"HLOOKUP(B18,September!$H$1:$DC$73,73,FALSE)","v":82},{"$f":"HLOOKUP(B18,October!$H$1:$DC$51,51,FALSE)","v":91},{"$f":"HLOOKUP(B18,November!$H$1:$DC$61,61,FALSE)","v":153},{"$f":"HLOOKUP(B18,December!$H$1:$DC$81,81,FALSE)","v":106},null,null,null,null,null,{"$f":"SUM(D18:M18)","v":542}]
[14,"Brian Haughton","Poolabu",{"$f":"HLOOKUP(B19,August!$H$1:$DC$73,73,FALSE)","v":92},{"$f":"HLOOKUP(B19,September!$H$1:$DC$73,73,FALSE)","v":124},{"$f":"HLOOKUP(B19,October!$H$1:$DC$51,51,FALSE)","v":93},{"$f":"HLOOKUP(B19,November!$H$1:$DC$61,61,FALSE)","v":128},{"$f":"HLOOKUP(B19,December!$H$1:$DC$81,81,FALSE)","v":104},null,null,null,null,null,{"$f":"SUM(D19:M19)","v":541}]
[15,"Aaron Nealon","Backstreet Moyes",{"$f":"HLOOKUP(B20,August!$H$1:$DC$73,73,FALSE)","v":92},{"$f":"HLOOKUP(B20,September!$H$1:$DC$73,73,FALSE)","v":114},{"$f":"HLOOKUP(B20,October!$H$1:$DC$51,51,FALSE)","v":118},{"$f":"HLOOKUP(B20,November!$H$1:$DC$61,61,FALSE)","v":135},{"$f":"HLOOKUP(B20,December!$H$1:$DC$81,81,FALSE)","v":81},null,null,null,null,null,{"$f":"SUM(D20:M20)","v":540}]
[16,"Darren O'Gorman","Pass n Move",{"$f":"HLOOKUP(B21,August!$H$1:$DC$73,73,FALSE)","v":87},{"$f":"HLOOKUP(B21,September!$H$1:$DC$73,73,FALSE)","v":94},{"$f":"HLOOKUP(B21,October!$H$1:$DC$51,51,FALSE)","v":103},{"$f":"HLOOKUP(B21,November!$H$1:$DC$61,61,FALSE)","v":140},{"$f":"HLOOKUP(B21,December!$H$1:$DC$81,81,FALSE)","v":116},null,null,null,null,null,{"$f":"SUM(D21:M21)","v":540}]
[17,"Monica Collins","Monchester United",{"$f":"HLOOKUP(B22,August!$H$1:$DC$73,73,FALSE)","v":85},{"$f":"HLOOKUP(B22,September!$H$1:$DC$73,73,FALSE)","v":102},{"$f":"HLOOKUP(B22,October!$H$1:$DC$51,51,FALSE)","v":129},{"$f":"HLOOKUP(B22,November!$H$1:$DC$61,61,FALSE)","v":150},{"$f":"HLOOKUP(B22,December!$H$1:$DC$81,81,FALSE)","v":73},null,null,null,null,null,{"$f":"SUM(D22:M22)","v":539}]
[18,"Thomas Nolan","Sons of Pitches",{"$f":"HLOOKUP(B23,August!$H$1:$DC$73,73,FALSE)","v":98},{"$f":"HLOOKUP(B23,September!$H$1:$DC$73,73,FALSE)","v":87},{"$f":"HLOOKUP(B23,October!$H$1:$DC$51,51,FALSE)","v":113},{"$f":"HLOOKUP(B23,November!$H$1:$DC$61,61,FALSE)","v":128},{"$f":"HLOOKUP(B23,December!$H$1:$DC$81,81,FALSE)","v":111},null,null,null,null,null,{"$f":"SUM(D23:M23)","v":537}]
[19,"Graham Pierpoint","Que Salah Salah",{"$f":"HLOOKUP(B24,August!$H$1:$DC$73,73,FALSE)","v":88},{"$f":"HLOOKUP(B24,September!$H$1:$DC$73,73,FALSE)","v":109},{"$f":"HLOOKUP(B24,October!$H$1:$DC$51,51,FALSE)","v":93},{"$f":"HLOOKUP(B24,November!$H$1:$DC$61,61,FALSE)","v":143},{"$f":"HLOOKUP(B24,December!$H$1:$DC$81,81,FALSE)","v":103},null,null,null,null,null,{"$f":"SUM(D24:M24)","v":536}]
[20,"Jonathan Fox","He's A Lad From Portugal, Better Than Figo Don’t You Know",{"$f":"HLOOKUP(B25,August!$H$1:$DC$73,73,FALSE)","v":97},{"$f":"HLOOKUP(B25,September!$H$1:$DC$73,73,FALSE)","v":94},{"$f":"HLOOKUP(B25,October!$H$1:$DC$51,51,FALSE)","v":103},{"$f":"HLOOKUP(B25,November!$H$1:$DC$61,61,FALSE)","v":145},{"$f":"HLOOKUP(B25,December!$H$1:$DC$81,81,FALSE)","v":96},null,null,null,null,null,{"$f":"SUM(D25:M25)","v":535}]
[21,"Con McSweeney","Queer-Hawks",{"$f":"HLOOKUP(B26,August!$H$1:$DC$73,73,FALSE)","v":87},{"$f":"HLOOKUP(B26,September!$H$1:$DC$73,73,FALSE)","v":99},{"$f":"HLOOKUP(B26,October!$H$1:$DC$51,51,FALSE)","v":113},{"$f":"HLOOKUP(B26,November!$H$1:$DC$61,61,FALSE)","v":145},{"$f":"HLOOKUP(B26,December!$H$1:$DC$81,81,FALSE)","v":86},null,null,null,null,null,{"$f":"SUM(D26:M26)","v":530}]
[22,"Dave McGinley","Reservoir Dubs",{"$f":"HLOOKUP(B27,August!$H$1:$DC$73,73,FALSE)","v":77},{"$f":"HLOOKUP(B27,September!$H$1:$DC$73,73,FALSE)","v":129},{"$f":"HLOOKUP(B27,October!$H$1:$DC$51,51,FALSE)","v":108},{"$f":"HLOOKUP(B27,November!$H$1:$DC$61,61,FALSE)","v":125},{"$f":"HLOOKUP(B27,December!$H$1:$DC$81,81,FALSE)","v":91},null,null,null,null,null,{"$f":"SUM(D27:M27)","v":530}]
[23,"Roisin Joyce","Joyce's Choices",{"$f":"HLOOKUP(B28,August!$H$1:$DC$73,73,FALSE)","v":78},{"$f":"HLOOKUP(B28,September!$H$1:$DC$73,73,FALSE)","v":117},{"$f":"HLOOKUP(B28,October!$H$1:$DC$51,51,FALSE)","v":122},{"$f":"HLOOKUP(B28,November!$H$1:$DC$61,61,FALSE)","v":123},{"$f":"HLOOKUP(B28,December!$H$1:$DC$81,81,FALSE)","v":90},null,null,null,null,null,{"$f":"SUM(D28:M28)","v":530}]
[24,"Anastas Popov","Golden State Saints",{"$f":"HLOOKUP(B29,August!$H$1:$DC$73,73,FALSE)","v":88},{"$f":"HLOOKUP(B29,September!$H$1:$DC$73,73,FALSE)","v":84},{"$f":"HLOOKUP(B29,October!$H$1:$DC$51,51,FALSE)","v":108},{"$f":"HLOOKUP(B29,November!$H$1:$DC$61,61,FALSE)","v":133},{"$f":"HLOOKUP(B29,December!$H$1:$DC$81,81,FALSE)","v":113},null,null,null,null,null,{"$f":"SUM(D29:M29)","v":526}]
[25,"Caroline Carroll","Glenview",{"$f":"HLOOKUP(B30,August!$H$1:$DC$73,73,FALSE)","v":88},{"$f":"HLOOKUP(B30,September!$H$1:$DC$73,73,FALSE)","v":104},{"$f":"HLOOKUP(B30,October!$H$1:$DC$51,51,FALSE)","v":103},{"$f":"HLOOKUP(B30,November!$H$1:$DC$61,61,FALSE)","v":143},{"$f":"HLOOKUP(B30,December!$H$1:$DC$81,81,FALSE)","v":88},null,null,null,null,null,{"$f":"SUM(D30:M30)","v":526}]
[26,"Christina Morgan","I'll Try 2-1 Again This Year",{"$f":"HLOOKUP(B31,August!$H$1:$DC$73,73,FALSE)","v":97},{"$f":"HLOOKUP(B31,September!$H$1:$DC$73,73,FALSE)","v":94},{"$f":"HLOOKUP(B31,October!$H$1:$DC$51,51,FALSE)","v":128},{"$f":"HLOOKUP(B31,November!$H$1:$DC$61,61,FALSE)","v":123},{"$f":"HLOOKUP(B31,December!$H$1:$DC$81,81,FALSE)","v":84},null,null,null,null,null,{"$f":"SUM(D31:M31)","v":526}]
[27,"Frank McSweeney","Poolabu 1",{"$f":"HLOOKUP(B32,August!$H$1:$DC$73,73,FALSE)","v":77},{"$f":"HLOOKUP(B32,September!$H$1:$DC$73,73,FALSE)","v":99},{"$f":"HLOOKUP(B32,October!$H$1:$DC$51,51,FALSE)","v":108},{"$f":"HLOOKUP(B32,November!$H$1:$DC$61,61,FALSE)","v":140},{"$f":"HLOOKUP(B32,December!$H$1:$DC$81,81,FALSE)","v":101},null,null,null,null,null,{"$f":"SUM(D32:M32)","v":525}]
[28,"Joseph Leppla","Play Jaya Frimpong",{"$f":"HLOOKUP(B33,August!$H$1:$DC$73,73,FALSE)","v":77},{"$f":"HLOOKUP(B33,September!$H$1:$DC$73,73,FALSE)","v":114},{"$f":"HLOOKUP(B33,October!$H$1:$DC$51,51,FALSE)","v":108},{"$f":"HLOOKUP(B33,November!$H$1:$DC$61,61,FALSE)","v":135},{"$f":"HLOOKUP(B33,December!$H$1:$DC$81,81,FALSE)","v":91},null,null,null,null,null,{"$f":"SUM(D33:M33)","v":525}]
[29,"Craig Calvert","Cunha Win A Few Games United?",{"$f":"HLOOKUP(B34,August!$H$1:$DC$73,73,FALSE)","v":95},{"$f":"HLOOKUP(B34,September!$H$1:$DC$73,73,FALSE)","v":87},{"$f":"HLOOKUP(B34,October!$H$1:$DC$51,51,FALSE)","v":104},{"$f":"HLOOKUP(B34,November!$H$1:$DC$61,61,FALSE)","v":115},{"$f":"HLOOKUP(B34,December!$H$1:$DC$81,81,FALSE)","v":123},null,null,null,null,null,{"$f":"SUM(D34:M34)","v":524}]
[30,"Brian Mullen","Are They My Feet?",{"$f":"HLOOKUP(B35,August!$H$1:$DC$73,73,FALSE)","v":73},{"$f":"HLOOKUP(B35,September!$H$1:$DC$73,73,FALSE)","v":92},{"$f":"HLOOKUP(B35,October!$H$1:$DC$51,51,FALSE)","v":118},{"$f":"HLOOKUP(B35,November!$H$1:$DC$61,61,FALSE)","v":128},{"$f":"HLOOKUP(B35,December!$H$1:$DC$81,81,FALSE)","v":111},null,null,null,null,null,{"$f":"SUM(D35:M35)","v":522}]
[31,"Joe Turner","The Coutinho Money",{"$f":"HLOOKUP(B36,August!$H$1:$DC$73,73,FALSE)","v":89},{"$f":"HLOOKUP(B36,September!$H$1:$DC$73,73,FALSE)","v":106},{"$f":"HLOOKUP(B36,October!$H$1:$DC$51,51,FALSE)","v":113},{"$f":"HLOOKUP(B36,November!$H$1:$DC$61,61,FALSE)","v":126},{"$f":"HLOOKUP(B36,December!$H$1:$DC$81,81,FALSE)","v":87},null,null,null,null,null,{"$f":"SUM(D36:M36)","v":521}]
[32,"Richard Johnston","Oumuamua FC",{"$f":"HLOOKUP(B37,August!$H$1:$DC$73,73,FALSE)","v":107},{"$f":"HLOOKUP(B37,September!$H$1:$DC$73,73,FALSE)","v":104},{"$f":"HLOOKUP(B37,October!$H$1:$DC$51,51,FALSE)","v":113},{"$f":"HLOOKUP(B37,November!$H$1:$DC$61,61,FALSE)","v":130},{"$f":"HLOOKUP(B37,December!$H$1:$DC$81,81,FALSE)","v":66},null,null,null,null,null,{"$f":"SUM(D37:M37)","v":520}]
[33,"Bobby Hynes","Born To Run",{"$f":"HLOOKUP(B38,August!$H$1:$DC$73,73,FALSE)","v":103},{"$f":"HLOOKUP(B38,September!$H$1:$DC$73,73,FALSE)","v":92},{"$f":"HLOOKUP(B38,October!$H$1:$DC$51,51,FALSE)","v":113},{"$f":"HLOOKUP(B38,November!$H$1:$DC$61,61,FALSE)","v":143},{"$f":"HLOOKUP(B38,December!$H$1:$DC$81,81,FALSE)","v":66},null,null,null,null,null,{"$f":"SUM(D38:M38)","v":517}]
[34,"Eoghan Farrelly","Maybe This Year",{"$f":"HLOOKUP(B39,August!$H$1:$DC$73,73,FALSE)","v":93},{"$f":"HLOOKUP(B39,September!$H$1:$DC$73,73,FALSE)","v":87},{"$f":"HLOOKUP(B39,October!$H$1:$DC$51,51,FALSE)","v":103},{"$f":"HLOOKUP(B39,November!$H$1:$DC$61,61,FALSE)","v":123},{"$f":"HLOOKUP(B39,December!$H$1:$DC$81,81,FALSE)","v":111},null,null,null,null,null,{"$f":"SUM(D39:M39)","v":517}]
[35,"Craig Whelan","Saints",{"$f":"HLOOKUP(B40,August!$H$1:$DC$73,73,FALSE)","v":106},{"$f":"HLOOKUP(B40,September!$H$1:$DC$73,73,FALSE)","v":94},{"$f":"HLOOKUP(B40,October!$H$1:$DC$51,51,FALSE)","v":127},{"$f":"HLOOKUP(B40,November!$H$1:$DC$61,61,FALSE)","v":89},{"$f":"HLOOKUP(B40,December!$H$1:$DC$81,81,FALSE)","v":100},null,null,null,null,null,{"$f":"SUM(D40:M40)","v":516}]
[36,"Liam Keohan","Stranger Wings",{"$f":"HLOOKUP(B41,August!$H$1:$DC$73,73,FALSE)","v":70},{"$f":"HLOOKUP(B41,September!$H$1:$DC$73,73,FALSE)","v":96},{"$f":"HLOOKUP(B41,October!$H$1:$DC$51,51,FALSE)","v":111},{"$f":"HLOOKUP(B41,November!$H$1:$DC$61,61,FALSE)","v":141},{"$f":"HLOOKUP(B41,December!$H$1:$DC$81,81,FALSE)","v":98},null,null,null,null,null,{"$f":"SUM(D41:M41)","v":516}]
[37,"Eamonn Gallagher","Gally's Prem Hoops",{"$f":"HLOOKUP(B42,August!$H$1:$DC$73,73,FALSE)","v":98},{"$f":"HLOOKUP(B42,September!$H$1:$DC$73,73,FALSE)","v":82},{"$f":"HLOOKUP(B42,October!$H$1:$DC$51,51,FALSE)","v":103},{"$f":"HLOOKUP(B42,November!$H$1:$DC$61,61,FALSE)","v":143},{"$f":"HLOOKUP(B42,December!$H$1:$DC$81,81,FALSE)","v":86},null,null,null,null,null,{"$f":"SUM(D42:M42)","v":512}]
[38,"Paul Moore","Wirtz The Story, Morning Glory",{"$f":"HLOOKUP(B43,August!$H$1:$DC$73,73,FALSE)","v":98},{"$f":"HLOOKUP(B43,September!$H$1:$DC$73,73,FALSE)","v":117},{"$f":"HLOOKUP(B43,October!$H$1:$DC$51,51,FALSE)","v":113},{"$f":"HLOOKUP(B43,November!$H$1:$DC$61,61,FALSE)","v":98},{"$f":"HLOOKUP(B43,December!$H$1:$DC$81,81,FALSE)","v":86},null,null,null,null,null,{"$f":"SUM(D43:M43)","v":512}]
[39,"Sean O'Mairtin","Creweless",{"$f":"HLOOKUP(B44,August!$H$1:$DC$73,73,FALSE)","v":75},{"$f":"HLOOKUP(B44,September!$H$1:$DC$73,73,FALSE)","v":109},{"$f":"HLOOKUP(B44,October!$H$1:$DC$51,51,FALSE)","v":94},{"$f":"HLOOKUP(B44,November!$H$1:$DC$61,61,FALSE)","v":147},{"$f":"HLOOKUP(B44,December!$H$1:$DC$81,81,FALSE)","v":86},null,null,null,null,null,{"$f":"SUM(D44:M44)","v":511}]
[40,"Kev Dalton","Don't Know Why I Bother!",{"$f":"HLOOKUP(B45,August!$H$1:$DC$73,73,FALSE)","v":87},{"$f":"HLOOKUP(B45,September!$H$1:$DC$73,73,FALSE)","v":79},{"$f":"HLOOKUP(B45,October!$H$1:$DC$51,51,FALSE)","v":118},{"$f":"HLOOKUP(B45,November!$H$1:$DC$61,61,FALSE)","v":135},{"$f":"HLOOKUP(B45,December!$H$1:$DC$81,81,FALSE)","v":91},null,null,null,null,null,{"$f":"SUM(D45:M45)","v":510}]
[41,"John Cafferkey","Beach Boys",{"$f":"HLOOKUP(B46,August!$H$1:$DC$73,73,FALSE)","v":93},{"$f":"HLOOKUP(B46,September!$H$1:$DC$73,73,FALSE)","v":82},{"$f":"HLOOKUP(B46,October!$H$1:$DC$51,51,FALSE)","v":108},{"$f":"HLOOKUP(B46,November!$H$1:$DC$61,61,FALSE)","v":148},{"$f":"HLOOKUP(B46,December!$H$1:$DC$81,81,FALSE)","v":76},null,null,null,null,null,{"$f":"SUM(D46:M46)","v":507}]
[42,"Brian Hearne","Team Phoenix",{"$f":"HLOOKUP(B47,August!$H$1:$DC$73,73,FALSE)","v":102},{"$f":"HLOOKUP(B47,September!$H$1:$DC$73,73,FALSE)","v":72},{"$f":"HLOOKUP(B47,October!$H$1:$DC$51,51,FALSE)","v":128},{"$f":"HLOOKUP(B47,November!$H$1:$DC$61,61,FALSE)","v":118},{"$f":"HLOOKUP(B47,December!$H$1:$DC$81,81,FALSE)","v":86},null,null,null,null,null,{"$f":"SUM(D47:M47)","v":506}]
[43,"Johno Percy","Moves Like Agger",{"$f":"HLOOKUP(B48,August!$H$1:$DC$73,73,FALSE)","v":78},{"$f":"HLOOKUP(B48,September!$H$1:$DC$73,73,FALSE)","v":109},{"$f":"HLOOKUP(B48,October!$H$1:$DC$51,51,FALSE)","v":128},{"$f":"HLOOKUP(B48,November!$H$1:$DC$61,61,FALSE)","v":108},{"$f":"HLOOKUP(B48,December!$H$1:$DC$81,81,FALSE)","v":83},null,null,null,null,null,{"$f":"SUM(D48:M48)","v":506}]
[44,"Gareth Pierpoint","Wirtz A Fortune",{"$f":"HLOOKUP(B49,August!$H$1:$DC$73,73,FALSE)","v":97},{"$f":"HLOOKUP(B49,September!$H$1:$DC$73,73,FALSE)","v":79},{"$f":"HLOOKUP(B49,October!$H$1:$DC$51,51,FALSE)","v":88},{"$f":"HLOOKUP(B49,November!$H$1:$DC$61,61,FALSE)","v":150},{"$f":"HLOOKUP(B49,December!$H$1:$DC$81,81,FALSE)","v":91},null,null,null,null,null,{"$f":"SUM(D49:M49)","v":505}]
[45,"Tommy Hamill","Omeath All-Stars",{"$f":"HLOOKUP(B50,August!$H$1:$DC$73,73,FALSE)","v":97},{"$f":"HLOOKUP(B50,September!$H$1:$DC$73,73,FALSE)","v":89},{"$f":"HLOOKUP(B50,October!$H$1:$DC$51,51,FALSE)","v":113},{"$f":"HLOOKUP(B50,November!$H$1:$DC$61,61,FALSE)","v":120},{"$f":"HLOOKUP(B50,December!$H$1:$DC$81,81,FALSE)","v":86},null,null,null,null,null,{"$f":"SUM(D50:M50)","v":505}]
[46,"Andy Dunne","Escape To Victory FC",{"$f":"HLOOKUP(B51,August!$H$1:$DC$73,73,FALSE)","v":73},{"$f":"HLOOKUP(B51,September!$H$1:$DC$73,73,FALSE)","v":92},{"$f":"HLOOKUP(B51,October!$H$1:$DC$51,51,FALSE)","v":113},{"$f":"HLOOKUP(B51,November!$H$1:$DC$61,61,FALSE)","v":133},{"$f":"HLOOKUP(B51,December!$H$1:$DC$81,81,FALSE)","v":91},null,null,null,null,null,{"$f":"SUM(D51:M51)","v":502}]
[47,"Paul Prendergast","The Untouchables",{"$f":"HLOOKUP(B52,August!$H$1:$DC$73,73,FALSE)","v":73},{"$f":"HLOOKUP(B52,September!$H$1:$DC$73,73,FALSE)","v":92},{"$f":"HLOOKUP(B52,October!$H$1:$DC$51,51,FALSE)","v":113},{"$f":"HLOOKUP(B52,November!$H$1:$DC$61,61,FALSE)","v":148},{"$f":"HLOOKUP(B52,December!$H$1:$DC$81,81,FALSE)","v":76},null,null,null,null,null,{"$f":"SUM(D52:M52)","v":502}]
[48,"Sean Cafferkey","Yoryies",{"$f":"HLOOKUP(B53,August!$H$1:$DC$73,73,FALSE)","v":73},{"$f":"HLOOKUP(B53,September!$H$1:$DC$73,73,FALSE)","v":77},{"$f":"HLOOKUP(B53,October!$H$1:$DC$51,51,FALSE)","v":113},{"$f":"HLOOKUP(B53,November!$H$1:$DC$61,61,FALSE)","v":168},{"$f":"HLOOKUP(B53,December!$H$1:$DC$81,81,FALSE)","v":71},null,null,null,null,null,{"$f":"SUM(D53:M53)","v":502}]
[49,"Greg Donaghy","Champagne Super Rovers",{"$f":"HLOOKUP(B54,August!$H$1:$DC$73,73,FALSE)","v":97},{"$f":"HLOOKUP(B54,September!$H$1:$DC$73,73,FALSE)","v":94},{"$f":"HLOOKUP(B54,October!$H$1:$DC$51,51,FALSE)","v":103},{"$f":"HLOOKUP(B54,November!$H$1:$DC$61,61,FALSE)","v":130},{"$f":"HLOOKUP(B54,December!$H$1:$DC$81,81,FALSE)","v":76},null,null,null,null,null,{"$f":"SUM(D54:M54)","v":500}]
[50,"Gary Fitzpatrick","Can't Get Any Wirtz",{"$f":"HLOOKUP(B55,August!$H$1:$DC$73,73,FALSE)","v":71},{"$f":"HLOOKUP(B55,September!$H$1:$DC$73,73,FALSE)","v":79},{"$f":"HLOOKUP(B55,October!$H$1:$DC$51,51,FALSE)","v":97},{"$f":"HLOOKUP(B55,November!$H$1:$DC$61,61,FALSE)","v":154},{"$f":"HLOOKUP(B55,December!$H$1:$DC$81,81,FALSE)","v":95},null,null,null,null,null,{"$f":"SUM(D55:M55)","v":496}]
[51,"Lionel Knott","Knott's Landing",{"$f":"HLOOKUP(B56,August!$H$1:$DC$73,73,FALSE)","v":72},{"$f":"HLOOKUP(B56,September!$H$1:$DC$73,73,FALSE)","v":104},{"$f":"HLOOKUP(B56,October!$H$1:$DC$51,51,FALSE)","v":118},{"$f":"HLOOKUP(B56,November!$H$1:$DC$61,61,FALSE)","v":128},{"$f":"HLOOKUP(B56,December!$H$1:$DC$81,81,FALSE)","v":74},null,null,null,null,null,{"$f":"SUM(D56:M56)","v":496}]
[52,"Darragh Kenny","Tony Fitz",{"$f":"HLOOKUP(B57,August!$H$1:$DC$73,73,FALSE)","v":101},{"$f":"HLOOKUP(B57,September!$H$1:$DC$73,73,FALSE)","v":86},{"$f":"HLOOKUP(B57,October!$H$1:$DC$51,51,FALSE)","v":87},{"$f":"HLOOKUP(B57,November!$H$1:$DC$61,61,FALSE)","v":139},{"$f":"HLOOKUP(B57,December!$H$1:$DC$81,81,FALSE)","v":82},null,null,null,null,null,{"$f":"SUM(D57:M57)","v":495}]
[53,"Robert Foley","Alisson Wonderland",{"$f":"HLOOKUP(B58,August!$H$1:$DC$73,73,FALSE)","v":106},{"$f":"HLOOKUP(B58,September!$H$1:$DC$73,73,FALSE)","v":86},{"$f":"HLOOKUP(B58,October!$H$1:$DC$51,51,FALSE)","v":102},{"$f":"HLOOKUP(B58,November!$H$1:$DC$61,61,FALSE)","v":114},{"$f":"HLOOKUP(B58,December!$H$1:$DC$81,81,FALSE)","v":87},null,null,null,null,null,{"$f":"SUM(D58:M58)","v":495}]
[54,"Sean Cleary","Sean's Stars",{"$f":"HLOOKUP(B59,August!$H$1:$DC$73,73,FALSE)","v":62},{"$f":"HLOOKUP(B59,September!$H$1:$DC$73,73,FALSE)","v":99},{"$f":"HLOOKUP(B59,October!$H$1:$DC$51,51,FALSE)","v":128},{"$f":"HLOOKUP(B59,November!$H$1:$DC$61,61,FALSE)","v":115},{"$f":"HLOOKUP(B59,December!$H$1:$DC$81,81,FALSE)","v":91},null,null,null,null,null,{"$f":"SUM(D59:M59)","v":495}]
[55,"Alain Verjans","TheCoysAreBackInTown",{"$f":"HLOOKUP(B60,August!$H$1:$DC$73,73,FALSE)","v":81},{"$f":"HLOOKUP(B60,September!$H$1:$DC$73,73,FALSE)","v":132},{"$f":"HLOOKUP(B60,October!$H$1:$DC$51,51,FALSE)","v":81},{"$f":"HLOOKUP(B60,November!$H$1:$DC$61,61,FALSE)","v":121},{"$f":"HLOOKUP(B60,December!$H$1:$DC$81,81,FALSE)","v":78},null,null,null,null,null,{"$f":"SUM(D60:M60)","v":493}]
[56,"Daniel Dorrian","Donegallad97",{"$f":"HLOOKUP(B61,August!$H$1:$DC$73,73,FALSE)","v":72},{"$f":"HLOOKUP(B61,September!$H$1:$DC$73,73,FALSE)","v":84},{"$f":"HLOOKUP(B61,October!$H$1:$DC$51,51,FALSE)","v":112},{"$f":"HLOOKUP(B61,November!$H$1:$DC$61,61,FALSE)","v":127},{"$f":"HLOOKUP(B61,December!$H$1:$DC$81,81,FALSE)","v":94},null,null,null,null,null,{"$f":"SUM(D61:M61)","v":489}]
[57,"Kevin Lawless","Delays FC",{"$f":"HLOOKUP(B62,August!$H$1:$DC$73,73,FALSE)","v":88},{"$f":"HLOOKUP(B62,September!$H$1:$DC$73,73,FALSE)","v":92},{"$f":"HLOOKUP(B62,October!$H$1:$DC$51,51,FALSE)","v":105},{"$f":"HLOOKUP(B62,November!$H$1:$DC$61,61,FALSE)","v":108},{"$f":"HLOOKUP(B62,December!$H$1:$DC$81,81,FALSE)","v":96},null,null,null,null,null,{"$f":"SUM(D62:M62)","v":489}]
[58,"Philip Jordan","Frankie's Army",{"$f":"HLOOKUP(B63,August!$H$1:$DC$73,73,FALSE)","v":71},{"$f":"HLOOKUP(B63,September!$H$1:$DC$73,73,FALSE)","v":64},{"$f":"HLOOKUP(B63,October!$H$1:$DC$51,51,FALSE)","v":101},{"$f":"HLOOKUP(B63,November!$H$1:$DC$61,61,FALSE)","v":144},{"$f":"HLOOKUP(B63,December!$H$1:$DC$81,81,FALSE)","v":108},null,null,null,null,null,{"$f":"SUM(D63:M63)","v":488}]
[59,"Paul Foley","Foley's Sublime 11",{"$f":"HLOOKUP(B64,August!$H$1:$DC$73,73,FALSE)","v":83},{"$f":"HLOOKUP(B64,September!$H$1:$DC$73,73,FALSE)","v":92},{"$f":"HLOOKUP(B64,October!$H$1:$DC$51,51,FALSE)","v":78},{"$f":"HLOOKUP(B64,November!$H$1:$DC$61,61,FALSE)","v":138},{"$f":"HLOOKUP(B64,December!$H$1:$DC$81,81,FALSE)","v":96},null,null,null,null,null,{"$f":"SUM(D64:M64)","v":487}]
[60,"Kieran Killeen","Olde Gold Gloom",{"$f":"HLOOKUP(B65,August!$H$1:$DC$73,73,FALSE)","v":99},{"$f":"HLOOKUP(B65,September!$H$1:$DC$73,73,FALSE)","v":109},{"$f":"HLOOKUP(B65,October!$H$1:$DC$51,51,FALSE)","v":85},{"$f":"HLOOKUP(B65,November!$H$1:$DC$61,61,FALSE)","v":100},{"$f":"HLOOKUP(B65,December!$H$1:$DC$81,81,FALSE)","v":91},null,null,null,null,null,{"$f":"SUM(D65:M65)","v":484}]
[61,"Keith Ryan","Cunha Please Hurry Up",{"$f":"HLOOKUP(B66,August!$H$1:$DC$73,73,FALSE)","v":78},{"$f":"HLOOKUP(B66,September!$H$1:$DC$73,73,FALSE)","v":94},{"$f":"HLOOKUP(B66,October!$H$1:$DC$51,51,FALSE)","v":93},{"$f":"HLOOKUP(B66,November!$H$1:$DC$61,61,FALSE)","v":108},{"$f":"HLOOKUP(B66,December!$H$1:$DC$81,81,FALSE)","v":108},null,null,null,null,null,{"$f":"SUM(D66:M66)","v":481}]
[62,"Derek McDonald","United We Stand",{"$f":"HLOOKUP(B67,August!$H$1:$DC$73,73,FALSE)","v":57},{"$f":"HLOOKUP(B67,September!$H$1:$DC$73,73,FALSE)","v":67},{"$f":"HLOOKUP(B67,October!$H$1:$DC$51,51,FALSE)","v":112},{"$f":"HLOOKUP(B67,November!$H$1:$DC$61,61,FALSE)","v":138},{"$f":"HLOOKUP(B67,December!$H$1:$DC$81,81,FALSE)","v":106},null,null,null,null,null,{"$f":"SUM(D67:M67)","v":480}]
[63,"Javier Suarez","Loseronius FC",{"$f":"HLOOKUP(B68,August!$H$1:$DC$73,73,FALSE)","v":83},{"$f":"HLOOKUP(B68,September!$H$1:$DC$73,73,FALSE)","v":67},{"$f":"HLOOKUP(B68,October!$H$1:$DC$51,51,FALSE)","v":93},{"$f":"HLOOKUP(B68,November!$H$1:$DC$61,61,FALSE)","v":153},{"$f":"HLOOKUP(B68,December!$H$1:$DC$81,81,FALSE)","v":81},null,null,null,null,null,{"$f":"SUM(D68:M68)","v":477}]
[64,"David Cooney","London Is Blue",{"$f":"HLOOKUP(B69,August!$H$1:$DC$73,73,FALSE)","v":85},{"$f":"HLOOKUP(B69,September!$H$1:$DC$73,73,FALSE)","v":119},{"$f":"HLOOKUP(B69,October!$H$1:$DC$51,51,FALSE)","v":91},{"$f":"HLOOKUP(B69,November!$H$1:$DC$61,61,FALSE)","v":103},{"$f":"HLOOKUP(B69,December!$H$1:$DC$81,81,FALSE)","v":78},null,null,null,null,null,{"$f":"SUM(D69:M69)","v":476}]
[65,"Eamon Fox","Deus Ex Machina",{"$f":"HLOOKUP(B70,August!$H$1:$DC$73,73,FALSE)","v":92},{"$f":"HLOOKUP(B70,September!$H$1:$DC$73,73,FALSE)","v":79},{"$f":"HLOOKUP(B70,October!$H$1:$DC$51,51,FALSE)","v":83},{"$f":"HLOOKUP(B70,November!$H$1:$DC$61,61,FALSE)","v":125},{"$f":"HLOOKUP(B70,December!$H$1:$DC$81,81,FALSE)","v":96},null,null,null,null,null,{"$f":"SUM(D70:M70)","v":475}]
[66,"Kevin Nolan","Frimpong Frimpong",{"$f":"HLOOKUP(B71,August!$H$1:$DC$73,73,FALSE)","v":77},{"$f":"HLOOKUP(B71,September!$H$1:$DC$73,73,FALSE)","v":84},{"$f":"HLOOKUP(B71,October!$H$1:$DC$51,51,FALSE)","v":103},{"$f":"HLOOKUP(B71,November!$H$1:$DC$61,61,FALSE)","v":130},{"$f":"HLOOKUP(B71,December!$H$1:$DC$81,81,FALSE)","v":81},null,null,null,null,null,{"$f":"SUM(D71:M71)","v":475}]
[67,"Dylan O'Riordan","Friday Night Slots",{"$f":"HLOOKUP(B72,August!$H$1:$DC$73,73,FALSE)","v":78},{"$f":"HLOOKUP(B72,September!$H$1:$DC$73,73,FALSE)","v":77},{"$f":"HLOOKUP(B72,October!$H$1:$DC$51,51,FALSE)","v":108},{"$f":"HLOOKUP(B72,November!$H$1:$DC$61,61,FALSE)","v":138},{"$f":"HLOOKUP(B72,December!$H$1:$DC$81,81,FALSE)","v":71},null,null,null,null,null,{"$f":"SUM(D72:M72)","v":472}]
[68,"Micheal Joyce","Whiter Shade Of Pale",{"$f":"HLOOKUP(B73,August!$H$1:$DC$73,73,FALSE)","v":73},{"$f":"HLOOKUP(B73,September!$H$1:$DC$73,73,FALSE)","v":94},{"$f":"HLOOKUP(B73,October!$H$1:$DC$51,51,FALSE)","v":98},{"$f":"HLOOKUP(B73,November!$H$1:$DC$61,61,FALSE)","v":98},{"$f":"HLOOKUP(B73,December!$H$1:$DC$81,81,FALSE)","v":103},null,null,null,null,null,{"$f":"SUM(D73:M73)","v":466}]
[69,"Realtin Dunne","Little Stars FC",{"$f":"HLOOKUP(B74,August!$H$1:$DC$73,73,FALSE)","v":63},{"$f":"HLOOKUP(B74,September!$H$1:$DC$73,73,FALSE)","v":94},{"$f":"HLOOKUP(B74,October!$H$1:$DC$51,51,FALSE)","v":93},{"$f":"HLOOKUP(B74,November!$H$1:$DC$61,61,FALSE)","v":123},{"$f":"HLOOKUP(B74,December!$H$1:$DC$81,81,FALSE)","v":90},null,null,null,null,null,{"$f":"SUM(D74:M74)","v":463}]
[70,"Finbarr Corkery","Firies FC",{"$f":"HLOOKUP(B75,August!$H$1:$DC$73,73,FALSE)","v":93},{"$f":"HLOOKUP(B75,September!$H$1:$DC$73,73,FALSE)","v":97},{"$f":"HLOOKUP(B75,October!$H$1:$DC$51,51,FALSE)","v":103},{"$f":"HLOOKUP(B75,November!$H$1:$DC$61,61,FALSE)","v":88},{"$f":"HLOOKUP(B75,December!$H$1:$DC$81,81,FALSE)","v":81},null,null,null,null,null,{"$f":"SUM(D75:M75)","v":462}]
[71,"David Doyle","Ekitike Max",{"$f":"HLOOKUP(B76,August!$H$1:$DC$73,73,FALSE)","v":90},{"$f":"HLOOKUP(B76,September!$H$1:$DC$73,73,FALSE)","v":96},{"$f":"HLOOKUP(B76,October!$H$1:$DC$51,51,FALSE)","v":107},{"$f":"HLOOKUP(B76,November!$H$1:$DC$61,61,FALSE)","v":124},{"$f":"HLOOKUP(B76,December!$H$1:$DC$81,81,FALSE)","v":43},null,null,null,null,null,{"$f":"SUM(D76:M76)","v":460}]
[72,"Shane Horan","Welsh Xavi",{"$f":"HLOOKUP(B77,August!$H$1:$DC$73,73,FALSE)","v":77},{"$f":"HLOOKUP(B77,September!$H$1:$DC$73,73,FALSE)","v":94},{"$f":"HLOOKUP(B77,October!$H$1:$DC$51,51,FALSE)","v":68},{"$f":"HLOOKUP(B77,November!$H$1:$DC$61,61,FALSE)","v":135},{"$f":"HLOOKUP(B77,December!$H$1:$DC$81,81,FALSE)","v":86},null,null,null,null,null,{"$f":"SUM(D77:M77)","v":460}]
[73,"Gerry Draper","Everton10",{"$f":"HLOOKUP(B78,August!$H$1:$DC$73,73,FALSE)","v":68},{"$f":"HLOOKUP(B78,September!$H$1:$DC$73,73,FALSE)","v":79},{"$f":"HLOOKUP(B78,October!$H$1:$DC$51,51,FALSE)","v":98},{"$f":"HLOOKUP(B78,November!$H$1:$DC$61,61,FALSE)","v":133},{"$f":"HLOOKUP(B78,December!$H$1:$DC$81,81,FALSE)","v":78},null,null,null,null,null,{"$f":"SUM(D78:M78)","v":456}]
[74,"Billy McGinley","Seagulls Flying High",{"$f":"HLOOKUP(B79,August!$H$1:$DC$73,73,FALSE)","v":86},{"$f":"HLOOKUP(B79,September!$H$1:$DC$73,73,FALSE)","v":81},{"$f":"HLOOKUP(B79,October!$H$1:$DC$51,51,FALSE)","v":62},{"$f":"HLOOKUP(B79,November!$H$1:$DC$61,61,FALSE)","v":149},{"$f":"HLOOKUP(B79,December!$H$1:$DC$81,81,FALSE)","v":77},null,null,null,null,null,{"$f":"SUM(D79:M79)","v":455}]
[75,"Gary Donnelly","Drop It Like It's Slot",{"$f":"HLOOKUP(B80,August!$H$1:$DC$73,73,FALSE)","v":104},{"$f":"HLOOKUP(B80,September!$H$1:$DC$73,73,FALSE)","v":64},{"$f":"HLOOKUP(B80,October!$H$1:$DC$51,51,FALSE)","v":90},{"$f":"HLOOKUP(B80,November!$H$1:$DC$61,61,FALSE)","v":110},{"$f":"HLOOKUP(B80,December!$H$1:$DC$81,81,FALSE)","v":85},null,null,null,null,null,{"$f":"SUM(D80:M80)","v":453}]
[76,"Aidan Scanlon","St Pats",{"$f":"HLOOKUP(B81,August!$H$1:$DC$73,73,FALSE)","v":70},{"$f":"HLOOKUP(B81,September!$H$1:$DC$73,73,FALSE)","v":77},{"$f":"HLOOKUP(B81,October!$H$1:$DC$51,51,FALSE)","v":101},{"$f":"HLOOKUP(B81,November!$H$1:$DC$61,61,FALSE)","v":113},{"$f":"HLOOKUP(B81,December!$H$1:$DC$81,81,FALSE)","v":91},null,null,null,null,null,{"$f":"SUM(D81:M81)","v":452}]
[77,"Jack Draper","Always Losing",{"$f":"HLOOKUP(B82,August!$H$1:$DC$73,73,FALSE)","v":68},{"$f":"HLOOKUP(B82,September!$H$1:$DC$73,73,FALSE)","v":62},{"$f":"HLOOKUP(B82,October!$H$1:$DC$51,51,FALSE)","v":113},{"$f":"HLOOKUP(B82,November!$H$1:$DC$61,61,FALSE)","v":103},{"$f":"HLOOKUP(B82,December!$H$1:$DC$81,81,FALSE)","v":106},null,null,null,null,null,{"$f":"SUM(D82:M82)","v":452}]
[78,"Niall Carroll","Yellow Bellies",{"$f":"HLOOKUP(B83,August!$H$1:$DC$73,73,FALSE)","v":72},{"$f":"HLOOKUP(B83,September!$H$1:$DC$73,73,FALSE)","v":69},{"$f":"HLOOKUP(B83,October!$H$1:$DC$51,51,FALSE)","v":107},{"$f":"HLOOKUP(B83,November!$H$1:$DC$61,61,FALSE)","v":137},{"$f":"HLOOKUP(B83,December!$H$1:$DC$81,81,FALSE)","v":62},null,null,null,null,null,{"$f":"SUM(D83:M83)","v":447}]
[79,"John Brophy","Carrig ABU",{"$f":"HLOOKUP(B84,August!$H$1:$DC$73,73,FALSE)","v":88},{"$f":"HLOOKUP(B84,September!$H$1:$DC$73,73,FALSE)","v":64},{"$f":"HLOOKUP(B84,October!$H$1:$DC$51,51,FALSE)","v":108},{"$f":"HLOOKUP(B84,November!$H$1:$DC$61,61,FALSE)","v":103},{"$f":"HLOOKUP(B84,December!$H$1:$DC$81,81,FALSE)","v":83},null,null,null,null,null,{"$f":"SUM(D84:M84)","v":446}]
[80,"Micheal Munnelly","The Cunning Stunts",{"$f":"HLOOKUP(B85,August!$H$1:$DC$73,73,FALSE)","v":72},{"$f":"HLOOKUP(B85,September!$H$1:$DC$73,73,FALSE)","v":82},{"$f":"HLOOKUP(B85,October!$H$1:$DC$51,51,FALSE)","v":93},{"$f":"HLOOKUP(B85,November!$H$1:$DC$61,61,FALSE)","v":118},{"$f":"HLOOKUP(B85,December!$H$1:$DC$81,81,FALSE)","v":81},null,null,null,null,null,{"$f":"SUM(D85:M85)","v":446}]
[81,"Simon Scanlon","Amorin's United Red Devils",{"$f":"HLOOKUP(B86,August!$H$1:$DC$73,73,FALSE)","v":77},{"$f":"HLOOKUP(B86,September!$H$1:$DC$73,73,FALSE)","v":77},{"$f":"HLOOKUP(B86,October!$H$1:$DC$51,51,FALSE)","v":112},{"$f":"HLOOKUP(B86,November!$H$1:$DC$61,61,FALSE)","v":115},{"$f":"HLOOKUP(B86,December!$H$1:$DC$81,81,FALSE)","v":63},null,null,null,null,null,{"$f":"SUM(D86:M86)","v":444}]
[82,"Phil Doyle","FC Muertos Erraticos",{"$f":"HLOOKUP(B87,August!$H$1:$DC$73,73,FALSE)","v":81},{"$f":"HLOOKUP(B87,September!$H$1:$DC$73,73,FALSE)","v":49},{"$f":"HLOOKUP(B87,October!$H$1:$DC$51,51,FALSE)","v":114},{"$f":"HLOOKUP(B87,November!$H$1:$DC$61,61,FALSE)","v":114},{"$f":"HLOOKUP(B87,December!$H$1:$DC$81,81,FALSE)","v":85},null,null,null,null,null,{"$f":"SUM(D87:M87)","v":443}]
[83,"Joe Behan","NC750X",{"$f":"HLOOKUP(B88,August!$H$1:$DC$73,73,FALSE)","v":82},{"$f":"HLOOKUP(B88,September!$H$1:$DC$73,73,FALSE)","v":79},{"$f":"HLOOKUP(B88,October!$H$1:$DC$51,51,FALSE)","v":83},{"$f":"HLOOKUP(B88,November!$H$1:$DC$61,61,FALSE)","v":120},{"$f":"HLOOKUP(B88,December!$H$1:$DC$81,81,FALSE)","v":76},null,null,null,null,null,{"$f":"SUM(D88:M88)","v":440}]
[84,"Martin Kimmins","Los Pollos Hermanos",{"$f":"HLOOKUP(B89,August!$H$1:$DC$73,73,FALSE)","v":77},{"$f":"HLOOKUP(B89,September!$H$1:$DC$73,73,FALSE)","v":94},{"$f":"HLOOKUP(B89,October!$H$1:$DC$51,51,FALSE)","v":93},{"$f":"HLOOKUP(B89,November!$H$1:$DC$61,61,FALSE)","v":100},{"$f":"HLOOKUP(B89,December!$H$1:$DC$81,81,FALSE)","v":76},null,null,null,null,null,{"$f":"SUM(D89:M89)","v":440}]
[85,"Ciaran O'Hart","Riverchapel Plate",{"$f":"HLOOKUP(B90,August!$H$1:$DC$73,73,FALSE)","v":68},{"$f":"HLOOKUP(B90,September!$H$1:$DC$73,73,FALSE)","v":79},{"$f":"HLOOKUP(B90,October!$H$1:$DC$51,51,FALSE)","v":73},{"$f":"HLOOKUP(B90,November!$H$1:$DC$61,61,FALSE)","v":118},{"$f":"HLOOKUP(B90,December!$H$1:$DC$81,81,FALSE)","v":93},null,null,null,null,null,{"$f":"SUM(D90:M90)","v":431}]
[86,"Tommy Tormey","Shay Brennan's Testimonial XI",{"$f":"HLOOKUP(B91,August!$H$1:$DC$73,73,FALSE)","v":82},{"$f":"HLOOKUP(B91,September!$H$1:$DC$73,73,FALSE)","v":77},{"$f":"HLOOKUP(B91,October!$H$1:$DC$51,51,FALSE)","v":103},{"$f":"HLOOKUP(B91,November!$H$1:$DC$61,61,FALSE)","v":113},{"$f":"HLOOKUP(B91,December!$H$1:$DC$81,81,FALSE)","v":56},null,null,null,null,null,{"$f":"SUM(D91:M91)","v":431}]
[87,"Phoebe Suarez Behan","Unicorn FC",{"$f":"HLOOKUP(B92,August!$H$1:$DC$73,73,FALSE)","v":73},{"$f":"HLOOKUP(B92,September!$H$1:$DC$73,73,FALSE)","v":97},{"$f":"HLOOKUP(B92,October!$H$1:$DC$51,51,FALSE)","v":90},{"$f":"HLOOKUP(B92,November!$H$1:$DC$61,61,FALSE)","v":83},{"$f":"HLOOKUP(B92,December!$H$1:$DC$81,81,FALSE)","v":81},null,null,null,null,null,{"$f":"SUM(D92:M92)","v":424}]
[88,"Jimmy Maguire","Jimmy's Jewels",{"$f":"HLOOKUP(B93,August!$H$1:$DC$73,73,FALSE)","v":48},{"$f":"HLOOKUP(B93,September!$H$1:$DC$73,73,FALSE)","v":77},{"$f":"HLOOKUP(B93,October!$H$1:$DC$51,51,FALSE)","v":103},{"$f":"HLOOKUP(B93,November!$H$1:$DC$61,61,FALSE)","v":108},{"$f":"HLOOKUP(B93,December!$H$1:$DC$81,81,FALSE)","v":86},null,null,null,null,null,{"$f":"SUM(D93:M93)","v":422}]
[89,"Rhea Suarez Behan","Rhea's Reds",{"$f":"HLOOKUP(B94,August!$H$1:$DC$73,73,FALSE)","v":68},{"$f":"HLOOKUP(B94,September!$H$1:$DC$73,73,FALSE)","v":102},{"$f":"HLOOKUP(B94,October!$H$1:$DC$51,51,FALSE)","v":68},{"$f":"HLOOKUP(B94,November!$H$1:$DC$61,61,FALSE)","v":103},{"$f":"HLOOKUP(B94,December!$H$1:$DC$81,81,FALSE)","v":71},null,null,null,null,null,{"$f":"SUM(D94:M94)","v":412}]
[90,"Caoimhin McEnteggart","Macs Marvels",{"$f":"HLOOKUP(B95,August!$H$1:$DC$73,73,FALSE)","v":102},{"$f":"HLOOKUP(B95,September!$H$1:$DC$73,73,FALSE)","v":82},{"$f":"HLOOKUP(B95,October!$H$1:$DC$51,51,FALSE)","v":68},{"$f":"HLOOKUP(B95,November!$H$1:$DC$61,61,FALSE)","v":73},{"$f":"HLOOKUP(B95,December!$H$1:$DC$81,81,FALSE)","v":86},null,null,null,null,null,{"$f":"SUM(D95:M95)","v":411}]
[91,"Dylan Delaney","Amorin's At The Wheel",{"$f":"HLOOKUP(B96,August!$H$1:$DC$73,73,FALSE)","v":58},{"$f":"HLOOKUP(B96,September!$H$1:$DC$73,73,FALSE)","v":107},{"$f":"HLOOKUP(B96,October!$H$1:$DC$51,51,FALSE)","v":118},{"$f":"HLOOKUP(B96,November!$H$1:$DC$61,61,FALSE)","v":118},{"$f":"HLOOKUP(B96,December!$H$1:$DC$81,81,FALSE)","v":6},null,null,null,null,null,{"$f":"SUM(D96:M96)","v":407}]
[92,"Paddy Devereux","Wirtz The Story Lads",{"$f":"HLOOKUP(B97,August!$H$1:$DC$73,73,FALSE)","v":55},{"$f":"HLOOKUP(B97,September!$H$1:$DC$73,73,FALSE)","v":62},{"$f":"HLOOKUP(B97,October!$H$1:$DC$51,51,FALSE)","v":107},{"$f":"HLOOKUP(B97,November!$H$1:$DC$61,61,FALSE)","v":100},{"$f":"HLOOKUP(B97,December!$H$1:$DC$81,81,FALSE)","v":82},null,null,null,null,null,{"$f":"SUM(D97:M97)","v":406}]
[93,"Gerry Moore","Victor! For Mikel",{"$f":"HLOOKUP(B98,August!$H$1:$DC$73,73,FALSE)","v":66},{"$f":"HLOOKUP(B98,September!$H$1:$DC$73,73,FALSE)","v":84},{"$f":"HLOOKUP(B98,October!$H$1:$DC$51,51,FALSE)","v":109},{"$f":"HLOOKUP(B98,November!$H$1:$DC$61,61,FALSE)","v":79},{"$f":"HLOOKUP(B98,December!$H$1:$DC$81,81,FALSE)","v":60},null,null,null,null,null,{"$f":"SUM(D98:M98)","v":398}]
[94,"Sam Calvert","Samchester United",{"$f":"HLOOKUP(B99,August!$H$1:$DC$73,73,FALSE)","v":69},{"$f":"HLOOKUP(B99,September!$H$1:$DC$73,73,FALSE)","v":76},{"$f":"HLOOKUP(B99,October!$H$1:$DC$51,51,FALSE)","v":98},{"$f":"HLOOKUP(B99,November!$H$1:$DC$61,61,FALSE)","v":86},{"$f":"HLOOKUP(B99,December!$H$1:$DC$81,81,FALSE)","v":47},null,null,null,null,null,{"$f":"SUM(D99:M99)","v":376}]
[95,"David King","Alisson Wonderland",{"$f":"HLOOKUP(B100,August!$H$1:$DC$73,73,FALSE)","v":101},{"$f":"HLOOKUP(B100,September!$H$1:$DC$73,73,FALSE)","v":59},{"$f":"HLOOKUP(B100,October!$H$1:$DC$51,51,FALSE)","v":107},{"$f":"HLOOKUP(B100,November!$H$1:$DC$61,61,FALSE)","v":67},{"$f":"HLOOKUP(B100,December!$H$1:$DC$81,81,FALSE)","v":8},null,null,null,null,null,{"$f":"SUM(D100:M100)","v":342}]
[96,"Gavin Goodwin","Gorey United",{"$f":"HLOOKUP(B101,August!$H$1:$DC$73,73,FALSE)","v":93},{"$f":"HLOOKUP(B101,September!$H$1:$DC$73,73,FALSE)","v":107},{"$f":"HLOOKUP(B101,October!$H$1:$DC$51,51,FALSE)","v":128},{"$f":"HLOOKUP(B101,November!$H$1:$DC$61,61,FALSE)","v":8},{"$f":"HLOOKUP(B101,December!$H$1:$DC$81,81,FALSE)","v":6},null,null,null,null,null,{"$f":"SUM(D101:M101)","v":342}]
[97,"Colin Butterly","Butters FC",{"$f":"HLOOKUP(B102,August!$H$1:$DC$73,73,FALSE)","v":68},{"$f":"HLOOKUP(B102,September!$H$1:$DC$73,73,FALSE)","v":77},{"$f":"HLOOKUP(B102,October!$H$1:$DC$51,51,FALSE)","v":108},{"$f":"HLOOKUP(B102,November!$H$1:$DC$61,61,FALSE)","v":43},{"$f":"HLOOKUP(B102,December!$H$1:$DC$81,81,FALSE)","v":6},null,null,null,null,null,{"$f":"SUM(D102:M102)","v":302}]
[98,"Benny McCarthy","Brendan's Navigators",{"$f":"HLOOKUP(B103,August!$H$1:$DC$73,73,FALSE)","v":80},{"$f":"HLOOKUP(B103,September!$H$1:$DC$73,73,FALSE)","v":77},{"$f":"HLOOKUP(B103,October!$H$1:$DC$51,51,FALSE)","v":74},{"$f":"HLOOKUP(B103,November!$H$1:$DC$61,61,FALSE)","v":20},{"$f":"HLOOKUP(B103,December!$H$1:$DC$81,81,FALSE)","v":2},null,null,null,null,null,{"$f":"SUM(D103:M103)","v":253}]
[99,"Calvin McGettigan","Right Behind United",{"$f":"HLOOKUP(B104,August!$H$1:$DC$73,73,FALSE)","v":62},{"$f":"HLOOKUP(B104,September!$H$1:$DC$73,73,FALSE)","v":69},{"$f":"HLOOKUP(B104,October!$H$1:$DC$51,51,FALSE)","v":8},{"$f":"HLOOKUP(B104,November!$H$1:$DC$61,61,FALSE)","v":40},{"$f":"HLOOKUP(B104,December!$H$1:$DC$81,81,FALSE)","v":6},null,null,null,null,null,{"$f":"SUM(D104:M104)","v":185}]
[100,"Dave Lavelle","Isak Is A Red",{"$f":"HLOOKUP(B105,August!$H$1:$DC$73,73,FALSE)","v":75},{"$f":"HLOOKUP(B105,September!$H$1:$DC$73,73,FALSE)","v":72},{"$f":"HLOOKUP(B105,October!$H$1:$DC$51,51,FALSE)","v":6},{"$f":"HLOOKUP(B105,November!$H$1:$DC$61,61,FALSE)","v":8},{"$f":"HLOOKUP(B105,December!$H$1:$DC$81,81,FALSE)","v":6},null,null,null,null,null,{"$f":"SUM(D105:M105)","v":167}]

{"sheet":"August","index":1,"n_rows":73,"n_cols":107,"rows_kept":73,"cut":false,"hidden":false,"merged":[[1,1,1,4]]}
[null,null,null,null,null,null,null,"Aaron Nealon","Aidan Scanlon","Aidan White","Alain Verjans","Anastas Popov","Andy Dunne","Benny McCarthy","Billy McGinley","Bobby Hynes","Brendan Maguire","Brian Haughton","Brian Hearne","Brian Mullen","Calvin McGettigan","Caoimhin McEnteggart","Carl Toner","Caroline Carroll","Chris Keohan","Christina Morgan","Ciaran O'Hart","Colin Butterly","Con McSweeney","Craig Calvert","Craig Whelan","Daniel Dorrian","Darragh Kenny","Darren O'Gorman","Dave Lavelle","Dave McGinley","David Cooney","David Doyle","David King","Derek McDonald","Dylan Delaney","Dylan O'Riordan","Eamon Fox","Eamonn Gallagher","Eoghan Farrelly","Finbarr Corkery","Frank McSweeney","Gareth Pierpoint","Gary Donnelly","Gary Fitzpatrick","Gavin Goodwin","Gavin Morgan","Gerry Draper","Gerry Moore","Graham Pierpoint","Greg Donaghy","Helen Fadian","Jack Draper","Jason Maloney","Javier Suarez","Jim Foley","Jimmy Maguire","Joe Behan","Joe Turner","John Brophy","John Cafferkey","Johno Percy","Jonathan Fox","Joseph Kavanagh","Joseph Leppla","Keith Nerney","Keith Ryan","Kev Dalton","Kevin Lawless","Kevin Nolan","Kieran Killeen","Liam Keohan","Lionel Knott","Martin Kimmins","Micheal Joyce","Micheal Munnelly","Monica Collins","Niall Carroll","Paddy Devereux","Paul Foley","Paul Moore","Paul Prendergast","Peter Lavelle","Phil Doyle","Philip Jordan","Phoebe Suarez Behan","Realtin Dunne","Rhea Suarez Behan","Richard Johnston","Robert Foley","Robert Gaffney","Roisin Joyce","Sam Calvert","Sean Cafferkey","Sean Cleary","Sean O'Mairtin","Shane Horan","Simon Scanlon","Thomas Nolan","Tommy Hamill","Tommy Tormey","Tommy Walsh"]
["Date","Teams",null,null,null,"Time"]
["2025-08-15","Liverpool",4,2,"Bournemouth",45884.833333333336,null,5,5,5,5,5,5,0,5,5,5,5,5,5,5,5,5,5,5,5,5,"-",5,5,5,5,5,5,5,5,5,5,5,5,5,5,5,5,5,5,5,5,5,5,5,5,5,5,5,5,5,5,5,5,5,"-",5,5,5,5,5,5,5,5,5,5,5,5,5,5,5,5,5,5,5,5,5,5,5,5,5,5,5,5,5,5,5,5,5,5,5,0,5,5,5,5,5,5,5,5,5]
["2025-08-16","Aston Villa",0,0,"Newcastle",45885.520833333336,null,5,5,0,5,5,0,5,5,5,5,0,5,0,0,5,5,0,0,0,5,"-",5,0,5,5,5,0,0,5,0,0,5,5,0,0,0,0,0,5,0,5,5,5,0,5,0,5,5,0,5,0,5,0,0,"-",0,0,5,0,0,0,0,0,0,5,0,0,5,5,0,0,5,5,5,0,0,0,0,5,0,5,0,5,0,0,0,0,5,0,0,0,0,0,0,5,5,5,5,0,5]
["2025-08-16","Brighton",1,1,"Fulham",45885.625,null,0,0,10,0,0,0,5,0,10,0,0,0,10,0,10,0,0,0,0,0,"-",5,10,10,0,10,0,0,0,5,0,5,0,0,0,0,0,0,10,0,0,0,5,10,0,0,10,0,10,0,0,5,0,5,"-",0,0,0,10,5,0,10,0,0,0,0,10,0,5,0,0,0,0,0,0,10,0,5,0,0,0,10,0,0,0,0,10,0,10,0,5,0,0,0,0,0,0,0,0,0]
["2025-08-16","Spurs",3,0,"Burnley",45885.625,null,5,5,5,5,5,5,10,5,5,5,10,5,5,5,5,5,10,5,5,5,"-",5,5,5,10,5,10,5,5,5,10,5,5,5,5,10,5,5,5,5,5,5,5,5,5,5,5,5,5,5,5,5,5,5,"-",10,5,10,5,5,5,10,5,5,5,10,5,5,5,5,5,0,0,5,5,5,5,5,5,5,5,0,5,5,5,5,5,5,5,5,5,5,10,5,10,5,5,5,5,5]
["2025-08-16","Sunderland",3,0,"West Ham",45885.625,null,5,0,5,0,0,0,0,0,5,0,0,0,0,0,0,0,0,0,5,0,"-",0,0,0,0,0,0,0,0,0,0,0,0,0,0,0,0,0,0,0,0,5,5,0,0,5,0,0,0,0,0,0,0,0,"-",0,5,5,0,0,0,0,0,0,0,0,0,0,0,0,0,5,0,0,0,5,0,0,0,0,0,0,0,0,0,0,0,0,0,5,0,0,0,0,0,0,0,0,5,0]
["2025-08-16","Wolves",0,4,"Man City",45885.729166666664,null,5,5,5,5,5,5,10,5,5,5,5,5,5,5,5,5,5,5,0,5,"-",5,5,5,5,5,5,5,5,5,5,5,5,5,5,5,5,5,5,5,5,5,5,5,5,0,5,5,5,5,5,5,5,5,"-",5,5,5,5,5,5,5,5,5,5,5,5,5,5,5,0,5,5,5,5,5,5,5,5,5,10,5,5,5,5,5,5,5,5,5,5,5,5,5,5,5,5,5,5,5]
["2025-08-17","Chelsea",0,0,"Crystal Palace",45886.583333333336,null,0,0,5,0,0,0,0,0,0,0,0,5,0,0,0,0,0,0,0,0,"-",0,0,0,0,0,0,0,0,0,0,0,0,0,0,0,0,0,5,0,0,5,0,5,0,0,0,0,0,0,0,0,0,0,"-",0,0,0,0,0,0,0,0,0,0,0,0,0,5,0,0,0,5,0,0,0,0,0,0,0,0,0,0,0,0,0,5,5,0,0,0,0,0,0,0,0,0,0,0,5]
["2025-08-17","Nott'm Forest",3,1,"Brentford",45886.583333333336,null,5,5,0,0,5,5,0,5,5,5,0,5,5,5,0,0,5,5,5,5,"-",5,5,10,5,5,0,0,5,5,5,0,0,0,0,5,10,5,5,5,5,0,5,5,5,5,0,0,0,5,0,5,0,5,"-",5,5,0,5,5,5,5,5,5,5,5,5,5,5,5,0,0,5,5,0,5,0,0,5,5,5,5,5,0,5,5,5,5,5,0,5,5,5,0,5,5,5,5,10,5]
["2025-08-17","Man Utd",0,1,"Arsenal",45886.6875,null,0,0,5,0,5,5,0,5,0,0,0,5,5,0,0,10,0,5,0,0,"-",5,0,0,0,0,5,0,0,0,5,5,0,0,0,5,10,0,0,5,5,0,5,0,0,0,0,5,0,5,5,0,5,0,0,5,0,10,0,5,10,0,0,5,0,5,0,10,5,5,5,5,5,5,0,0,0,5,0,0,5,0,0,0,5,5,5,5,0,5,0,0,0,0,0,0,5,5,0,5]
["2025-08-18","Leeds Utd",1,0,"Everton",45887.833333333336,null,0,0,0,10,10,5,0,0,0,0,0,0,0,0,0,0,0,5,5,0,"-",0,5,0,0,0,0,0,0,10,0,0,0,0,0,0,0,5,0,0,0,0,0,0,10,0,0,0,0,0,0,0,0,0,0,0,10,0,0,0,10,0,0,5,5,5,0,0,5,0,0,0,0,0,0,0,0,0,10,5,0,0,0,0,0,0,0,0,0,0,0,0,0,0,0,0,0,0,0,0]
["2025-08-22","West Ham",1,5,"Chelsea","20:00:00",null,5,5,5,5,5,0,0,5,5,5,5,5,5,0,5,5,5,0,0,5,0,5,5,5,5,5,5,5,0,5,5,5,5,5,5,5,5,5,0,5,5,5,5,5,5,5,5,5,5,5,5,5,5,5,5,5,5,5,5,5,5,5,5,5,5,5,0,0,5,0,5,5,5,5,5,5,5,5,5,0,5,5,5,5,0,5,5,5,5,5,5,5,5,5,5,5,0,5,5,5]
["2025-08-23","Man City",0,2,"Spurs","12:30:00",null,0,0,0,0,0,0,0,0,0,0,0,0,0,0,0,0,0,0,0,0,0,0,0,0,0,0,0,0,0,0,0,0,0,0,0,0,0,0,0,0,0,0,0,0,0,0,0,0,0,0,0,0,0,0,0,0,0,0,0,0,0,0,0,0,0,0,0,0,0,0,0,0,0,0,0,0,0,0,0,0,0,0,0,0,0,0,0,0,0,0,0,0,0,0,0,0,0,0,0,0]
["2025-08-23","Bournemouth",1,0,"Wolves",45892.625,null,5,0,5,5,5,5,5,5,5,10,5,5,0,0,0,10,5,5,5,5,5,5,5,5,5,5,5,5,0,5,5,5,0,5,10,10,10,10,5,5,5,5,5,5,5,5,10,5,5,5,5,5,10,5,5,0,5,5,5,5,10,5,5,5,5,5,5,5,0,5,5,5,5,0,10,5,5,5,5,5,5,10,0,0,0,0,10,5,5,5,10,5,5,5,5,5,10,10,0,5]
["2025-08-23","Brentford",1,0,"Aston Villa",45892.625,null,0,0,0,0,0,0,0,0,0,0,0,0,0,0,0,0,0,5,5,0,0,0,0,0,0,0,0,0,0,0,0,0,0,0,5,0,0,0,0,0,0,0,0,0,0,0,0,0,0,0,0,0,0,0,0,0,0,0,0,0,0,0,0,0,0,0,0,0,0,0,0,0,0,0,0,0,0,0,0,0,0,5,0,0,0,0,0,0,0,0,0,0,0,0,0,0,0,0,0,0]
["2025-08-23","Burnley",2,0,"Sunderland",45892.625,null,5,0,0,0,0,5,0,0,0,5,0,0,0,0,0,0,0,10,5,0,0,0,0,0,0,0,0,0,5,0,0,0,0,0,0,0,0,0,0,0,0,0,0,0,0,0,0,0,0,10,5,0,5,0,0,0,0,0,5,5,5,0,0,5,0,0,0,0,0,0,0,0,0,0,5,0,0,0,0,0,5,0,0,0,0,0,5,0,0,5,0,0,0,0,0,0,0,0,0,0]
["2025-08-23","Arsenal",5,0,"Leeds Utd","17:30:00",null,5,5,5,5,5,5,5,5,5,5,5,5,5,0,5,5,5,5,5,5,5,5,5,5,5,5,5,5,5,5,5,5,5,5,5,5,5,5,5,5,5,5,5,5,5,5,5,5,5,5,5,5,5,5,5,5,5,5,5,5,5,5,10,5,5,5,5,5,5,5,5,5,5,5,5,5,5,5,5,5,5,5,5,5,5,5,5,5,5,5,5,5,5,5,5,5,5,5,0,5]
["2025-08-24","Crystal Palace",1,1,"Nott'm Forest","14:00:00",null,0,5,5,0,0,0,5,0,0,10,10,5,0,5,0,10,10,0,0,0,5,10,10,5,0,10,0,0,10,5,0,5,0,0,5,10,0,10,10,0,10,10,0,10,0,10,0,10,10,10,0,10,0,10,0,10,0,0,10,10,0,10,5,0,10,0,10,0,5,0,5,10,0,0,0,0,0,0,0,10,10,0,0,5,5,5,0,0,0,0,5,0,0,5,0,10,10,5,0,10]
["2025-08-24","Everton",2,0,"Brighton","14:00:00",null,5,5,5,0,0,0,0,0,5,5,5,0,0,0,0,0,0,10,5,0,5,0,0,0,0,5,0,0,0,5,0,0,5,0,5,0,0,5,0,0,0,0,0,0,5,0,0,0,5,0,0,5,10,0,0,0,0,5,0,0,0,5,0,0,0,5,0,0,5,0,5,0,0,0,0,5,0,0,0,0,5,5,5,0,0,0,5,0,0,0,0,0,0,5,5,5,5,0,5,0]
["2025-08-24","Fulham",1,1,"Man Utd","16:30:00",null,10,0,0,5,0,0,0,0,10,0,0,10,0,5,10,0,0,0,0,0,0,0,0,10,0,0,0,10,10,0,0,10,0,0,0,0,0,0,0,0,0,10,0,0,0,0,0,10,0,0,0,0,0,0,0,0,5,0,0,0,0,10,0,0,0,0,0,0,10,5,0,5,10,10,0,5,0,10,10,0,0,0,0,0,0,0,0,0,0,0,0,0,0,10,0,0,0,10,0,0]
["2025-08-25","Newcastle",2,3,"Liverpool","20:00:00",null,5,0,5,5,5,5,0,5,5,10,5,5,5,0,5,5,0,0,0,0,5,5,5,5,10,5,5,5,0,0,5,5,0,0,5,5,5,5,5,5,5,5,0,5,5,5,0,5,5,5,5,5,0,5,10,5,5,5,10,0,5,5,5,5,0,10,10,5,5,5,5,0,0,5,5,0,5,0,5,5,5,5,5,5,5,5,5,5,0,5,5,5,0,0,0,0,10,5,10,5]
["2025-08-30","Chelsea",2,0,"Fulham","12:30:00",null,5,5,10,5,5,10,5,5,5,10,5,5,5,10,5,5,10,10,5,10,10,5,5,10,5,5,5,5,5,10,10,5,5,5,5,5,10,10,0,5,10,10,5,5,5,5,5,10,10,10,5,10,5,10,5,5,5,5,5,5,10,5,5,10,10,5,10,10,5,5,0,10,5,5,10,5,5,10,5,5,10,5,5,5,5,5,5,10,5,5,5,10,5,10,5,5,10,10,10,5]
["2025-08-30","Man Utd",3,2,"Burnley",45899.625,null,5,5,5,5,5,0,5,5,5,5,5,5,5,5,5,5,5,5,5,5,5,5,0,5,5,5,5,5,5,5,0,0,5,5,5,5,5,5,5,5,5,5,0,5,5,5,5,5,5,5,5,5,5,5,5,5,5,0,5,5,5,5,5,5,5,5,5,5,5,5,5,0,0,0,5,0,0,5,5,5,5,5,5,0,0,5,5,5,10,5,5,5,5,5,5,5,5,5,5,5]
["2025-08-30","Sunderland",2,1,"Brentford",45899.625,null,0,0,0,0,0,0,10,0,0,0,10,0,0,0,10,0,0,5,10,0,10,0,0,0,0,10,0,0,0,0,5,0,0,0,0,0,5,0,10,0,0,0,0,0,5,0,0,0,0,0,0,10,0,0,0,0,5,0,0,0,0,0,0,0,0,0,0,0,0,0,0,0,0,0,10,0,5,0,0,0,0,0,0,5,0,0,0,10,0,0,0,0,0,0,0,0,0,0,5,0]
["2025-08-30","Spurs",0,1,"Bournemouth",45899.625,null,0,0,0,0,0,0,0,0,0,0,0,0,0,0,0,0,0,0,0,0,0,0,0,0,0,0,0,0,0,0,0,0,0,0,0,0,0,0,0,0,0,0,0,0,0,0,0,0,0,0,0,0,0,0,0,0,0,0,0,0,0,0,0,0,0,0,0,0,0,0,0,0,0,0,0,0,0,0,0,0,0,0,0,0,0,0,0,0,0,0,0,0,0,0,0,0,0,0,0,0]
["2025-08-30","Wolves",2,3,"Everton",45899.625,null,0,5,0,5,0,0,0,5,0,0,0,5,5,5,0,5,5,0,0,0,5,0,0,5,0,5,5,5,0,0,5,5,0,5,5,0,0,5,5,5,5,5,0,5,0,0,0,0,5,5,0,0,5,0,0,0,0,0,0,0,0,5,0,5,0,0,0,0,0,5,5,0,0,0,0,5,5,0,0,5,0,0,5,5,0,5,5,5,5,5,0,0,0,0,5,0,0,0,0,5]
["2025-08-30","Leeds Utd",0,0,"Newcastle","17:30:00",null,0,0,0,5,5,0,0,0,5,0,0,0,0,0,0,0,5,0,0,5,0,0,0,0,0,0,5,0,0,0,0,0,0,5,0,5,0,0,0,0,0,5,5,0,0,0,0,0,0,0,0,5,0,0,5,0,5,0,0,0,0,0,0,0,0,0,5,0,0,0,0,0,0,0,0,0,0,0,5,0,0,5,0,5,5,0,0,0,0,5,0,5,0,0,0,0,0,0,0,0]
["2025-08-31","Brighton",2,1,"Man City","14:00:00",null,0,0,0,0,0,0,10,10,0,0,0,0,0,0,10,0,0,5,10,0,0,0,10,0,0,0,0,0,0,0,0,10,0,0,0,0,5,0,0,0,0,0,0,0,0,0,0,0,0,0,0,0,0,0,0,0,0,5,0,0,0,0,0,0,0,0,0,0,0,0,0,0,0,0,0,0,0,0,0,0,0,0,0,0,0,0,0,10,10,0,0,0,0,0,0,0,0,0,0,0]
["2025-08-31","Nott'm Forest",0,3,"West Ham","14:00:00",null,0,0,0,0,0,0,0,0,0,0,0,0,0,0,0,0,0,0,0,0,0,0,0,0,0,0,0,0,0,0,0,0,0,0,0,0,0,0,0,0,0,0,0,0,0,0,0,0,0,0,0,0,0,0,0,0,0,0,0,0,0,0,0,0,0,0,0,0,0,0,0,0,0,0,0,0,0,0,0,0,0,0,0,5,0,0,0,0,0,0,0,0,0,0,0,0,0,0,0,0]
["2025-08-31","Liverpool",1,0,"Arsenal","16:30:00",null,0,0,5,0,5,5,5,5,5,0,5,0,0,0,5,0,5,5,5,0,5,0,5,5,5,0,5,5,0,0,5,5,0,0,0,0,5,0,0,5,5,5,0,5,5,0,0,0,5,5,0,5,5,0,0,5,5,5,5,0,0,5,5,0,0,0,0,0,0,0,5,0,0,0,5,0,0,10,5,0,5,0,5,0,5,0,5,5,0,0,0,5,0,0,0,0,5,0,0,5]
["2025-08-31","Aston Villa",0,3,"Crystal Palace","19:00:00",null,0,0,5,0,0,0,0,0,0,0,0,5,0,0,0,0,0,0,0,0,0,0,0,0,0,0,5,0,0,0,5,5,0,0,0,0,0,0,0,0,0,0,0,0,0,0,0,0,0,0,5,0,0,0,0,0,0,0,0,0,0,0,0,0,0,0,0,0,5,0,0,0,5,0,0,0,5,0,5,0,0,0,0,5,0,0,0,0,0,0,5,0,0,0,0,0,0,0,0,5]
[]
["Golden Boots"]
["Alexander Isak - Newcastle United",null,null,{"$f":"COUNT(H35:JB35)","v":31},{"$f":"0+0+0","v":0},null,null,null,{"$f":"$E35*2","v":0},null,{"$f":"$E35*2","v":0},null,{"$f":"$E35*2","v":0},null,null,{"$f":"$E35*2","v":0},null,null,null,{"$f":"$E35*2","v":0},null,null,null,null,null,null,null,{"$f":"$E35*2","v":0},null,null,{"$f":"$E35*2","v":0},0,null,null,0,null,null,null,{"$f":"$E35*2","v":0},null,0,0,null,0,0,0,null,null,{"$f":"$E35*2","v":0},0,0,null,null,null,null,null,null,0,null,0,null,{"$f":"$E35*2","v":0},null,null,null,{"$f":"$E35*2","v":0},null,null,0,null,null,null,null,null,null,null,null,null,null,null,null,null,{"$f":"$E35*2","v":0},{"$f":"$E35*2","v":0},{"$f":"$E35*2","v":0},{"$f":"$E35*2","v":0},{"$f":"$E35*2","v":0},null,null,null,null,null,null,null,null,{"$f":"$E35*2","v":0},null,null,{"$f":"$E35*2","v":0},null,null,null,null,{"$f":"$E35*2","v":0}]
["Bryan Mbeumo - Man United",null,null,6,{"$f":"0+0+1","v":1},null,null,null,null,null,null,null,null,null,null,null,null,null,null,null,null,null,null,null,{"$f":"$E36*2","v":2},null,null,null,null,2,null,null,null,null,null,null,null,null,null,2,null,null,null,null,null,null,null,null,null,null,null,null,null,null,null,null,null,null,null,null,null,null,null,null,null,null,null,null,null,null,null,null,null,null,null,null,null,null,null,null,null,{"$f":"$E36*2","v":2},null,null,null,null,null,null,null,null,null,null,null,null,null,null,{"$f":"$E36*2","v":2},null,null,null,null,null,{"$f":"$E36*2","v":2}]
["Chris Wood - Nottingham Forest",null,null,5,{"$f":"2+0+0","v":2},null,null,null,null,null,null,null,null,null,null,null,null,null,{"$f":"$E37*2","v":4},null,null,{"$f":"$E37*2","v":4},null,null,null,null,null,null,null,null,null,null,null,null,null,null,null,null,null,null,null,null,null,null,null,null,null,null,null,null,null,null,null,null,null,null,null,null,null,null,null,null,null,null,null,null,null,null,null,null,null,null,null,null,null,{"$f":"$E37*2","v":4},null,null,null,null,{"$f":"$E37*2","v":4},null,null,null,null,null,null,null,null,null,null,null,null,null,null,null,null,null,null,null,null,null,null,null,null,{"$f":"$E37*2","v":4}]
["Cole Palmer - Chelsea",null,null,27,{"$f":"0+0+0","v":0},null,null,null,null,{"$f":"$E38*2","v":0},{"$f":"$E38*2","v":0},{"$f":"$E38*2","v":0},null,{"$f":"$E38*2","v":0},{"$f":"$E38*2","v":0},null,null,null,null,null,null,null,{"$f":"$E38*2","v":0},{"$f":"$E38*2","v":0},null,null,{"$f":"$E38*2","v":0},null,null,null,null,null,0,null,null,null,{"$f":"$E38*2","v":0},null,null,null,null,null,null,null,null,null,null,null,{"$f":"$E38*2","v":0},null,null,null,0,null,{"$f":"$E38*2","v":0},null,{"$f":"$E38*2","v":0},null,0,null,null,null,null,{"$f":"$E38*2","v":0},{"$f":"$E38*2","v":0},null,0,null,null,null,null,0,null,null,null,{"$f":"$E38*2","v":0},null,null,null,{"$f":"$E38*2","v":0},null,null,{"$f":"$E38*2","v":0},{"$f":"$E38*2","v":0},null,null,null,{"$f":"$E38*2","v":0},null,null,null,null,null,null,{"$f":"$E38*2","v":0},null,{"$f":"$E38*2","v":0},{"$f":"$E38*2","v":0}]
["Erling Haaland - Man City",null,null,80,{"$f":"2+0+1","v":3},null,null,{"$f":"$E39*2","v":6},{"$f":"$E39*2","v":6},null,{"$f":"$E39*2","v":6},{"$f":"$E39*2","v":6},{"$f":"$E39*2","v":6},null,null,{"$f":"$E39*2","v":6},6,6,6,6,{"$f":"$E39*2","v":6},6,{"$f":"$E39*2","v":6},{"$f":"$E39*2","v":6},{"$f":"$E39*2","v":6},{"$f":"$E39*2","v":6},{"$f":"$E39*2","v":6},{"$f":"$E39*2","v":6},{"$f":"$E39*2","v":6},{"$f":"$E39*2","v":6},null,null,null,{"$f":"$E39*2","v":6},{"$f":"$E39*2","v":6},6,6,null,null,{"$f":"$E39*2","v":6},{"$f":"$E39*2","v":6},{"$f":"$E39*2","v":6},{"$f":"$E39*2","v":6},{"$f":"$E39*2","v":6},{"$f":"$E39*2","v":6},{"$f":"$E39*2","v":6},6,6,null,null,{"$f":"$E39*2","v":6},6,{"$f":"$E39*2","v":6},null,{"$f":"$E39*2","v":6},6,{"$f":"$E39*2","v":6},{"$f":"$E39*2","v":6},6,{"$f":"$E39*2","v":6},{"$f":"$E39*2","v":6},6,{"$f":"$E39*2","v":6},null,6,6,6,6,6,6,6,6,6,{"$f":"$E39*2","v":6},{"$f":"$E39*2","v":6},null,null,{"$f":"$E39*2","v":6},{"$f":"$E39*2","v":6},{"$f":"$E39*2","v":6},{"$f":"$E39*2","v":6},{"$f":"$E39*2","v":6},null,null,{"$f":"$E39*2","v":6},{"$f":"$E39*2","v":6},{"$f":"$E39*2","v":6},{"$f":"$E39*2","v":6},null,null,{"$f":"$E39*2","v":6},{"$f":"$E39*2","v":6},{"$f":"$E39*2","v":6},{"$f":"$E39*2","v":6},null,{"$f":"$E39*2","v":6},{"$f":"$E39*2","v":6},null,{"$f":"$E39*2","v":6},{"$f":"$E39*2","v":6},6,6,6,6,6,6,6]
["Hugo Ekitike - Liverpool",null,null,12,{"$f":"1+1+0","v":2},null,null,null,null,null,null,null,null,null,null,null,null,{"$f":"$E40*2","v":4},null,null,null,null,null,null,null,{"$f":"$E40*2","v":4},null,null,null,null,null,null,null,null,null,null,null,4,{"$f":"$E40*2","v":4},{"$f":"$E40*2","v":4},null,null,null,null,null,null,null,null,4,null,null,4,null,null,null,null,4,null,null,null,null,null,null,null,null,null,null,null,null,null,null,null,null,null,null,null,{"$f":"$E40*2","v":4},{"$f":"$E40*2","v":4},null,null,null,null,null,null,null,null,null,null,null,{"$f":"$E40*2","v":4},null,null,null,null,null,null,null,null,null,null,null,null,null,null,null,null,{"$f":"$E40*2","v":4}]
["Jean-Philippe Mateta - Crystal Palace",null,null,5,{"$f":"0+0+1","v":1},null,null,null,null,null,null,null,null,null,null,null,null,null,null,null,null,null,null,null,null,null,null,null,null,null,null,null,null,null,null,null,null,null,null,null,null,null,null,null,null,null,null,null,null,null,null,null,null,null,null,null,null,null,null,null,null,null,null,{"$f":"$E41*2","v":2},null,null,null,null,null,null,null,null,null,null,null,null,{"$f":"$E41*2","v":2},null,null,null,null,null,null,null,null,null,null,null,null,{"$f":"$E41*2","v":2},null,null,null,null,null,null,null,{"$f":"$E41*2","v":2},null,null,{"$f":"$E41*2","v":2}]
["Jorgen Strand Larsen - Wolves",null,null,1,{"$f":"0+0+0","v":0},null,null,null,null,null,null,null,null,null,null,null,null,null,null,null,null,null,null,null,null,null,null,null,null,null,null,null,null,null,null,null,null,null,null,null,null,null,null,null,null,null,null,null,null,null,null,null,null,null,null,null,null,null,null,null,null,null,null,null,null,null,null,null,null,null,null,null,null,{"$f":"$E42*2","v":0}]
["Justin Kluivert - Bournemouth",null,null,1,{"$f":"0+0+0","v":0},null,null,null,null,null,null,null,null,{"$f":"$E43*2","v":0}]
["Liam Delap - Chelsea",null,null,1,{"$f":"0+0+0","v":0},null,null,null,null,null,null,null,null,null,null,null,null,null,null,null,null,null,null,null,null,null,null,null,null,null,null,null,null,null,null,null,null,null,null,null,null,null,null,null,null,null,null,null,null,null,null,null,null,null,null,null,null,null,null,null,null,null,null,null,null,null,null,null,null,null,null,null,null,null,null,null,null,null,null,null,null,null,null,null,null,null,null,null,null,{"$f":"$E44*2","v":0}]
["Matheus Cunha - Man United",null,null,5,{"$f":"0+0+0","v":0},null,null,null,null,null,null,null,null,{"$f":"$E45*2","v":0},null,null,null,null,null,null,null,null,null,null,null,null,null,null,null,null,null,null,null,null,null,null,null,null,null,null,null,null,null,null,null,null,null,null,null,null,null,null,null,{"$f":"$E45*2","v":0},null,null,null,null,null,null,null,null,null,null,null,null,null,null,null,null,null,null,null,null,null,null,null,null,null,null,null,null,null,{"$f":"$E45*2","v":0},null,null,null,null,{"$f":"$E45*2","v":0},null,{"$f":"$E45*2","v":0}]
["Mohamed Salah - Liverpool",null,null,83,{"$f":"1+0+0","v":1},null,null,{"$f":"$E46*2","v":2},null,{"$f":"$E46*2","v":2},null,{"$f":"$E46*2","v":2},{"$f":"$E46*2","v":2},null,{"$f":"$E46*2","v":2},{"$f":"$E46*2","v":2},{"$f":"$E46*2","v":2},{"$f":"$E46*2","v":2},{"$f":"$E46*2","v":2},{"$f":"$E46*2","v":2},{"$f":"$E46*2","v":2},{"$f":"$E46*2","v":2},null,2,{"$f":"$E46*2","v":2},{"$f":"$E46*2","v":2},2,{"$f":"$E46*2","v":2},{"$f":"$E46*2","v":2},2,2,2,2,2,null,{"$f":"$E46*2","v":2},null,{"$f":"$E46*2","v":2},2,null,2,2,2,2,{"$f":"$E46*2","v":2},{"$f":"$E46*2","v":2},2,2,null,{"$f":"$E46*2","v":2},{"$f":"$E46*2","v":2},null,{"$f":"$E46*2","v":2},2,2,2,null,{"$f":"$E46*2","v":2},{"$f":"$E46*2","v":2},{"$f":"$E46*2","v":2},{"$f":"$E46*2","v":2},{"$f":"$E46*2","v":2},{"$f":"$E46*2","v":2},{"$f":"$E46*2","v":2},2,2,2,2,null,{"$f":"$E46*2","v":2},2,2,2,{"$f":"$E46*2","v":2},{"$f":"$E46*2","v":2},null,null,{"$f":"$E46*2","v":2},2,{"$f":"$E46*2","v":2},{"$f":"$E46*2","v":2},2,{"$f":"$E46*2","v":2},null,{"$f":"$E46*2","v":2},{"$f":"$E46*2","v":2},{"$f":"$E46*2","v":2},{"$f":"$E46*2","v":2},{"$f":"$E46*2","v":2},null,{"$f":"$E46*2","v":2},{"$f":"$E46*2","v":2},{"$f":"$E46*2","v":2},{"$f":"$E46*2","v":2},{"$f":"$E46*2","v":2},{"$f":"$E46*2","v":2},null,{"$f":"$E46*2","v":2},2,{"$f":"$E46*2","v":2},2,{"$f":"$E46*2","v":2},null,2,2,{"$f":"$E46*2","v":2},2]
["Ollie Watkins - Aston Villa",null,null,3,{"$f":"0+0+0","v":0},null,null,null,null,null,null,null,null,null,null,null,null,null,null,null,null,null,null,null,null,null,null,null,null,null,null,0,null,null,null,null,null,null,null,null,null,null,null,null,null,null,null,null,null,null,null,null,null,null,null,null,null,null,null,null,null,null,null,null,null,null,null,null,null,null,null,null,null,null,null,{"$f":"$E47*2","v":0},null,null,null,null,null,null,null,null,null,null,null,null,null,null,null,{"$f":"$E47*2","v":0}]
["Viktor Gyokeres - Arsenal",null,null,39,{"$f":"0+2+0","v":2},null,null,{"$f":"$E48*2","v":4},{"$f":"$E48*2","v":4},{"$f":"$E48*2","v":4},null,null,null,null,{"$f":"$E48*2","v":4},null,{"$f":"$E48*2","v":4},null,null,null,{"$f":"$E48*2","v":4},null,{"$f":"$E48*2","v":4},null,null,null,null,null,{"$f":"$E48*2","v":4},null,{"$f":"$E48*2","v":4},null,{"$f":"$E48*2","v":4},{"$f":"$E48*2","v":4},{"$f":"$E48*2","v":4},4,{"$f":"$E48*2","v":4},4,null,null,null,null,{"$f":"$E48*2","v":4},null,null,null,{"$f":"$E48*2","v":4},4,null,{"$f":"$E48*2","v":4},null,{"$f":"$E48*2","v":4},null,{"$f":"$E48*2","v":4},null,{"$f":"$E48*2","v":4},null,null,null,null,{"$f":"$E48*2","v":4},null,{"$f":"$E48*2","v":4},null,null,null,null,{"$f":"$E48*2","v":4},{"$f":"$E48*2","v":4},4,4,null,{"$f":"$E48*2","v":4},null,{"$f":"$E48*2","v":4},null,{"$f":"$E48*2","v":4},null,{"$f":"$E48*2","v":4},null,null,null,null,null,null,null,null,null,{"$f":"$E48*2","v":4},null,null,null,null,{"$f":"$E48*2","v":4},{"$f":"$E48*2","v":4},null,null,null,null,{"$f":"$E48*2","v":4},null,{"$f":"$E48*2","v":4},{"$f":"$E48*2","v":4},null,{"$f":"$E48*2","v":4}]
["Yoane Wissa - Brentford",null,null,1,{"$f":"0+0+0","v":0},null,null,null,null,null,null,null,null,null,null,null,null,null,null,null,null,null,null,null,null,null,null,null,null,null,null,null,null,null,null,null,null,null,null,null,null,null,null,null,null,null,null,null,null,null,null,null,null,null,null,null,null,null,null,null,null,null,null,null,null,null,null,null,null,null,null,null,null,null,null,null,null,null,null,null,null,null,null,null,null,null,null,null,null,null,null,null,{"$f":"$E49*2","v":0}]
[]
["Sack Race"]
["Andoni Iraola - Bournemouth",null,null,{"$f":"COUNT(H52:JB52)","v":2},null,null,null,null,null,null,null,null,null,null,null,null,null,null,null,null,null,null,null,null,null,null,null,null,null,null,null,null,null,null,null,null,null,null,null,null,null,null,null,null,null,null,null,null,null,null,null,null,null,null,null,null,null,null,{"$f":"$E52*15","v":0},null,null,null,null,null,null,null,null,null,null,null,null,null,null,null,null,null,null,null,null,null,null,null,null,null,null,null,null,null,null,null,null,null,null,null,null,null,{"$f":"$E52*15","v":0}]
["Arne Slot - Liverpool",null,null,0]
["Daniel Farke - Leeds United",null,null,16,null,null,null,null,{"$f":"$E54*15","v":0},null,null,null,null,null,null,{"$f":"$E54*15","v":0},null,null,null,null,null,{"$f":"$E54*15","v":0},null,null,null,null,null,null,null,null,{"$f":"$E54*15","v":0},null,null,null,null,null,null,null,null,null,null,null,null,{"$f":"$E54*15","v":0},null,null,null,null,null,null,null,null,null,null,null,null,{"$f":"$E54*15","v":0},null,null,{"$f":"$E54*15","v":0},null,null,null,null,{"$f":"$E54*15","v":0},null,null,null,null,{"$f":"$E54*15","v":0},null,null,null,null,null,null,null,null,null,null,null,{"$f":"$E54*15","v":0},null,null,{"$f":"$E54*15","v":0},null,null,null,null,null,null,{"$f":"$E54*15","v":0},null,null,null,{"$f":"$E54*15","v":0},null,{"$f":"$E54*15","v":0},null,null,null,null,null,{"$f":"$E54*15","v":0},null,null,{"$f":"$E54*15","v":0}]
["David Moyes - Everton",null,null,0]
["Eddie Howe - Newcastle United",null,null,2,null,null,null,null,null,null,null,null,null,null,null,null,null,null,null,null,null,null,null,null,null,null,{"$f":"$E56*15","v":0},null,null,null,null,null,null,null,null,null,null,null,null,null,null,{"$f":"$E56*15","v":0}]
["Enzo Maresca - Chelsea",null,null,0]
["Fabian Hurzeler - Brighton",null,null,2,null,null,null,null,null,null,null,null,null,null,null,null,null,null,null,null,null,null,null,null,null,null,null,null,null,null,null,null,null,null,null,null,null,null,null,{"$f":"$E58*15","v":0},null,null,null,null,null,null,null,null,null,null,null,null,null,null,null,null,null,null,null,null,null,null,null,null,null,null,null,null,null,null,null,null,null,null,null,null,null,null,{"$f":"$E58*15","v":0}]
["Graham Potter - West Ham",null,null,5,null,null,null,null,null,null,null,null,null,null,null,null,null,null,null,null,null,null,null,null,null,null,null,{"$f":"$E59*15","v":0},null,null,null,null,null,null,null,null,null,null,null,null,null,null,null,null,null,null,null,{"$f":"$E59*15","v":0},null,null,null,null,null,null,{"$f":"$E59*15","v":0},null,null,null,null,null,null,{"$f":"$E59*15","v":0},null,null,null,null,null,null,null,null,null,null,null,null,null,null,null,{"$f":"$E59*15","v":0}]
["Keith Andrews - Brentford",null,null,34,null,null,null,null,null,null,null,{"$f":"$E60*15","v":0},null,null,{"$f":"$E60*15","v":0},null,null,{"$f":"$E60*15","v":0},null,{"$f":"$E60*15","v":0},null,null,null,{"$f":"$E60*15","v":0},null,null,null,null,{"$f":"$E60*15","v":0},{"$f":"$E60*15","v":0},null,null,{"$f":"$E60*15","v":0},null,null,null,null,{"$f":"$E60*15","v":0},{"$f":"$E60*15","v":0},null,{"$f":"$E60*15","v":0},null,null,null,{"$f":"$E60*15","v":0},null,{"$f":"$E60*15","v":0},null,null,{"$f":"$E60*15","v":0},null,null,{"$f":"$E60*15","v":0},null,null,{"$f":"$E60*15","v":0},null,null,null,null,{"$f":"$E60*15","v":0},null,null,null,null,{"$f":"$E60*15","v":0},null,{"$f":"$E60*15","v":0},{"$f":"$E60*15","v":0},null,{"$f":"$E60*15","v":0},{"$f":"$E60*15","v":0},null,null,{"$f":"$E60*15","v":0},null,{"$f":"$E60*15","v":0},null,null,{"$f":"$E60*15","v":0},{"$f":"$E60*15","v":0},null,null,null,null,{"$f":"$E60*15","v":0},{"$f":"$E60*15","v":0},null,null,null,null,null,null,{"$f":"$E60*15","v":0},{"$f":"$E60*15","v":0},null,null,null,{"$f":"$E60*15","v":0},{"$f":"$E60*15","v":0},null,{"$f":"$E60*15","v":0},{"$f":"$E60*15","v":0}]
["Marco Silva - Fulham",null,null,1,null,null,null,null,null,null,null,null,null,null,null,null,null,null,null,null,null,null,null,null,null,null,null,null,null,null,null,null,null,null,null,null,null,null,null,null,null,null,null,null,null,null,null,null,null,null,null,null,null,null,null,null,null,null,null,null,null,null,null,null,null,null,null,null,null,null,null,null,null,null,null,null,null,null,null,null,null,null,null,null,null,null,null,null,null,null,{"$f":"$E61*15","v":0}]
["Mikel Arteta - Arsenal",null,null,1,null,null,null,null,null,null,null,null,null,{"$f":"$E62*15","v":0}]
["Nuno Espirito Santo - Nottingham Forest",null,null,6,null,null,null,{"$f":"$E63*15","v":0},null,null,{"$f":"$E63*15","v":0},null,null,null,null,null,null,null,null,null,null,null,null,null,null,null,null,null,null,null,null,null,null,null,null,{"$f":"$E63*15","v":0},null,null,null,null,null,null,null,null,null,null,null,null,null,null,null,null,null,null,null,null,null,null,null,null,null,null,null,{"$f":"$E63*15","v":0},null,null,{"$f":"$E63*15","v":0},null,null,null,null,null,null,null,null,null,null,null,null,null,null,null,null,null,null,null,null,null,null,null,null,null,null,null,null,null,null,null,null,null,{"$f":"$E63*15","v":0}]
["Oliver Glasner - Crystal Palace",null,null,0]
["Pep Guardiola - Man City",null,null,1,null,null,null,null,null,null,null,null,null,null,null,null,null,null,{"$f":"$E65*15","v":0}]
["Regis Le Bris - Southampton",null,null,10,null,null,null,null,null,null,null,null,null,null,null,null,null,null,null,null,null,null,null,null,null,null,null,null,null,null,null,{"$f":"$E66*15","v":0},null,null,{"$f":"$E66*15","v":0},null,null,null,null,null,null,null,null,null,null,{"$f":"$E66*15","v":0},null,null,null,null,null,{"$f":"$E66*15","v":0},null,null,null,null,null,null,null,null,null,null,null,null,null,null,null,null,null,null,null,null,{"$f":"$E66*15","v":0},null,null,{"$f":"$E66*15","v":0},null,null,null,null,null,null,{"$f":"$E66*15","v":0},null,null,null,null,{"$f":"$E66*15","v":0},null,null,null,null,{"$f":"$E66*15","v":0},null,null,null,null,null,null,null,null,null,null,null,{"$f":"$E66*15","v":0}]
["Ruben Almiron - Man United",null,null,2,null,null,null,null,null,null,null,null,{"$f":"$E67*15","v":0},null,null,null,null,null,null,null,null,null,null,null,null,null,null,null,null,null,null,null,null,null,null,null,null,null,null,null,null,null,null,null,null,null,null,null,null,null,null,null,null,null,null,null,null,{"$f":"$E67*15","v":0}]
["Scott Parker - Burnley",null,null,10,null,null,null,null,null,{"$f":"$E68*15","v":0},null,null,null,null,null,null,{"$f":"$E68*15","v":0},null,null,null,{"$f":"$E68*15","v":0},null,null,null,null,{"$f":"$E68*15","v":0},null,null,null,null,null,null,null,null,null,null,{"$f":"$E68*15","v":0},null,null,null,null,null,{"$f":"$E68*15","v":0},null,null,null,null,null,null,null,null,null,null,{"$f":"$E68*15","v":0},null,null,null,null,null,null,null,null,null,null,null,null,null,null,null,null,null,null,null,{"$f":"$E68*15","v":0},null,null,null,null,null,null,null,null,null,null,null,null,null,null,{"$f":"$E68*15","v":0},{"$f":"$E68*15","v":0}]
["Thomas Frank - Spurs",null,null,2,null,null,null,null,null,null,null,null,null,null,null,null,null,null,null,null,null,null,null,null,null,null,null,null,null,null,null,null,null,null,null,null,null,null,null,null,null,null,null,null,null,null,null,null,null,null,null,null,null,null,null,null,null,null,null,null,null,null,{"$f":"$E69*15","v":0},null,null,null,null,null,null,null,null,null,null,null,null,null,null,null,null,null,null,null,null,{"$f":"$E69*15","v":0}]
["Unai Emery - Aston Villa",null,null,0]
["Vitor Pereira - Wolves",null,null,6,null,null,null,null,null,null,null,null,null,null,null,null,null,null,null,null,null,null,{"$f":"$E71*15","v":0},null,{"$f":"$E71*15","v":0},null,null,null,null,null,null,null,null,{"$f":"$E71*15","v":0},null,null,null,null,null,null,null,null,null,null,null,null,null,null,{"$f":"$E71*15","v":0},null,{"$f":"$E71*15","v":0},null,null,null,null,null,null,null,null,null,null,null,null,null,null,null,null,null,null,null,null,null,null,null,null,null,null,null,null,null,null,null,null,null,null,null,null,null,null,null,null,null,null,null,null,null,null,null,null,null,null,null,null,null,null,{"$f":"$E71*15","v":0}]
[]
["Total Points - August",null,null,null,null,null,null,{"$f":"SUM(H$3:H72)","v":92},{"$f":"SUM(I$3:I72)","v":70},{"$f":"SUM(J$3:J72)","v":101},{"$f":"SUM(K$3:K72)","v":81},{"$f":"SUM(L$3:L72)","v":88},{"$f":"SUM(M$3:M72)","v":73},{"$f":"SUM(N$3:N72)","v":80},{"$f":"SUM(O$3:O72)","v":86},{"$f":"SUM(P$3:P72)","v":103},{"$f":"SUM(Q$3:Q72)","v":102},{"$f":"SUM(R$3:R72)","v":92},{"$f":"SUM(S$3:S72)","v":102},{"$f":"SUM(T$3:T72)","v":73},{"$f":"SUM(U$3:U72)","v":62},{"$f":"SUM(V$3:V72)","v":102},{"$f":"SUM(W$3:W72)","v":90},{"$f":"SUM(X$3:X72)","v":88},{"$f":"SUM(Y$3:Y72)","v":105},{"$f":"SUM(Z$3:Z72)","v":97},{"$f":"SUM(AA$3:AA72)","v":68},{"$f":"SUM(AB$3:AB72)","v":68},{"$f":"SUM(AC$3:AC72)","v":87},{"$f":"SUM(AD$3:AD72)","v":95},{"$f":"SUM(AE$3:AE72)","v":106},{"$f":"SUM(AF$3:AF72)","v":72},{"$f":"SUM(AG$3:AG72)","v":101},{"$f":"SUM(AH$3:AH72)","v":87},{"$f":"SUM(AI$3:AI72)","v":75},{"$f":"SUM(AJ$3:AJ72)","v":77},{"$f":"SUM(AK$3:AK72)","v":85},{"$f":"SUM(AL$3:AL72)","v":90},{"$f":"SUM(AM$3:AM72)","v":101},{"$f":"SUM(AN$3:AN72)","v":57},{"$f":"SUM(AO$3:AO72)","v":58},{"$f":"SUM(AP$3:AP72)","v":78},{"$f":"SUM(AQ$3:AQ72)","v":92},{"$f":"SUM(AR$3:AR72)","v":98},{"$f":"SUM(AS$3:AS72)","v":93},{"$f":"SUM(AT$3:AT72)","v":93},{"$f":"SUM(AU$3:AU72)","v":77},{"$f":"SUM(AV$3:AV72)","v":97},{"$f":"SUM(AW$3:AW72)","v":104},{"$f":"SUM(AX$3:AX72)","v":71},{"$f":"SUM(AY$3:AY72)","v":93},{"$f":"SUM(AZ$3:AZ72)","v":94},{"$f":"SUM(BA$3:BA72)","v":68},{"$f":"SUM(BB$3:BB72)","v":66},{"$f":"SUM(BC$3:BC72)","v":88},{"$f":"SUM(BD$3:BD72)","v":97},{"$f":"SUM(BE$3:BE72)","v":105},{"$f":"SUM(BF$3:BF72)","v":68},{"$f":"SUM(BG$3:BG72)","v":108},{"$f":"SUM(BH$3:BH72)","v":83},{"$f":"SUM(BI$3:BI72)","v":82},{"$f":"SUM(BJ$3:BJ72)","v":48},{"$f":"SUM(BK$3:BK72)","v":82},{"$f":"SUM(BL$3:BL72)","v":89},{"$f":"SUM(BM$3:BM72)","v":88},{"$f":"SUM(BN$3:BN72)","v":93},{"$f":"SUM(BO$3:BO72)","v":78},{"$f":"SUM(BP$3:BP72)","v":97},{"$f":"SUM(BQ$3:BQ72)","v":110},{"$f":"SUM(BR$3:BR72)","v":77},{"$f":"SUM(BS$3:BS72)","v":87},{"$f":"SUM(BT$3:BT72)","v":78},{"$f":"SUM(BU$3:BU72)","v":87},{"$f":"SUM(BV$3:BV72)","v":88},{"$f":"SUM(BW$3:BW72)","v":77},{"$f":"SUM(BX$3:BX72)","v":99},{"$f":"SUM(BY$3:BY72)","v":70},{"$f":"SUM(BZ$3:BZ72)","v":72},{"$f":"SUM(CA$3:CA72)","v":77},{"$f":"SUM(CB$3:CB72)","v":73},{"$f":"SUM(CC$3:CC72)","v":72},{"$f":"SUM(CD$3:CD72)","v":85},{"$f":"SUM(CE$3:CE72)","v":72},{"$f":"SUM(CF$3:CF72)","v":55},{"$f":"SUM(CG$3:CG72)","v":83},{"$f":"SUM(CH$3:CH72)","v":98},{"$f":"SUM(CI$3:CI72)","v":73},{"$f":"SUM(CJ$3:CJ72)","v":103},{"$f":"SUM(CK$3:CK72)","v":81},{"$f":"SUM(CL$3:CL72)","v":71},{"$f":"SUM(CM$3:CM72)","v":73},{"$f":"SUM(CN$3:CN72)","v":63},{"$f":"SUM(CO$3:CO72)","v":68},{"$f":"SUM(CP$3:CP72)","v":107},{"$f":"SUM(CQ$3:CQ72)","v":106},{"$f":"SUM(CR$3:CR72)","v":83},{"$f":"SUM(CS$3:CS72)","v":78},{"$f":"SUM(CT$3:CT72)","v":69},{"$f":"SUM(CU$3:CU72)","v":73},{"$f":"SUM(CV$3:CV72)","v":62},{"$f":"SUM(CW$3:CW72)","v":75},{"$f":"SUM(CX$3:CX72)","v":77},{"$f":"SUM(CY$3:CY72)","v":77},{"$f":"SUM(CZ$3:CZ72)","v":98},{"$f":"SUM(DA$3:DA72)","v":97},{"$f":"SUM(DB$3:DB72)","v":82},{"$f":"SUM(DC$3:DC72)","v":102}]

{"sheet":"September","index":2,"n_rows":73,"n_cols":107,"rows_kept":73,"cut":false,"hidden":false,"merged":[[1,1,1,4]]}
[null,null,null,null,null,null,null,"Aaron Nealon","Aidan Scanlon","Aidan White","Alain Verjans","Anastas Popov","Andy Dunne","Benny McCarthy","Billy McGinley","Bobby Hynes","Brendan Maguire","Brian Haughton","Brian Hearne","Brian Mullen","Calvin McGettigan","Caoimhin McEnteggart","Carl Toner","Caroline Carroll","Chris Keohan","Christina Morgan","Ciaran O'Hart","Colin Butterly","Con McSweeney","Craig Calvert","Craig Whelan","Daniel Dorrian","Darragh Kenny","Darren O'Gorman","Dave Lavelle","Dave McGinley","David Cooney","David Doyle","David King","Derek McDonald","Dylan Delaney","Dylan O'Riordan","Eamon Fox","Eamonn Gallagher","Eoghan Farrelly","Finbarr Corkery","Frank McSweeney","Gareth Pierpoint","Gary Donnelly","Gary Fitzpatrick","Gavin Goodwin","Gavin Morgan","Gerry Draper","Gerry Moore","Graham Pierpoint","Greg Donaghy","Helen Fadian","Jack Draper","Jason Maloney","Javier Suarez","Jim Foley","Jimmy Maguire","Joe Behan","Joe Turner","John Brophy","John Cafferkey","Johno Percy","Jonathan Fox","Joseph Kavanagh","Joseph Leppla","Keith Nerney","Keith Ryan","Kev Dalton","Kevin Lawless","Kevin Nolan","Kieran Killeen","Liam Keohan","Lionel Knott","Martin Kimmins","Micheal Joyce","Micheal Munnelly","Monica Collins","Niall Carroll","Paddy Devereux","Paul Foley","Paul Moore","Paul Prendergast","Peter Lavelle","Phil Doyle","Philip Jordan","Phoebe Suarez Behan","Realtin Dunne","Rhea Suarez Behan","Richard Johnston","Robert Foley","Robert Gaffney","Roisin Joyce","Sam Calvert","Sean Cafferkey","Sean Cleary","Sean O'Mairtin","Shane Horan","Simon Scanlon","Thomas Nolan","Tommy Hamill","Tommy Tormey","Tommy Walsh"]
["Date","Teams",null,null,null,"Time"]
["2025-09-13","Arsenal",3,0,"Nott'm Forest","12:30:00",null,5,5,5,5,5,5,5,5,5,10,10,5,5,0,5,5,10,5,5,5,5,5,5,5,5,5,10,5,5,5,5,5,5,5,5,5,5,5,5,5,5,5,5,5,10,5,10,5,10,5,5,5,5,10,5,5,5,5,10,5,5,5,5,5,5,10,10,5,10,5,5,5,5,5,5,5,5,10,5,5,5,5,5,10,5,5,5,5,5,5,5,5,5,5,5,0,5,5,0,5]
["2025-09-13","Bournemouth",2,1,"Brighton",45913.625,null,0,0,5,10,0,0,10,0,0,0,10,0,0,0,0,0,10,10,10,0,10,10,10,10,10,0,10,5,0,0,10,0,0,0,0,0,0,0,0,10,0,5,0,10,10,5,0,10,10,5,0,10,0,0,0,0,5,0,0,10,5,10,10,10,0,10,10,0,0,10,10,10,0,0,10,0,5,5,0,10,0,0,0,0,10,0,10,0,10,5,0,0,10,0,0,0,10,0,0,10]
["2025-09-13","Crystal Palace",0,0,"Sunderland",45913.625,null,0,0,5,0,0,0,0,0,0,0,0,0,0,10,0,0,0,5,0,0,0,0,0,0,0,0,0,0,0,0,0,0,0,0,0,0,0,0,0,0,0,0,0,0,0,0,5,0,0,0,0,0,0,0,0,0,0,0,0,0,0,0,0,0,0,0,0,0,0,0,0,0,0,0,5,5,0,0,0,0,0,0,0,0,0,5,5,0,0,0,0,0,0,0,0,5,0,0,0,0]
["2025-09-13","Everton",0,0,"Aston Villa",45913.625,null,5,0,5,5,0,5,0,0,5,0,5,0,0,10,0,5,0,0,0,0,0,0,0,5,0,5,0,0,5,5,0,0,5,0,0,0,5,0,0,5,0,5,5,5,0,0,5,5,0,0,0,5,0,5,5,0,0,0,0,0,0,5,5,0,0,0,0,0,0,0,0,5,0,0,5,0,5,0,5,5,5,5,0,5,0,5,0,5,5,0,0,0,5,5,0,5,0,5,0,0]
["2025-09-13","Fulham",1,0,"Leeds Utd",45913.625,null,5,5,0,10,5,10,5,5,5,5,5,0,0,0,0,10,5,5,5,0,5,5,5,5,5,5,0,5,10,10,5,0,0,5,0,5,10,0,5,5,5,0,5,5,10,5,10,5,5,10,0,5,0,5,0,5,10,5,5,5,10,5,5,10,0,0,5,5,10,10,0,10,0,0,5,5,0,5,5,10,5,0,5,0,5,5,0,5,5,0,10,5,5,5,10,0,0,5,5,0]
["2025-09-13","Newcastle",1,0,"Wolves",45913.625,null,5,5,5,5,5,5,5,5,5,5,5,5,5,0,0,5,5,5,5,5,5,5,5,5,5,5,5,5,5,5,5,5,5,5,5,5,5,5,5,5,5,5,5,5,5,5,5,5,5,5,5,5,5,5,5,5,5,5,5,5,10,5,5,5,5,5,5,5,5,5,5,5,5,5,5,5,10,5,5,5,5,5,5,5,5,5,0,5,5,5,5,5,5,5,5,0,5,5,5,5]
["2025-09-13","West Ham",0,3,"Spurs","17:30:00",null,5,5,5,5,5,5,0,5,0,5,5,5,5,0,5,5,0,5,0,5,0,5,0,5,0,5,5,0,5,0,5,5,5,5,0,5,5,5,5,5,5,0,5,5,5,0,0,5,5,5,10,5,5,5,5,5,0,0,0,5,5,5,5,5,5,5,5,0,0,5,5,0,10,0,0,5,5,5,5,5,5,5,5,5,0,5,5,5,5,5,5,0,5,5,0,0,5,5,0,5]
["2025-09-13","Brentford",2,2,"Chelsea","20:00:00",null,0,0,0,0,0,0,0,0,0,0,0,0,0,5,0,0,0,0,0,0,0,0,0,5,0,0,0,0,5,0,0,0,0,0,0,0,0,0,0,5,0,0,0,0,0,0,0,0,0,0,0,0,0,0,0,0,5,0,0,0,0,0,10,0,0,0,0,0,0,0,0,0,0,0,0,0,0,5,0,0,0,0,0,0,0,0,0,0,10,0,0,0,0,0,10,5,0,0,10,0]
["2025-09-14","Burnley",0,1,"Liverpool","14:00:00",null,5,5,5,5,5,5,5,5,5,5,5,5,5,0,5,5,5,5,0,5,5,5,5,5,5,5,5,0,5,5,5,5,5,5,5,5,5,5,5,5,5,5,0,5,5,5,5,5,5,5,5,5,5,5,5,5,5,0,5,5,5,5,5,5,5,5,5,10,5,5,5,5,5,5,5,10,5,5,5,5,5,5,5,5,0,5,5,5,5,5,5,5,5,5,5,0,5,5,5,5]
["2025-09-14","Man City",3,0,"Man Utd","16:30:00",null,5,10,5,5,5,5,0,5,5,0,5,5,5,0,5,5,0,10,5,0,0,5,5,5,5,5,5,5,0,5,5,5,0,0,5,5,5,0,0,5,5,5,5,0,5,5,0,10,5,5,5,5,10,0,5,5,5,5,5,5,5,10,5,5,0,5,0,5,5,0,5,5,10,5,5,5,0,0,10,5,5,0,5,5,5,5,10,0,5,5,0,5,0,0,10,0,5,5,5,5]
["2025-09-20","Liverpool",2,1,"Everton","12:30:00",null,5,0,0,5,5,5,5,5,5,5,0,5,10,0,10,5,10,10,10,5,5,5,5,5,5,5,5,5,10,5,10,5,0,10,10,5,5,10,10,5,5,5,5,5,10,5,0,10,5,5,5,10,5,5,5,5,5,5,5,10,10,5,5,5,5,5,5,5,10,10,5,0,5,10,5,5,0,5,5,5,5,5,5,5,10,10,5,5,10,10,10,5,5,10,10,10,5,5,0,10]
["2025-09-20","Brighton",2,2,"Spurs",45920.625,null,10,0,5,5,5,5,5,0,5,5,5,0,0,5,5,0,0,0,0,0,0,0,5,0,5,0,0,0,5,10,0,0,0,0,5,0,0,0,5,5,0,0,0,0,0,0,10,5,0,5,0,0,0,0,5,5,10,5,5,5,0,0,5,0,5,0,0,5,5,0,10,5,0,5,5,0,0,5,10,0,0,0,0,10,0,10,0,10,5,5,0,0,0,10,5,0,0,5,0,0]
["2025-09-20","Burnley",1,1,"Nott'm Forest",45920.625,null,0,5,0,10,0,0,10,10,10,0,10,0,10,5,5,0,10,10,0,10,0,10,0,10,0,0,10,0,5,0,0,0,0,0,0,0,0,0,10,0,0,0,10,0,0,10,0,0,10,0,0,10,0,0,0,0,0,5,0,10,0,0,0,0,10,0,0,0,0,0,10,0,10,0,0,0,0,0,10,0,0,0,0,0,0,5,10,10,0,10,0,0,0,0,0,5,0,0,0,0]
["2025-09-20","West Ham",1,2,"Crystal Palace",45920.625,null,0,5,5,0,10,5,5,5,0,0,0,5,5,0,0,0,5,0,0,0,0,10,10,10,5,5,10,0,0,10,10,5,10,10,5,5,0,0,5,5,0,0,10,0,5,5,10,0,5,0,5,0,0,5,0,5,0,5,0,5,5,0,10,10,10,5,0,0,5,5,5,5,10,0,0,5,5,5,10,0,0,0,0,0,0,0,0,5,10,10,5,0,0,0,0,0,0,0,5,0]
["2025-09-20","Wolves",1,3,"Leeds Utd",45920.625,null,0,0,5,0,0,5,0,0,0,0,0,5,0,0,0,0,0,0,0,0,0,0,0,0,0,0,0,0,0,0,5,0,0,0,0,0,0,5,5,0,0,5,0,0,0,0,0,0,0,0,0,0,0,0,0,0,0,0,0,0,0,0,0,5,5,0,0,0,0,0,5,0,0,0,0,5,5,0,0,0,0,5,0,0,0,0,0,0,0,0,0,0,0,0,0,0,5,0,5,0]
["2025-09-20","Man Utd",2,1,"Chelsea","17:30:00",null,0,0,0,0,0,0,0,0,0,0,0,0,0,0,0,0,0,0,10,0,5,0,0,0,10,0,0,5,10,0,0,0,0,10,0,0,0,0,10,0,0,0,0,0,0,0,0,0,0,0,0,0,0,0,0,0,0,0,0,0,0,0,0,0,0,0,0,0,0,10,0,0,0,0,0,0,0,0,0,0,0,0,10,0,10,0,0,0,0,0,5,0,10,0,0,10,5,0,0,10]
["2025-09-20","Fulham",3,1,"Brentford","20:00:00",null,0,0,0,5,0,5,0,0,5,5,0,0,5,0,0,0,0,5,5,5,0,5,5,5,0,0,0,5,0,5,5,5,5,5,0,5,5,0,0,0,5,5,5,5,5,5,0,0,5,5,0,5,0,5,0,0,5,0,5,5,5,5,0,5,5,5,5,5,0,5,5,5,0,0,0,0,0,0,5,5,5,0,5,0,5,0,5,5,5,5,5,5,0,5,5,0,0,0,0,5]
["2025-09-21","Bournemouth",0,0,"Newcastle","14:00:00",null,0,0,5,0,0,0,0,0,5,5,5,0,0,10,10,0,5,0,0,5,0,0,5,0,0,0,5,0,5,0,0,5,0,5,0,0,0,0,5,5,5,0,0,0,5,0,5,0,0,5,0,5,0,5,0,5,0,0,0,0,0,0,0,0,0,0,0,0,0,0,0,0,0,0,5,0,0,5,0,0,5,0,0,0,0,0,0,0,5,0,0,5,0,0,0,0,0,5,0,0]
["2025-09-21","Sunderland",1,1,"Aston Villa","14:00:00",null,0,0,10,10,5,0,5,0,0,0,10,0,10,5,0,0,0,10,0,0,0,0,0,0,0,0,0,0,10,10,0,0,10,0,0,0,0,10,0,0,0,0,10,10,0,5,0,0,0,0,0,0,0,10,0,0,10,0,0,0,0,0,10,0,0,0,10,0,10,0,0,10,10,10,10,0,0,5,10,0,0,0,0,0,0,0,10,0,10,10,0,0,0,0,0,0,0,0,0,0]
["2025-09-21","Arsenal",1,1,"Man City","16:30:00",null,10,5,5,5,0,0,5,0,10,0,10,0,0,5,0,10,10,5,0,10,0,0,0,5,10,10,0,0,0,5,0,0,0,5,0,0,10,0,0,0,10,5,0,10,0,0,0,10,5,0,0,0,0,0,10,0,5,0,0,0,0,0,5,0,10,0,5,10,5,5,10,0,0,0,0,5,0,0,5,0,10,0,0,5,0,5,5,0,0,10,5,5,0,0,5,5,10,10,5,0]
["2025-09-27","Brentford",3,1,"Man Utd","12:30:00",null,5,5,0,0,0,5,0,0,0,0,0,0,0,"-",0,5,0,0,5,0,0,0,0,0,0,0,0,5,0,5,0,0,0,0,0,0,0,5,0,0,0,0,0,0,0,0,0,0,0,0,0,0,0,0,0,0,0,5,0,0,0,0,0,0,0,0,0,0,5,0,0,0,0,5,0,0,0,5,0,0,0,0,0,0,5,0,0,5,0,0,0,0,5,0,0,0,0,5,0,5]
["2025-09-27","Chelsea",1,3,"Brighton",45927.625,null,0,0,0,0,0,0,5,0,0,0,0,0,0,"-",0,0,0,0,0,0,5,0,0,0,0,0,0,0,0,0,0,0,0,0,0,0,0,0,0,0,0,0,0,0,0,0,0,0,0,0,0,0,0,0,0,0,0,0,0,0,0,0,0,0,0,0,0,0,0,0,0,0,0,0,0,0,0,0,0,0,0,0,0,0,0,0,0,0,0,0,0,0,0,0,0,0,0,0,0,0]
["2025-09-27","Crystal Palace",2,1,"Liverpool",45927.625,null,0,0,0,0,0,0,0,5,0,0,0,0,0,"-",0,5,0,0,10,0,0,0,0,0,0,0,0,5,0,0,0,0,0,0,0,0,0,0,0,0,0,0,0,0,0,0,0,0,0,0,0,0,0,0,0,0,0,0,0,0,0,0,0,0,0,0,0,0,10,0,0,0,0,0,0,0,0,0,0,0,0,0,0,0,10,0,0,0,0,0,0,0,5,0,0,0,0,0,0,0]
["2025-09-27","Leeds Utd",2,2,"Bournemouth",45927.625,null,5,0,5,5,0,0,0,0,0,10,0,0,0,"-",0,0,0,0,0,0,0,0,5,0,0,5,0,0,5,0,0,0,0,10,5,5,0,0,0,0,0,5,0,5,0,0,5,0,0,5,0,5,10,0,0,0,0,0,5,0,0,0,0,0,0,0,5,0,0,5,0,0,0,5,5,0,0,0,5,0,0,0,0,10,0,5,0,5,0,5,0,5,0,0,0,10,5,5,10,0]
["2025-09-27","Man City",5,1,"Burnley",45927.625,null,5,5,5,5,5,5,5,5,5,5,5,5,5,"-",5,5,5,5,5,5,5,5,5,5,5,5,5,5,5,5,5,5,5,5,5,5,5,5,5,5,5,5,5,5,5,5,5,5,5,5,5,5,5,5,5,5,5,5,5,5,5,5,5,5,5,5,5,5,5,5,5,5,5,5,5,5,5,5,5,5,5,5,5,5,5,5,5,5,5,5,5,5,5,5,5,5,5,5,5,5]
["2025-09-27","Nott'm Forest",0,1,"Sunderland","17:30:00",null,0,0,0,0,0,0,0,10,0,0,0,0,0,"-",10,0,0,0,0,0,0,0,0,0,0,0,0,0,0,0,5,5,0,0,0,0,0,5,0,0,0,0,0,0,0,0,0,0,0,0,0,0,0,5,0,0,0,0,0,0,0,0,0,0,0,0,0,0,0,0,0,0,0,0,0,0,0,0,0,0,0,0,0,5,0,0,0,0,0,0,5,0,0,0,0,0,0,0,0,0]
["2025-09-27","Spurs",1,1,"Wolves","20:00:00",null,0,0,0,0,0,0,0,0,0,0,0,0,0,"-",0,0,0,0,0,0,0,0,0,0,0,0,0,0,0,0,0,0,0,0,0,0,0,0,0,0,0,0,0,0,0,0,0,0,0,0,0,0,0,0,0,0,0,0,0,0,0,0,0,0,0,0,0,0,0,0,0,0,0,0,0,0,0,0,0,0,0,0,0,0,0,5,0,0,0,0,0,0,0,0,0,0,0,0,0,0]
["2025-09-28","Aston Villa",3,1,"Fulham","14:00:00",null,5,5,5,5,0,5,0,0,0,0,5,0,0,"-",0,0,0,5,5,5,5,0,0,0,0,5,5,5,5,5,0,0,0,0,5,0,5,5,0,0,5,0,0,5,0,0,0,5,0,5,0,5,5,0,0,0,5,0,5,0,5,5,0,0,0,5,0,0,0,0,0,0,0,0,0,0,0,5,0,5,5,0,0,5,5,0,5,0,5,0,0,5,5,5,5,5,5,0,0,5]
["2025-09-28","Newcastle",1,2,"Arsenal","16:30:00",null,5,0,10,0,10,0,0,5,5,10,10,5,10,"-",0,5,10,0,0,0,10,10,0,0,5,10,0,0,0,10,10,0,0,10,10,10,0,10,5,10,0,0,0,10,0,0,5,10,0,10,5,0,0,10,10,10,0,0,10,0,5,0,5,5,5,0,5,10,10,5,0,5,5,10,10,0,10,0,0,10,10,5,5,0,0,5,5,0,0,5,0,5,10,10,0,0,0,0,0,0]
["2025-09-29","Everton",1,1,"West Ham","20:00:00",null,0,0,0,0,0,0,0,0,0,0,0,10,0,"-",5,10,0,0,0,0,0,0,0,0,0,0,0,"-",0,0,0,0,0,0,0,0,0,0,0,0,0,0,0,0,0,0,0,0,0,0,0,0,0,0,0,0,0,0,0,0,0,0,0,0,0,0,0,0,5,0,0,0,0,0,0,0,0,0,0,0,0,0,0,5,0,0,0,0,0,0,0,0,0,5,0,0,0,0,5,0]
[]
["Golden Boots"]
["Alexander Isak - Liverpool",null,null,{"$f":"COUNT(H35:JB35)","v":31},{"$f":"0+0+0","v":0},null,null,null,{"$f":"$E35*2","v":0},null,{"$f":"$E35*2","v":0},null,{"$f":"$E35*2","v":0},null,null,{"$f":"$E35*2","v":0},null,null,null,{"$f":"$E35*2","v":0},null,null,null,null,null,null,null,{"$f":"$E35*2","v":0},null,null,{"$f":"$E35*2","v":0},0,null,null,0,null,null,null,{"$f":"$E35*2","v":0},null,0,0,null,0,0,0,null,null,{"$f":"$E35*2","v":0},0,0,null,null,null,null,null,null,0,null,0,null,{"$f":"$E35*2","v":0},null,null,null,{"$f":"$E35*2","v":0},null,null,0,null,null,null,null,null,null,null,null,null,null,null,null,null,{"$f":"$E35*2","v":0},{"$f":"$E35*2","v":0},{"$f":"$E35*2","v":0},{"$f":"$E35*2","v":0},{"$f":"$E35*2","v":0},null,null,null,null,null,null,null,null,{"$f":"$E35*2","v":0},null,null,{"$f":"$E35*2","v":0},null,null,null,null,{"$f":"$E35*2","v":0}]
["Bryan Mbeumo - Man United",null,null,6,{"$f":"0+0+0","v":0},null,null,null,null,null,null,null,null,null,null,null,null,null,null,null,null,null,null,null,{"$f":"$E36*2","v":0},null,null,null,null,0,null,null,null,null,null,null,null,null,null,0,null,null,null,null,null,null,null,null,null,null,null,null,null,null,null,null,null,null,null,null,null,null,null,null,null,null,null,null,null,null,null,null,null,null,null,null,null,null,null,null,null,{"$f":"$E36*2","v":0},null,null,null,null,null,null,null,null,null,null,null,null,null,null,{"$f":"$E36*2","v":0},null,null,null,null,null,{"$f":"$E36*2","v":0}]
["Chris Wood - Nottingham Forest",null,null,5,{"$f":"0+0+0","v":0},null,null,null,null,null,null,null,null,null,null,null,null,null,{"$f":"$E37*2","v":0},null,null,{"$f":"$E37*2","v":0},null,null,null,null,null,null,null,null,null,null,null,null,null,null,null,null,null,null,null,null,null,null,null,null,null,null,null,null,null,null,null,null,null,null,null,null,null,null,null,null,null,null,null,null,null,null,null,null,null,null,null,null,null,{"$f":"$E37*2","v":0},null,null,null,null,{"$f":"$E37*2","v":0},null,null,null,null,null,null,null,null,null,null,null,null,null,null,null,null,null,null,null,null,null,null,null,null,{"$f":"$E37*2","v":0}]
["Cole Palmer - Chelsea",null,null,27,{"$f":"1+0+0","v":1},null,null,null,null,{"$f":"$E38*2","v":2},{"$f":"$E38*2","v":2},{"$f":"$E38*2","v":2},null,{"$f":"$E38*2","v":2},{"$f":"$E38*2","v":2},null,null,null,null,null,null,null,{"$f":"$E38*2","v":2},{"$f":"$E38*2","v":2},null,null,{"$f":"$E38*2","v":2},null,null,null,null,null,2,null,null,null,{"$f":"$E38*2","v":2},null,null,null,null,null,null,null,null,null,null,null,{"$f":"$E38*2","v":2},null,null,null,2,null,{"$f":"$E38*2","v":2},null,{"$f":"$E38*2","v":2},null,2,null,null,null,null,{"$f":"$E38*2","v":2},{"$f":"$E38*2","v":2},null,2,null,null,null,null,2,null,null,null,{"$f":"$E38*2","v":2},null,null,null,{"$f":"$E38*2","v":2},null,null,{"$f":"$E38*2","v":2},{"$f":"$E38*2","v":2},null,null,null,{"$f":"$E38*2","v":2},null,null,null,null,null,null,{"$f":"$E38*2","v":2},null,{"$f":"$E38*2","v":2},{"$f":"$E38*2","v":2}]
["Erling Haaland - Man City",null,null,80,{"$f":"2+1+2","v":5},null,null,{"$f":"$E39*2","v":10},{"$f":"$E39*2","v":10},null,{"$f":"$E39*2","v":10},{"$f":"$E39*2","v":10},{"$f":"$E39*2","v":10},null,null,{"$f":"$E39*2","v":10},10,10,10,10,{"$f":"$E39*2","v":10},10,{"$f":"$E39*2","v":10},{"$f":"$E39*2","v":10},{"$f":"$E39*2","v":10},{"$f":"$E39*2","v":10},{"$f":"$E39*2","v":10},{"$f":"$E39*2","v":10},{"$f":"$E39*2","v":10},{"$f":"$E39*2","v":10},null,null,null,{"$f":"$E39*2","v":10},10,10,10,null,null,{"$f":"$E39*2","v":10},10,10,{"$f":"$E39*2","v":10},{"$f":"$E39*2","v":10},{"$f":"$E39*2","v":10},{"$f":"$E39*2","v":10},10,10,null,null,{"$f":"$E39*2","v":10},10,10,null,10,10,10,{"$f":"$E39*2","v":10},10,10,10,{"$f":"$E39*2","v":10},{"$f":"$E39*2","v":10},null,10,10,10,10,10,10,10,10,10,{"$f":"$E39*2","v":10},{"$f":"$E39*2","v":10},null,null,{"$f":"$E39*2","v":10},{"$f":"$E39*2","v":10},{"$f":"$E39*2","v":10},{"$f":"$E39*2","v":10},{"$f":"$E39*2","v":10},null,null,{"$f":"$E39*2","v":10},{"$f":"$E39*2","v":10},{"$f":"$E39*2","v":10},{"$f":"$E39*2","v":10},null,null,{"$f":"$E39*2","v":10},{"$f":"$E39*2","v":10},{"$f":"$E39*2","v":10},{"$f":"$E39*2","v":10},null,{"$f":"$E39*2","v":10},{"$f":"$E39*2","v":10},null,{"$f":"$E39*2","v":10},{"$f":"$E39*2","v":10},10,10,10,10,10,10,10]
["Hugo Ekitike - Liverpool",null,null,12,{"$f":"0+1+0","v":1},null,null,null,null,null,null,null,null,null,null,null,null,{"$f":"$E40*2","v":2},null,null,null,null,null,null,null,{"$f":"$E40*2","v":2},null,null,null,null,null,null,null,null,null,null,null,{"$f":"$E40*2","v":2},{"$f":"$E40*2","v":2},2,null,null,null,null,null,null,null,null,2,null,null,2,null,null,null,null,2,null,null,null,null,null,null,null,null,null,null,null,null,null,null,null,null,null,null,null,{"$f":"$E40*2","v":2},{"$f":"$E40*2","v":2},null,null,null,null,null,null,null,null,null,null,null,{"$f":"$E40*2","v":2},null,null,null,null,null,null,null,null,null,null,null,null,null,null,null,null,{"$f":"$E40*2","v":2}]
["Jean-Philippe Mateta - Crystal Palace",null,null,5,{"$f":"0+1+0","v":1},null,null,null,null,null,null,null,null,null,null,null,null,null,null,null,null,null,null,null,null,null,null,null,null,null,null,null,null,null,null,null,null,null,null,null,null,null,null,null,null,null,null,null,null,null,null,null,null,null,null,null,null,null,null,null,null,null,null,{"$f":"$E41*2","v":2},null,null,null,null,null,null,null,null,null,null,null,null,{"$f":"$E41*2","v":2},null,null,null,null,null,null,null,null,null,null,null,null,{"$f":"$E41*2","v":2},null,null,null,null,null,null,null,{"$f":"$E41*2","v":2},null,null,{"$f":"$E41*2","v":2}]
["Jorgen Strand Larsen - Wolves",null,null,1,{"$f":"0+0+0","v":0},null,null,null,null,null,null,null,null,null,null,null,null,null,null,null,null,null,null,null,null,null,null,null,null,null,null,null,null,null,null,null,null,null,null,null,null,null,null,null,null,null,null,null,null,null,null,null,null,null,null,null,null,null,null,null,null,null,null,null,null,null,null,null,null,null,null,null,null,{"$f":"$E42*2","v":0}]
["Justin Kluivert - Bournemouth",null,null,1,{"$f":"0+0+0","v":0},null,null,null,null,null,null,null,null,{"$f":"$E43*2","v":0}]
["Liam Delap - Chelsea",null,null,1,{"$f":"0+0+0","v":0},null,null,null,null,null,null,null,null,null,null,null,null,null,null,null,null,null,null,null,null,null,null,null,null,null,null,null,null,null,null,null,null,null,null,null,null,null,null,null,null,null,null,null,null,null,null,null,null,null,null,null,null,null,null,null,null,null,null,null,null,null,null,null,null,null,null,null,null,null,null,null,null,null,null,null,null,null,null,null,null,null,null,null,null,{"$f":"$E44*2","v":0}]
["Matheus Cunha - Man United",null,null,5,{"$f":"0+0+0","v":0},null,null,null,null,null,null,null,null,{"$f":"$E45*2","v":0},null,null,null,null,null,null,null,null,null,null,null,null,null,null,null,null,null,null,null,null,null,null,null,null,null,null,null,null,null,null,null,null,null,null,null,null,null,null,null,{"$f":"$E45*2","v":0},null,null,null,null,null,null,null,null,null,null,null,null,null,null,null,null,null,null,null,null,null,null,null,null,null,null,null,null,null,{"$f":"$E45*2","v":0},null,null,null,null,{"$f":"$E45*2","v":0},null,{"$f":"$E45*2","v":0}]
["Mohamed Salah - Liverpool",null,null,83,{"$f":"1+0+0","v":1},null,null,{"$f":"$E46*2","v":2},null,{"$f":"$E46*2","v":2},null,{"$f":"$E46*2","v":2},{"$f":"$E46*2","v":2},null,{"$f":"$E46*2","v":2},{"$f":"$E46*2","v":2},{"$f":"$E46*2","v":2},{"$f":"$E46*2","v":2},{"$f":"$E46*2","v":2},{"$f":"$E46*2","v":2},{"$f":"$E46*2","v":2},{"$f":"$E46*2","v":2},null,2,{"$f":"$E46*2","v":2},{"$f":"$E46*2","v":2},2,{"$f":"$E46*2","v":2},{"$f":"$E46*2","v":2},2,2,2,2,2,null,{"$f":"$E46*2","v":2},null,{"$f":"$E46*2","v":2},2,null,2,2,2,2,{"$f":"$E46*2","v":2},2,2,2,null,{"$f":"$E46*2","v":2},2,null,{"$f":"$E46*2","v":2},2,2,2,null,{"$f":"$E46*2","v":2},{"$f":"$E46*2","v":2},2,{"$f":"$E46*2","v":2},{"$f":"$E46*2","v":2},{"$f":"$E46*2","v":2},{"$f":"$E46*2","v":2},2,2,2,2,null,{"$f":"$E46*2","v":2},2,2,2,{"$f":"$E46*2","v":2},{"$f":"$E46*2","v":2},null,null,{"$f":"$E46*2","v":2},2,{"$f":"$E46*2","v":2},{"$f":"$E46*2","v":2},2,{"$f":"$E46*2","v":2},null,{"$f":"$E46*2","v":2},{"$f":"$E46*2","v":2},{"$f":"$E46*2","v":2},{"$f":"$E46*2","v":2},{"$f":"$E46*2","v":2},null,{"$f":"$E46*2","v":2},{"$f":"$E46*2","v":2},{"$f":"$E46*2","v":2},{"$f":"$E46*2","v":2},{"$f":"$E46*2","v":2},{"$f":"$E46*2","v":2},null,{"$f":"$E46*2","v":2},2,{"$f":"$E46*2","v":2},2,{"$f":"$E46*2","v":2},null,2,2,{"$f":"$E46*2","v":2},2]
["Ollie Watkins - Aston Villa",null,null,3,{"$f":"0+0+1","v":1},null,null,null,null,null,null,null,null,null,null,null,null,null,null,null,null,null,null,null,null,null,null,null,null,null,null,2,null,null,null,null,null,null,null,null,null,null,null,null,null,null,null,null,null,null,null,null,null,null,null,null,null,null,null,null,null,null,null,null,null,null,null,null,null,null,null,null,null,null,null,{"$f":"$E47*2","v":2},null,null,null,null,null,null,null,null,null,null,null,null,null,null,null,{"$f":"$E47*2","v":2}]
["Viktor Gyokeres - Arsenal",null,null,39,{"$f":"1+0+0","v":1},null,null,{"$f":"$E48*2","v":2},{"$f":"$E48*2","v":2},{"$f":"$E48*2","v":2},null,null,null,null,{"$f":"$E48*2","v":2},null,{"$f":"$E48*2","v":2},null,null,null,{"$f":"$E48*2","v":2},null,{"$f":"$E48*2","v":2},null,null,null,null,null,{"$f":"$E48*2","v":2},null,{"$f":"$E48*2","v":2},null,{"$f":"$E48*2","v":2},2,2,2,2,2,null,null,null,null,{"$f":"$E48*2","v":2},null,null,null,{"$f":"$E48*2","v":2},2,null,{"$f":"$E48*2","v":2},null,{"$f":"$E48*2","v":2},null,{"$f":"$E48*2","v":2},null,{"$f":"$E48*2","v":2},null,null,null,null,{"$f":"$E48*2","v":2},null,{"$f":"$E48*2","v":2},null,null,null,null,{"$f":"$E48*2","v":2},2,2,2,null,{"$f":"$E48*2","v":2},null,{"$f":"$E48*2","v":2},null,{"$f":"$E48*2","v":2},null,{"$f":"$E48*2","v":2},null,null,null,null,null,null,null,null,null,{"$f":"$E48*2","v":2},null,null,null,null,{"$f":"$E48*2","v":2},{"$f":"$E48*2","v":2},null,null,null,null,{"$f":"$E48*2","v":2},null,{"$f":"$E48*2","v":2},{"$f":"$E48*2","v":2},null,{"$f":"$E48*2","v":2}]
["Yoane Wissa - Newcastle",null,null,1,{"$f":"0+0+0","v":0},null,null,null,null,null,null,null,null,null,null,null,null,null,null,null,null,null,null,null,null,null,null,null,null,null,null,null,null,null,null,null,null,null,null,null,null,null,null,null,null,null,null,null,null,null,null,null,null,null,null,null,null,null,null,null,null,null,null,null,null,null,null,null,null,null,null,null,null,null,null,null,null,null,null,null,null,null,null,null,null,null,null,null,null,null,null,null,{"$f":"$E49*2","v":0}]
[]
["Sack Race"]
["Andoni Iraola - Bournemouth",null,null,{"$f":"COUNT(H52:JB52)","v":2},null,null,null,null,null,null,null,null,null,null,null,null,null,null,null,null,null,null,null,null,null,null,null,null,null,null,null,null,null,null,null,null,null,null,null,null,null,null,null,null,null,null,null,null,null,null,null,null,null,null,null,null,null,null,{"$f":"$E52*15","v":0},null,null,null,null,null,null,null,null,null,null,null,null,null,null,null,null,null,null,null,null,null,null,null,null,null,null,null,null,null,null,null,null,null,null,null,null,null,{"$f":"$E52*15","v":0}]
["Arne Slot - Liverpool",null,null,0]
["Daniel Farke - Leeds United",null,null,16,null,null,null,null,{"$f":"$E54*15","v":0},null,null,null,null,null,null,{"$f":"$E54*15","v":0},null,null,null,null,null,{"$f":"$E54*15","v":0},null,null,null,null,null,null,null,null,{"$f":"$E54*15","v":0},null,null,null,null,null,null,null,null,null,null,null,null,{"$f":"$E54*15","v":0},null,null,null,null,null,null,null,null,null,null,null,null,{"$f":"$E54*15","v":0},null,null,{"$f":"$E54*15","v":0},null,null,null,null,{"$f":"$E54*15","v":0},null,null,null,null,{"$f":"$E54*15","v":0},null,null,null,null,null,null,null,null,null,null,null,{"$f":"$E54*15","v":0},null,null,{"$f":"$E54*15","v":0},null,null,null,null,null,null,{"$f":"$E54*15","v":0},null,null,null,{"$f":"$E54*15","v":0},null,{"$f":"$E54*15","v":0},null,null,null,null,null,{"$f":"$E54*15","v":0},null,null,{"$f":"$E54*15","v":0}]
["David Moyes - Everton",null,null,0]
["Eddie Howe - Newcastle United",null,null,2,null,null,null,null,null,null,null,null,null,null,null,null,null,null,null,null,null,null,null,null,null,null,{"$f":"$E56*15","v":0},null,null,null,null,null,null,null,null,null,null,null,null,null,null,{"$f":"$E56*15","v":0}]
["Enzo Maresca - Chelsea",null,null,0]
["Fabian Hurzeler - Brighton",null,null,2,null,null,null,null,null,null,null,null,null,null,null,null,null,null,null,null,null,null,null,null,null,null,null,null,null,null,null,null,null,null,null,null,null,null,null,{"$f":"$E58*15","v":0},null,null,null,null,null,null,null,null,null,null,null,null,null,null,null,null,null,null,null,null,null,null,null,null,null,null,null,null,null,null,null,null,null,null,null,null,null,null,{"$f":"$E58*15","v":0}]
["Graham Potter - West Ham",null,null,5,null,null,null,null,null,null,null,null,null,null,null,null,null,null,null,null,null,null,null,null,null,null,null,{"$f":"$E59*15","v":0},null,null,null,null,null,null,null,null,null,null,null,null,null,null,null,null,null,null,null,{"$f":"$E59*15","v":0},null,null,null,null,null,null,{"$f":"$E59*15","v":0},null,null,null,null,null,null,{"$f":"$E59*15","v":0},null,null,null,null,null,null,null,null,null,null,null,null,null,null,null,{"$f":"$E59*15","v":0}]
["Keith Andrews - Brentford",null,null,34,null,null,null,null,null,null,null,{"$f":"$E60*15","v":0},null,null,{"$f":"$E60*15","v":0},null,null,{"$f":"$E60*15","v":0},null,{"$f":"$E60*15","v":0},null,null,null,{"$f":"$E60*15","v":0},null,null,null,null,{"$f":"$E60*15","v":0},{"$f":"$E60*15","v":0},null,null,{"$f":"$E60*15","v":0},null,null,null,null,{"$f":"$E60*15","v":0},{"$f":"$E60*15","v":0},null,{"$f":"$E60*15","v":0},null,null,null,{"$f":"$E60*15","v":0},null,{"$f":"$E60*15","v":0},null,null,{"$f":"$E60*15","v":0},null,null,{"$f":"$E60*15","v":0},null,null,{"$f":"$E60*15","v":0},null,null,null,null,{"$f":"$E60*15","v":0},null,null,null,null,{"$f":"$E60*15","v":0},null,{"$f":"$E60*15","v":0},{"$f":"$E60*15","v":0},null,{"$f":"$E60*15","v":0},{"$f":"$E60*15","v":0},null,null,{"$f":"$E60*15","v":0},null,{"$f":"$E60*15","v":0},null,null,{"$f":"$E60*15","v":0},{"$f":"$E60*15","v":0},null,null,null,null,{"$f":"$E60*15","v":0},{"$f":"$E60*15","v":0},null,null,null,null,null,null,{"$f":"$E60*15","v":0},{"$f":"$E60*15","v":0},null,null,null,{"$f":"$E60*15","v":0},{"$f":"$E60*15","v":0},null,{"$f":"$E60*15","v":0},{"$f":"$E60*15","v":0}]
["Marco Silva - Fulham",null,null,1,null,null,null,null,null,null,null,null,null,null,null,null,null,null,null,null,null,null,null,null,null,null,null,null,null,null,null,null,null,null,null,null,null,null,null,null,null,null,null,null,null,null,null,null,null,null,null,null,null,null,null,null,null,null,null,null,null,null,null,null,null,null,null,null,null,null,null,null,null,null,null,null,null,null,null,null,null,null,null,null,null,null,null,null,null,null,{"$f":"$E61*15","v":0}]
["Mikel Arteta - Arsenal",null,null,1,null,null,null,null,null,null,null,null,null,{"$f":"$E62*15","v":0}]
["Nuno Espirito Santo - Nottingham Forest",null,null,6,1,null,null,{"$f":"$E63*15","v":15},null,null,{"$f":"$E63*15","v":15},null,null,null,null,null,null,null,null,null,null,null,null,null,null,null,null,null,null,null,null,null,null,null,null,{"$f":"$E63*15","v":15},null,null,null,null,null,null,null,null,null,null,null,null,null,null,null,null,null,null,null,null,null,null,null,null,null,null,null,{"$f":"$E63*15","v":15},null,null,{"$f":"$E63*15","v":15},null,null,null,null,null,null,null,null,null,null,null,null,null,null,null,null,null,null,null,null,null,null,null,null,null,null,null,null,null,null,null,null,null,{"$f":"$E63*15","v":15}]
["Oliver Glasner - Crystal Palace",null,null,0]
["Pep Guardiola - Man City",null,null,1,null,null,null,null,null,null,null,null,null,null,null,null,null,null,{"$f":"$E65*15","v":0}]
["Regis Le Bris - Southampton",null,null,10,null,null,null,null,null,null,null,null,null,null,null,null,null,null,null,null,null,null,null,null,null,null,null,null,null,null,null,{"$f":"$E66*15","v":0},null,null,{"$f":"$E66*15","v":0},null,null,null,null,null,null,null,null,null,null,{"$f":"$E66*15","v":0},null,null,null,null,null,{"$f":"$E66*15","v":0},null,null,null,null,null,null,null,null,null,null,null,null,null,null,null,null,null,null,null,null,{"$f":"$E66*15","v":0},null,null,{"$f":"$E66*15","v":0},null,null,null,null,null,null,{"$f":"$E66*15","v":0},null,null,null,null,{"$f":"$E66*15","v":0},null,null,null,null,{"$f":"$E66*15","v":0},null,null,null,null,null,null,null,null,null,null,null,{"$f":"$E66*15","v":0}]
["Ruben Almiron - Man United",null,null,2,null,null,null,null,null,null,null,null,{"$f":"$E67*15","v":0},null,null,null,null,null,null,null,null,null,null,null,null,null,null,null,null,null,null,null,null,null,null,null,null,null,null,null,null,null,null,null,null,null,null,null,null,null,null,null,null,null,null,null,null,{"$f":"$E67*15","v":0}]
["Scott Parker - Burnley",null,null,10,null,null,null,null,null,{"$f":"$E68*15","v":0},null,null,null,null,null,null,{"$f":"$E68*15","v":0},null,null,null,{"$f":"$E68*15","v":0},null,null,null,null,{"$f":"$E68*15","v":0},null,null,null,null,null,null,null,null,null,null,{"$f":"$E68*15","v":0},null,null,null,null,null,{"$f":"$E68*15","v":0},null,null,null,null,null,null,null,null,null,null,{"$f":"$E68*15","v":0},null,null,null,null,null,null,null,null,null,null,null,null,null,null,null,null,null,null,null,{"$f":"$E68*15","v":0},null,null,null,null,null,null,null,null,null,null,null,null,null,null,{"$f":"$E68*15","v":0},{"$f":"$E68*15","v":0}]
["Thomas Frank - Spurs",null,null,2,null,null,null,null,null,null,null,null,null,null,null,null,null,null,null,null,null,null,null,null,null,null,null,null,null,null,null,null,null,null,null,null,null,null,null,null,null,null,null,null,null,null,null,null,null,null,null,null,null,null,null,null,null,null,null,null,null,null,{"$f":"$E69*15","v":0},null,null,null,null,null,null,null,null,null,null,null,null,null,null,null,null,null,null,null,null,{"$f":"$E69*15","v":0}]
["Unai Emery - Aston Villa",null,null,0]
["Vitor Pereira - Wolves",null,null,6,null,null,null,null,null,null,null,null,null,null,null,null,null,null,null,null,null,null,{"$f":"$E71*15","v":0},null,{"$f":"$E71*15","v":0},null,null,null,null,null,null,null,null,{"$f":"$E71*15","v":0},null,null,null,null,null,null,null,null,null,null,null,null,null,null,{"$f":"$E71*15","v":0},null,{"$f":"$E71*15","v":0},null,null,null,null,null,null,null,null,null,null,null,null,null,null,null,null,null,null,null,null,null,null,null,null,null,null,null,null,null,null,null,null,null,null,null,null,null,null,null,null,null,null,null,null,null,null,null,null,null,null,null,null,null,null,{"$f":"$E71*15","v":0}]
[]
["Total Points - September",null,null,null,null,null,null,{"$f":"SUM(H$3:H72)","v":114},{"$f":"SUM(I$3:I72)","v":77},{"$f":"SUM(J$3:J72)","v":106},{"$f":"SUM(K$3:K72)","v":132},{"$f":"SUM(L$3:L72)","v":84},{"$f":"SUM(M$3:M72)","v":92},{"$f":"SUM(N$3:N72)","v":77},{"$f":"SUM(O$3:O72)","v":81},{"$f":"SUM(P$3:P72)","v":92},{"$f":"SUM(Q$3:Q72)","v":89},{"$f":"SUM(R$3:R72)","v":124},{"$f":"SUM(S$3:S72)","v":72},{"$f":"SUM(T$3:T72)","v":92},{"$f":"SUM(U$3:U72)","v":69},{"$f":"SUM(V$3:V72)","v":82},{"$f":"SUM(W$3:W72)","v":99},{"$f":"SUM(X$3:X72)","v":104},{"$f":"SUM(Y$3:Y72)","v":112},{"$f":"SUM(Z$3:Z72)","v":94},{"$f":"SUM(AA$3:AA72)","v":79},{"$f":"SUM(AB$3:AB72)","v":77},{"$f":"SUM(AC$3:AC72)","v":99},{"$f":"SUM(AD$3:AD72)","v":87},{"$f":"SUM(AE$3:AE72)","v":94},{"$f":"SUM(AF$3:AF72)","v":84},{"$f":"SUM(AG$3:AG72)","v":86},{"$f":"SUM(AH$3:AH72)","v":94},{"$f":"SUM(AI$3:AI72)","v":72},{"$f":"SUM(AJ$3:AJ72)","v":129},{"$f":"SUM(AK$3:AK72)","v":119},{"$f":"SUM(AL$3:AL72)","v":96},{"$f":"SUM(AM$3:AM72)","v":59},{"$f":"SUM(AN$3:AN72)","v":67},{"$f":"SUM(AO$3:AO72)","v":107},{"$f":"SUM(AP$3:AP72)","v":77},{"$f":"SUM(AQ$3:AQ72)","v":79},{"$f":"SUM(AR$3:AR72)","v":82},{"$f":"SUM(AS$3:AS72)","v":87},{"$f":"SUM(AT$3:AT72)","v":97},{"$f":"SUM(AU$3:AU72)","v":99},{"$f":"SUM(AV$3:AV72)","v":79},{"$f":"SUM(AW$3:AW72)","v":64},{"$f":"SUM(AX$3:AX72)","v":79},{"$f":"SUM(AY$3:AY72)","v":107},{"$f":"SUM(AZ$3:AZ72)","v":94},{"$f":"SUM(BA$3:BA72)","v":79},{"$f":"SUM(BB$3:BB72)","v":84},{"$f":"SUM(BC$3:BC72)","v":109},{"$f":"SUM(BD$3:BD72)","v":94},{"$f":"SUM(BE$3:BE72)","v":99},{"$f":"SUM(BF$3:BF72)","v":62},{"$f":"SUM(BG$3:BG72)","v":104},{"$f":"SUM(BH$3:BH72)","v":67},{"$f":"SUM(BI$3:BI72)","v":99},{"$f":"SUM(BJ$3:BJ72)","v":77},{"$f":"SUM(BK$3:BK72)","v":79},{"$f":"SUM(BL$3:BL72)","v":106},{"$f":"SUM(BM$3:BM72)","v":64},{"$f":"SUM(BN$3:BN72)","v":82},{"$f":"SUM(BO$3:BO72)","v":109},{"$f":"SUM(BP$3:BP72)","v":94},{"$f":"SUM(BQ$3:BQ72)","v":82},{"$f":"SUM(BR$3:BR72)","v":114},{"$f":"SUM(BS$3:BS72)","v":94},{"$f":"SUM(BT$3:BT72)","v":94},{"$f":"SUM(BU$3:BU72)","v":79},{"$f":"SUM(BV$3:BV72)","v":92},{"$f":"SUM(BW$3:BW72)","v":84},{"$f":"SUM(BX$3:BX72)","v":109},{"$f":"SUM(BY$3:BY72)","v":96},{"$f":"SUM(BZ$3:BZ72)","v":104},{"$f":"SUM(CA$3:CA72)","v":94},{"$f":"SUM(CB$3:CB72)","v":94},{"$f":"SUM(CC$3:CC72)","v":82},{"$f":"SUM(CD$3:CD72)","v":102},{"$f":"SUM(CE$3:CE72)","v":69},{"$f":"SUM(CF$3:CF72)","v":62},{"$f":"SUM(CG$3:CG72)","v":92},{"$f":"SUM(CH$3:CH72)","v":117},{"$f":"SUM(CI$3:CI72)","v":92},{"$f":"SUM(CJ$3:CJ72)","v":94},{"$f":"SUM(CK$3:CK72)","v":49},{"$f":"SUM(CL$3:CL72)","v":64},{"$f":"SUM(CM$3:CM72)","v":97},{"$f":"SUM(CN$3:CN72)","v":94},{"$f":"SUM(CO$3:CO72)","v":102},{"$f":"SUM(CP$3:CP72)","v":104},{"$f":"SUM(CQ$3:CQ72)","v":86},{"$f":"SUM(CR$3:CR72)","v":122},{"$f":"SUM(CS$3:CS72)","v":117},{"$f":"SUM(CT$3:CT72)","v":76},{"$f":"SUM(CU$3:CU72)","v":77},{"$f":"SUM(CV$3:CV72)","v":99},{"$f":"SUM(CW$3:CW72)","v":109},{"$f":"SUM(CX$3:CX72)","v":94},{"$f":"SUM(CY$3:CY72)","v":77},{"$f":"SUM(CZ$3:CZ72)","v":87},{"$f":"SUM(DA$3:DA72)","v":89},{"$f":"SUM(DB$3:DB72)","v":77},{"$f":"SUM(DC$3:DC72)","v":89}]

{"sheet":"October","index":3,"n_rows":51,"n_cols":107,"rows_kept":51,"cut":false,"hidden":false,"merged":[[1,1,1,4]]}
[null,null,null,null,null,null,null,"Aaron Nealon","Aidan Scanlon","Aidan White","Alain Verjans","Anastas Popov","Andy Dunne","Benny McCarthy","Billy McGinley","Bobby Hynes","Brendan Maguire","Brian Haughton","Brian Hearne","Brian Mullen","Calvin McGettigan","Caoimhin McEnteggart","Carl Toner","Caroline Carroll","Chris Keohan","Christina Morgan","Ciaran O'Hart","Colin Butterly","Con McSweeney","Craig Calvert","Craig Whelan","Daniel Dorrian","Darragh Kenny","Darren O'Gorman","Dave Lavelle","Dave McGinley","David Cooney","David Doyle","David King","Derek McDonald","Dylan Delaney","Dylan O'Riordan","Eamon Fox","Eamonn Gallagher","Eoghan Farrelly","Finbarr Corkery","Frank McSweeney","Gareth Pierpoint","Gary Donnelly","Gary Fitzpatrick","Gavin Goodwin","Gavin Morgan","Gerry Draper","Gerry Moore","Graham Pierpoint","Greg Donaghy","Helen Fadian","Jack Draper","Jason Maloney","Javier Suarez","Jim Foley","Jimmy Maguire","Joe Behan","Joe Turner","John Brophy","John Cafferkey","Johno Percy","Jonathan Fox","Joseph Kavanagh","Joseph Leppla","Keith Nerney","Keith Ryan","Kev Dalton","Kevin Lawless","Kevin Nolan","Kieran Killeen","Liam Keohan","Lionel Knott","Martin Kimmins","Micheal Joyce","Micheal Munnelly","Monica Collins","Niall Carroll","Paddy Devereux","Paul Foley","Paul Moore","Paul Prendergast","Peter Lavelle","Phil Doyle","Philip Jordan","Phoebe Suarez Behan","Realtin Dunne","Rhea Suarez Behan","Richard Johnston","Robert Foley","Robert Gaffney","Roisin Joyce","Sam Calvert","Sean Cafferkey","Sean Cleary","Sean O'Mairtin","Shane Horan","Simon Scanlon","Thomas Nolan","Tommy Hamill","Tommy Tormey","Tommy Walsh"]
["Date","Teams",null,null,null,"Time"]
["2025-10-03","Bournemouth",3,1,"Fulham","20:00:00",null,5,5,5,5,5,5,5,0,5,5,5,5,0,"-",0,0,5,5,5,0,5,5,5,5,5,5,5,"-",5,5,5,5,5,5,0,5,5,5,5,5,5,5,5,5,5,5,5,5,5,5,5,5,5,5,0,0,5,5,5,10,5,5,5,5,5,5,10,5,0,5,5,5,0,5,5,5,5,5,5,5,5,5,5,5,5,0,5,5,5,5,5,5,5,5,5,0,0,5,5,5]
["2025-10-04","Leeds Utd",1,2,"Spurs","12:30:00",null,5,5,10,0,5,5,0,5,0,0,5,0,10,"-",0,5,10,10,0,0,0,10,0,10,0,5,0,"-",0,5,0,10,10,0,10,0,0,10,5,5,5,0,0,0,0,0,10,0,5,10,5,10,5,10,10,0,10,5,5,0,10,5,10,0,0,10,0,5,5,10,0,0,0,5,10,0,10,5,0,0,10,0,10,0,10,5,10,10,10,10,5,10,5,0,0,0,10,10,5,0]
["2025-10-04","Arsenal",2,0,"West Ham",45934.625,null,10,10,10,10,10,5,0,5,10,5,5,10,10,"-",10,10,5,5,5,0,5,5,10,10,10,5,5,"-",10,10,5,10,5,5,10,5,5,10,10,5,5,5,5,5,5,10,5,5,10,5,10,5,5,5,5,10,5,5,5,10,5,10,5,5,5,5,5,5,5,5,10,5,5,5,10,10,5,5,5,5,5,10,10,5,10,10,5,5,5,5,5,5,5,10,5,5,5,10,0,5]
["2025-10-04","Man Utd",2,0,"Sunderland",45934.625,null,0,5,0,5,0,5,0,0,10,5,10,5,5,"-",0,5,0,5,5,0,5,10,5,10,10,5,5,"-",5,0,0,0,5,5,5,5,10,5,0,10,5,5,0,5,0,5,0,5,5,10,5,5,0,0,0,0,5,0,5,5,10,5,5,5,10,10,5,10,0,10,10,0,0,0,5,0,5,0,5,5,10,5,5,0,0,5,0,5,0,5,5,5,5,10,5,5,10,0,5,5]
["2025-10-04","Chelsea",2,1,"Liverpool","17:30:00",null,0,0,0,0,0,0,0,0,0,0,0,0,0,"-",0,0,0,0,10,0,0,0,0,0,5,0,0,"-",0,0,0,10,0,10,0,0,0,0,0,0,0,0,0,10,0,0,0,0,0,0,0,0,0,0,0,0,10,0,0,0,0,0,0,0,0,10,0,10,0,0,0,0,10,0,0,0,0,0,0,0,0,0,0,0,0,0,0,0,0,0,0,0,0,0,0,10,0,5,5,10]
["2025-10-05","Aston Villa",2,1,"Burnley","14:00:00",null,0,5,5,5,10,10,0,5,5,5,5,5,10,"-",0,5,5,5,10,0,10,0,5,5,5,5,5,"-",5,5,5,0,5,10,0,10,5,5,5,5,5,10,10,10,5,10,5,5,5,5,10,5,5,10,5,5,5,5,5,5,5,5,0,10,0,5,5,5,0,5,10,10,10,0,0,10,5,5,10,10,5,10,5,0,10,0,10,0,5,10,5,5,5,5,5,10,10,5,10,5]
["2025-10-05","Everton",2,1,"Crystal Palace","14:00:00",null,0,0,0,0,0,0,0,0,0,0,0,0,0,"-",0,0,0,5,10,0,0,0,0,0,5,0,10,"-",0,0,0,0,0,10,5,0,10,0,0,0,0,0,5,10,0,0,0,0,0,0,0,0,0,0,0,0,0,0,0,0,0,0,0,10,0,0,0,0,0,0,0,0,0,0,0,10,0,0,0,0,0,0,0,0,0,0,10,0,0,0,0,0,5,0,0,0,0,0,5,0]
["2025-10-05","Newcastle",2,0,"Nott'm Forest","14:00:00",null,5,5,10,5,5,10,0,0,10,10,5,10,10,"-",10,5,10,5,5,0,5,10,5,5,10,5,10,"-",10,5,10,0,10,5,5,5,10,5,10,10,5,10,0,5,10,10,5,10,5,5,10,5,5,5,10,10,10,5,5,5,5,10,10,10,5,5,0,5,10,5,5,5,5,5,10,5,10,5,10,10,10,10,5,0,5,0,5,10,10,5,10,5,10,5,5,5,5,5,5,10]
["2025-10-05","Wolves",1,1,"Brighton","14:00:00",null,10,0,0,0,0,0,0,0,0,0,0,0,10,"-",5,0,5,10,0,10,0,0,0,10,0,0,0,"-",0,0,0,0,10,0,10,0,10,0,0,0,0,10,0,0,10,0,0,0,0,0,0,0,0,0,10,0,0,5,10,10,0,0,10,0,0,0,0,0,10,0,0,0,10,0,10,0,0,0,0,10,0,0,0,0,10,0,10,0,0,0,0,10,0,5,0,5,0,10,5,0]
["2025-10-05","Brentford",0,1,"Man City","16:30:00",null,5,5,5,5,5,5,0,5,5,5,5,5,5,"-",5,5,5,5,0,0,5,5,5,5,0,5,5,"-",0,5,5,0,5,0,5,5,0,5,5,5,5,5,5,0,5,5,0,5,5,5,5,5,5,5,5,5,5,0,5,5,5,5,5,5,5,5,5,5,5,5,5,5,5,0,5,5,5,5,5,5,5,5,5,5,0,5,5,0,0,5,5,5,5,5,5,5,5,5,5,5]
["2025-10-18","Nott'm Forest",0,3,"Chelsea","12:30:00",null,0,5,5,5,5,5,5,5,5,5,5,5,5,"-",5,5,10,5,0,0,0,5,5,5,5,5,5,"-",5,5,5,0,5,5,5,5,5,5,5,5,5,0,5,0,5,5,10,5,10,5,5,0,5,5,5,5,5,5,5,5,5,5,5,5,0,5,0,5,5,0,5,5,10,10,5,5,5,0,5,5,5,5,5,0,0,0,5,10,0,5,5,5,5,0,0,5,5,5,5,5]
["2025-10-18","Brighton",2,1,"Newcastle",45948.625,null,10,0,0,0,10,0,0,5,0,0,0,0,0,"-",0,0,0,0,10,10,10,0,0,0,0,0,0,"-",10,0,10,10,0,0,0,0,0,0,0,0,0,0,10,10,10,0,0,0,0,0,0,0,0,0,0,0,10,10,0,0,5,0,0,0,0,5,0,0,0,10,10,0,0,0,10,0,10,0,5,0,10,0,0,5,0,5,5,0,0,0,0,0,0,0,0,0,0,0,0,0]
["2025-10-18","Burnley",2,0,"Leeds Utd",45948.625,null,0,5,0,0,0,5,0,0,0,10,0,0,0,"-",0,0,5,0,5,0,5,0,0,0,0,5,0,"-",0,5,0,5,0,0,0,0,0,0,0,0,0,0,0,5,0,0,0,0,0,0,0,0,10,0,5,0,0,0,0,5,5,0,0,0,0,0,0,0,5,5,0,5,0,5,0,0,0,0,5,5,0,0,10,5,0,5,0,0,5,5,0,5,10,0,0,0,0,5,0,0]
["2025-10-18","Crystal Palace",3,3,"Bournemouth",45948.625,null,5,0,0,0,0,0,0,0,5,5,5,5,0,"-",0,5,5,0,0,0,5,5,0,5,5,0,0,"-",0,5,0,0,0,5,5,5,0,0,5,0,0,0,5,0,0,0,5,0,0,0,0,5,0,5,5,0,0,0,0,5,0,0,5,0,0,0,5,0,0,0,5,5,0,5,0,5,0,0,5,5,0,0,0,0,0,0,5,0,0,0,0,5,5,0,0,0,5,5,0,5]
["2025-10-18","Man City",2,0,"Everton",45948.625,null,10,5,5,5,10,5,5,5,10,5,5,10,5,"-",5,10,5,5,5,10,10,10,10,5,5,5,10,"-",10,5,5,5,5,5,5,0,5,5,10,10,10,5,5,5,10,5,5,5,5,5,5,5,5,10,5,5,5,5,5,10,5,5,5,5,5,5,5,10,5,5,5,5,5,5,10,10,5,5,5,10,5,5,5,5,5,5,5,5,5,5,5,5,5,10,5,5,5,10,5,10]
["2025-10-18","Sunderland",2,0,"Wolves",45948.625,null,10,0,5,0,5,5,0,5,0,5,5,0,0,"-",0,5,0,0,5,5,5,0,5,5,5,5,10,"-",5,5,10,5,0,5,5,0,5,5,5,5,5,0,5,5,10,5,10,5,0,5,0,5,5,5,0,10,5,5,5,0,0,5,0,5,5,0,5,0,0,5,10,5,0,5,0,0,5,10,0,5,5,5,5,5,0,5,0,10,10,5,5,0,0,5,0,0,5,5,5,5]
["2025-10-18","Fulham",0,1,"Arsenal","17:30:00",null,10,5,5,5,5,5,5,5,10,10,5,5,5,"-",10,10,5,5,0,5,5,5,5,5,0,5,5,"-",5,5,5,0,5,5,5,0,5,5,5,5,10,0,5,0,5,5,10,5,5,5,5,5,5,5,5,5,0,10,5,10,5,5,5,5,5,5,5,5,5,0,5,5,5,5,5,10,5,5,5,0,5,5,5,0,0,0,0,5,5,5,5,5,5,5,5,5,5,5,5,5]
["2025-10-19","Spurs",1,2,"Aston Villa","14:00:00",null,0,0,0,0,0,0,0,0,0,0,0,10,0,"-",0,0,0,0,0,0,0,0,0,0,0,0,0,"-",0,0,0,0,0,0,0,0,0,0,0,0,0,0,10,0,0,0,0,0,0,0,0,0,0,0,0,0,0,0,0,0,0,0,0,0,0,0,0,0,5,0,0,0,0,0,0,10,0,0,0,0,0,0,0,0,0,0,0,0,0,0,0,0,0,0,0,0,0,0,0,0]
["2025-10-19","Liverpool",1,2,"Man Utd","16:30:00",null,0,0,0,0,0,0,5,0,0,0,0,0,0,"-",0,0,0,0,0,0,0,0,0,0,0,0,0,"-",0,0,0,0,0,0,0,0,0,0,0,0,0,0,0,0,0,0,0,0,0,0,0,0,0,0,0,0,0,0,0,0,0,0,0,0,0,0,0,0,0,0,0,0,0,0,0,0,0,0,0,0,0,10,0,0,0,0,0,0,0,0,10,0,10,0,0,10,0,0,0,0]
["2025-10-20","West Ham",0,2,"Brentford","20:00:00",null,0,0,0,0,0,10,0,5,0,0,0,5,5,"-",0,0,0,0,0,0,5,0,0,0,0,0,0,"-",0,0,5,0,5,5,0,0,0,0,0,0,0,0,0,0,5,0,0,5,0,0,5,0,0,0,0,5,0,5,0,0,0,0,5,0,0,0,0,0,5,0,5,0,5,5,0,0,5,0,0,0,0,0,0,0,0,0,0,5,0,0,0,0,0,0,0,0,5,0,5,5]
["2025-10-24","Leeds Utd",2,1,"West Ham","20:00:00",null,0,10,5,5,5,10,10,0,0,5,0,10,0,"-",0,5,0,10,10,5,0,10,5,5,5,10,10,"-",10,0,10,10,10,10,5,10,0,5,5,5,0,10,5,10,5,10,5,0,10,5,5,10,0,0,0,5,5,5,10,10,5,0,0,5,5,10,5,5,0,10,5,0,5,0,5,5,5,5,10,5,10,10,0,10,5,0,10,10,10,10,0,5,10,0,10,10,0,0,10,0]
["2025-10-25","Chelsea",1,2,"Sunderland",45955.625,null,0,0,0,0,0,0,0,0,0,0,0,0,0,"-",0,0,0,0,0,0,0,0,0,0,0,0,0,"-",0,0,0,0,0,0,0,0,0,0,0,0,0,0,0,0,0,0,0,0,0,0,0,0,0,0,0,0,0,0,0,0,0,0,0,0,0,0,0,0,0,0,0,0,0,0,0,0,0,0,0,0,0,0,0,0,0,0,0,0,0,0,0,0,0,0,0,0,0,0,0,0]
["2025-10-25","Newcastle",2,1,"Fulham",45955.625,null,10,10,5,10,5,5,10,0,10,5,5,10,10,"-",5,0,5,5,10,5,5,10,5,10,5,5,5,"-",10,10,5,10,5,5,10,5,10,10,10,10,5,10,5,10,10,5,5,5,10,10,0,10,5,5,10,0,10,0,5,5,5,10,10,5,5,5,5,5,10,5,5,0,10,10,0,5,10,5,5,5,10,5,5,5,5,0,0,10,10,10,5,5,10,5,5,5,10,10,5,10]
["2025-10-25","Man Utd",4,2,"Brighton","17:30:00",null,5,5,0,0,0,0,5,0,5,5,5,0,5,"-",0,5,5,5,5,5,5,0,5,5,5,0,0,"-",5,0,0,5,5,5,5,0,0,5,0,0,0,0,0,5,5,0,5,5,0,5,5,5,5,5,0,0,0,0,5,5,0,0,0,5,5,5,5,0,0,5,0,0,0,0,5,5,0,0,0,5,5,5,5,5,0,0,0,0,0,5,5,5,5,0,0,5,5,0,0,0]
["2025-10-25","Brentford",3,2,"Liverpool","20:00:00",null,0,5,0,0,0,0,5,0,0,0,0,0,0,"-",0,0,0,0,5,0,0,0,5,0,5,0,0,"-",0,0,0,5,0,0,0,0,0,0,0,0,0,0,0,5,0,0,0,0,0,0,0,0,0,0,0,0,0,5,0,5,0,0,0,5,0,0,5,0,0,0,0,5,0,0,0,0,0,0,0,0,5,0,0,5,0,5,0,0,0,0,0,0,0,0,0,0,0,0,0,0]
["2025-10-26","Arsenal",1,0,"Crystal Palace","14:00:00",null,5,5,5,5,5,5,5,5,5,5,5,5,5,"-",5,10,10,5,5,5,5,5,5,5,5,5,0,"-",5,5,5,5,5,5,5,5,5,5,5,0,5,5,5,5,5,5,10,5,5,5,5,5,5,10,5,5,5,5,5,5,5,5,5,10,5,5,10,10,0,5,5,5,0,5,5,5,5,5,5,5,5,10,5,5,10,5,5,5,5,5,5,5,5,5,5,10,5,5,5,0]
["2025-10-26","Aston Villa",1,0,"Man City","14:00:00",null,0,0,0,0,0,0,5,0,0,0,0,0,0,"-",0,0,0,0,5,0,0,0,0,0,5,0,0,"-",0,0,0,5,0,0,0,0,0,0,0,0,0,0,0,5,0,0,0,0,0,0,0,0,0,0,0,0,0,10,0,0,0,0,0,10,0,0,10,0,0,0,0,0,0,0,0,0,0,0,0,0,5,0,0,0,0,0,0,0,0,0,0,0,0,0,0,0,0,0,0,0]
["2025-10-26","Bournemouth",2,0,"Nott'm Forest","14:00:00",null,5,0,0,5,10,5,5,0,10,10,5,10,5,"-",0,5,0,0,5,5,5,10,5,10,10,5,5,"-",0,5,5,5,0,0,0,10,5,5,0,10,5,10,5,5,10,5,10,10,10,10,10,10,5,5,10,0,5,5,10,5,5,5,10,5,5,5,5,5,5,10,5,10,0,5,10,0,5,0,10,5,5,0,5,0,10,0,5,5,10,10,5,10,5,5,0,0,5,0,0,0]
["2025-10-26","Wolves",2,3,"Burnley","14:00:00",null,0,0,0,0,0,0,0,0,0,0,0,0,0,"-",0,0,0,0,0,0,0,0,0,0,0,0,0,"-",0,0,5,0,0,0,0,0,0,0,0,5,0,0,0,0,0,0,0,0,0,0,5,0,0,0,0,0,0,0,0,0,0,0,0,0,10,0,0,0,0,0,0,5,5,5,0,0,0,5,0,0,0,5,0,10,0,0,0,0,0,0,0,0,0,0,0,0,0,0,0,0]
["2025-10-26","Everton",0,3,"Spurs","16:30:00",null,0,0,0,0,0,0,0,5,0,0,0,5,5,"-",0,5,0,0,0,0,0,0,0,5,0,0,0,"-",0,0,5,0,0,5,0,0,0,0,5,0,0,0,0,0,0,0,0,0,0,0,5,0,5,0,0,5,0,0,0,0,5,0,0,0,5,5,0,0,5,0,0,0,0,0,5,0,0,0,5,0,0,0,0,5,0,5,5,0,0,0,0,0,0,0,0,0,5,0,0,5]
[]
["Golden Boots"]
["Alexander Isak - Liverpool",null,null,{"$f":"COUNT(H35:JB35)","v":31},{"$f":"0+0+0","v":0},null,null,null,{"$f":"$E35*2","v":0},null,{"$f":"$E35*2","v":0},null,{"$f":"$E35*2","v":0},null,null,{"$f":"$E35*2","v":0},null,null,null,{"$f":"$E35*2","v":0},null,null,null,null,null,null,null,{"$f":"$E35*2","v":0},null,null,{"$f":"$E35*2","v":0},0,null,null,0,null,null,null,{"$f":"$E35*2","v":0},null,0,0,null,0,0,0,null,null,{"$f":"$E35*2","v":0},0,0,null,null,null,null,null,null,0,null,0,null,{"$f":"$E35*2","v":0},null,null,null,{"$f":"$E35*2","v":0},null,null,0,null,null,null,null,null,null,null,null,null,null,null,null,null,{"$f":"$E35*2","v":0},{"$f":"$E35*2","v":0},{"$f":"$E35*2","v":0},{"$f":"$E35*2","v":0},{"$f":"$E35*2","v":0},null,null,null,null,null,null,null,null,{"$f":"$E35*2","v":0},null,null,{"$f":"$E35*2","v":0},null,null,null,null,{"$f":"$E35*2","v":0}]
["Bryan Mbeumo - Man United",null,null,6,{"$f":"0+1+2","v":3},null,null,null,null,null,null,null,null,null,null,null,null,null,null,null,null,null,null,null,{"$f":"$E36*2","v":6},null,null,null,null,6,null,null,null,null,null,null,null,null,null,6,null,null,null,null,null,null,null,null,null,null,null,null,null,null,null,null,null,null,null,null,null,null,null,null,null,null,null,null,null,null,null,null,null,null,null,null,null,null,null,null,null,{"$f":"$E36*2","v":6},null,null,null,null,null,null,null,null,null,null,null,null,null,null,{"$f":"$E36*2","v":6},null,null,null,null,null,{"$f":"$E36*2","v":6}]
["Chris Wood - Nottingham Forest",null,null,5,{"$f":"0+0+0","v":0},null,null,null,null,null,null,null,null,null,null,null,null,null,{"$f":"$E37*2","v":0},null,null,{"$f":"$E37*2","v":0},null,null,null,null,null,null,null,null,null,null,null,null,null,null,null,null,null,null,null,null,null,null,null,null,null,null,null,null,null,null,null,null,null,null,null,null,null,null,null,null,null,null,null,null,null,null,null,null,null,null,null,null,null,{"$f":"$E37*2","v":0},null,null,null,null,{"$f":"$E37*2","v":0},null,null,null,null,null,null,null,null,null,null,null,null,null,null,null,null,null,null,null,null,null,null,null,null,{"$f":"$E37*2","v":0}]
["Cole Palmer - Chelsea",null,null,27,{"$f":"0+0+0","v":0},null,null,null,null,{"$f":"$E38*2","v":0},{"$f":"$E38*2","v":0},{"$f":"$E38*2","v":0},null,{"$f":"$E38*2","v":0},{"$f":"$E38*2","v":0},null,null,null,null,null,null,null,{"$f":"$E38*2","v":0},{"$f":"$E38*2","v":0},null,null,{"$f":"$E38*2","v":0},null,null,null,null,null,0,null,null,null,{"$f":"$E38*2","v":0},null,null,null,null,null,null,null,null,null,null,null,{"$f":"$E38*2","v":0},null,null,null,0,null,{"$f":"$E38*2","v":0},null,{"$f":"$E38*2","v":0},null,0,null,null,null,null,{"$f":"$E38*2","v":0},{"$f":"$E38*2","v":0},null,0,null,null,null,null,0,null,null,null,{"$f":"$E38*2","v":0},null,null,null,{"$f":"$E38*2","v":0},null,null,{"$f":"$E38*2","v":0},{"$f":"$E38*2","v":0},null,null,null,{"$f":"$E38*2","v":0},null,null,null,null,null,null,{"$f":"$E38*2","v":0},null,{"$f":"$E38*2","v":0},{"$f":"$E38*2","v":0}]
["Erling Haaland - Man City",null,null,80,{"$f":"1+2+0","v":3},null,null,{"$f":"$E39*2","v":6},{"$f":"$E39*2","v":6},null,{"$f":"$E39*2","v":6},{"$f":"$E39*2","v":6},{"$f":"$E39*2","v":6},null,null,{"$f":"$E39*2","v":6},6,6,6,6,{"$f":"$E39*2","v":6},6,{"$f":"$E39*2","v":6},{"$f":"$E39*2","v":6},{"$f":"$E39*2","v":6},{"$f":"$E39*2","v":6},{"$f":"$E39*2","v":6},{"$f":"$E39*2","v":6},{"$f":"$E39*2","v":6},{"$f":"$E39*2","v":6},null,null,null,{"$f":"$E39*2","v":6},6,6,6,null,null,{"$f":"$E39*2","v":6},6,6,{"$f":"$E39*2","v":6},{"$f":"$E39*2","v":6},{"$f":"$E39*2","v":6},{"$f":"$E39*2","v":6},6,6,null,null,{"$f":"$E39*2","v":6},6,6,null,6,6,6,{"$f":"$E39*2","v":6},6,6,6,{"$f":"$E39*2","v":6},{"$f":"$E39*2","v":6},null,6,6,6,6,6,6,6,6,6,{"$f":"$E39*2","v":6},{"$f":"$E39*2","v":6},null,null,{"$f":"$E39*2","v":6},{"$f":"$E39*2","v":6},{"$f":"$E39*2","v":6},{"$f":"$E39*2","v":6},{"$f":"$E39*2","v":6},null,null,{"$f":"$E39*2","v":6},{"$f":"$E39*2","v":6},{"$f":"$E39*2","v":6},{"$f":"$E39*2","v":6},null,null,{"$f":"$E39*2","v":6},{"$f":"$E39*2","v":6},{"$f":"$E39*2","v":6},{"$f":"$E39*2","v":6},null,{"$f":"$E39*2","v":6},{"$f":"$E39*2","v":6},null,{"$f":"$E39*2","v":6},{"$f":"$E39*2","v":6},6,6,6,6,6,6,6]
["Hugo Ekitike - Liverpool",null,null,12,{"$f":"0+0+0","v":0},null,null,null,null,null,null,null,null,null,null,null,null,{"$f":"$E40*2","v":0},null,null,null,null,null,null,null,{"$f":"$E40*2","v":0},null,null,null,null,null,null,null,null,null,null,null,{"$f":"$E40*2","v":0},{"$f":"$E40*2","v":0},0,null,null,null,null,null,null,null,null,0,null,null,0,null,null,null,null,0,null,null,null,null,null,null,null,null,null,null,null,null,null,null,null,null,null,null,null,{"$f":"$E40*2","v":0},{"$f":"$E40*2","v":0},null,null,null,null,null,null,null,null,null,null,null,{"$f":"$E40*2","v":0},null,null,null,null,null,null,null,null,null,null,null,null,null,null,null,null,{"$f":"$E40*2","v":0}]
["Jean-Philippe Mateta - Crystal Palace",null,null,5,{"$f":"0+3+0","v":3},null,null,null,null,null,null,null,null,null,null,null,null,null,null,null,null,null,null,null,null,null,null,null,null,null,null,null,null,null,null,null,null,null,null,null,null,null,null,null,null,null,null,null,null,null,null,null,null,null,null,null,null,null,null,null,null,null,null,{"$f":"$E41*2","v":6},null,null,null,null,null,null,null,null,null,null,null,null,{"$f":"$E41*2","v":6},null,null,null,null,null,null,null,null,null,null,null,null,{"$f":"$E41*2","v":6},null,null,null,null,null,null,null,{"$f":"$E41*2","v":6},null,null,{"$f":"$E41*2","v":6}]
["Jorgen Strand Larsen - Wolves",null,null,1,{"$f":"0+0+1","v":1},null,null,null,null,null,null,null,null,null,null,null,null,null,null,null,null,null,null,null,null,null,null,null,null,null,null,null,null,null,null,null,null,null,null,null,null,null,null,null,null,null,null,null,null,null,null,null,null,null,null,null,null,null,null,null,null,null,null,null,null,null,null,null,null,null,null,null,null,{"$f":"$E42*2","v":2}]
["Justin Kluivert - Bournemouth",null,null,1,{"$f":"1+0+0","v":1},null,null,null,null,null,null,null,null,{"$f":"$E43*2","v":2}]
["Liam Delap - Chelsea",null,null,1,{"$f":"0+0+0","v":0},null,null,null,null,null,null,null,null,null,null,null,null,null,null,null,null,null,null,null,null,null,null,null,null,null,null,null,null,null,null,null,null,null,null,null,null,null,null,null,null,null,null,null,null,null,null,null,null,null,null,null,null,null,null,null,null,null,null,null,null,null,null,null,null,null,null,null,null,null,null,null,null,null,null,null,null,null,null,null,null,null,null,null,null,{"$f":"$E44*2","v":0}]
["Matheus Cunha - Man United",null,null,5,{"$f":"0+0+1","v":1},null,null,null,null,null,null,null,null,{"$f":"$E45*2","v":2},null,null,null,null,null,null,null,null,null,null,null,null,null,null,null,null,null,null,null,null,null,null,null,null,null,null,null,null,null,null,null,null,null,null,null,null,null,null,null,{"$f":"$E45*2","v":2},null,null,null,null,null,null,null,null,null,null,null,null,null,null,null,null,null,null,null,null,null,null,null,null,null,null,null,null,null,{"$f":"$E45*2","v":2},null,null,null,null,{"$f":"$E45*2","v":2},null,{"$f":"$E45*2","v":2}]
["Mohamed Salah - Liverpool",null,null,83,{"$f":"0+0+1","v":1},null,null,{"$f":"$E46*2","v":2},null,{"$f":"$E46*2","v":2},null,{"$f":"$E46*2","v":2},{"$f":"$E46*2","v":2},null,{"$f":"$E46*2","v":2},{"$f":"$E46*2","v":2},{"$f":"$E46*2","v":2},{"$f":"$E46*2","v":2},{"$f":"$E46*2","v":2},{"$f":"$E46*2","v":2},{"$f":"$E46*2","v":2},{"$f":"$E46*2","v":2},null,2,{"$f":"$E46*2","v":2},{"$f":"$E46*2","v":2},2,{"$f":"$E46*2","v":2},{"$f":"$E46*2","v":2},2,2,2,2,2,null,{"$f":"$E46*2","v":2},null,{"$f":"$E46*2","v":2},2,null,2,2,2,2,{"$f":"$E46*2","v":2},2,2,2,null,{"$f":"$E46*2","v":2},2,null,{"$f":"$E46*2","v":2},2,2,2,null,{"$f":"$E46*2","v":2},{"$f":"$E46*2","v":2},2,{"$f":"$E46*2","v":2},{"$f":"$E46*2","v":2},{"$f":"$E46*2","v":2},{"$f":"$E46*2","v":2},2,2,2,2,null,{"$f":"$E46*2","v":2},2,2,2,{"$f":"$E46*2","v":2},{"$f":"$E46*2","v":2},null,null,{"$f":"$E46*2","v":2},2,{"$f":"$E46*2","v":2},{"$f":"$E46*2","v":2},2,{"$f":"$E46*2","v":2},null,{"$f":"$E46*2","v":2},{"$f":"$E46*2","v":2},{"$f":"$E46*2","v":2},{"$f":"$E46*2","v":2},{"$f":"$E46*2","v":2},null,{"$f":"$E46*2","v":2},{"$f":"$E46*2","v":2},{"$f":"$E46*2","v":2},{"$f":"$E46*2","v":2},{"$f":"$E46*2","v":2},{"$f":"$E46*2","v":2},null,{"$f":"$E46*2","v":2},2,{"$f":"$E46*2","v":2},2,{"$f":"$E46*2","v":2},null,2,2,{"$f":"$E46*2","v":2},2]
["Ollie Watkins - Aston Villa",null,null,3,{"$f":"0+0+0","v":0},null,null,null,null,null,null,null,null,null,null,null,null,null,null,null,null,null,null,null,null,null,null,null,null,null,null,0,null,null,null,null,null,null,null,null,null,null,null,null,null,null,null,null,null,null,null,null,null,null,null,null,null,null,null,null,null,null,null,null,null,null,null,null,null,null,null,null,null,null,null,{"$f":"$E47*2","v":0},null,null,null,null,null,null,null,null,null,null,null,null,null,null,null,{"$f":"$E47*2","v":0}]
["Viktor Gyokeres - Arsenal",null,null,39,{"$f":"0+0+0","v":0},null,null,{"$f":"$E48*2","v":0},{"$f":"$E48*2","v":0},{"$f":"$E48*2","v":0},null,null,null,null,{"$f":"$E48*2","v":0},null,{"$f":"$E48*2","v":0},null,null,null,{"$f":"$E48*2","v":0},null,{"$f":"$E48*2","v":0},null,null,null,null,null,{"$f":"$E48*2","v":0},null,{"$f":"$E48*2","v":0},null,{"$f":"$E48*2","v":0},0,0,0,0,0,null,null,null,null,{"$f":"$E48*2","v":0},null,null,null,{"$f":"$E48*2","v":0},0,null,{"$f":"$E48*2","v":0},null,{"$f":"$E48*2","v":0},null,{"$f":"$E48*2","v":0},null,{"$f":"$E48*2","v":0},null,null,null,null,{"$f":"$E48*2","v":0},null,{"$f":"$E48*2","v":0},null,null,null,null,{"$f":"$E48*2","v":0},0,0,0,null,{"$f":"$E48*2","v":0},null,{"$f":"$E48*2","v":0},null,{"$f":"$E48*2","v":0},null,{"$f":"$E48*2","v":0},null,null,null,null,null,null,null,null,null,{"$f":"$E48*2","v":0},null,null,null,null,{"$f":"$E48*2","v":0},{"$f":"$E48*2","v":0},null,null,null,null,{"$f":"$E48*2","v":0},null,{"$f":"$E48*2","v":0},{"$f":"$E48*2","v":0},null,{"$f":"$E48*2","v":0}]
["Yoane Wissa - Newcastle",null,null,1,{"$f":"0+0+0","v":0},null,null,null,null,null,null,null,null,null,null,null,null,null,null,null,null,null,null,null,null,null,null,null,null,null,null,null,null,null,null,null,null,null,null,null,null,null,null,null,null,null,null,null,null,null,null,null,null,null,null,null,null,null,null,null,null,null,null,null,null,null,null,null,null,null,null,null,null,null,null,null,null,null,null,null,null,null,null,null,null,null,null,null,null,null,null,null,{"$f":"$E49*2","v":0}]
[]
["Total Points - October",null,null,null,null,null,null,{"$f":"SUM(H$3:H50)","v":118},{"$f":"SUM(I$3:I50)","v":101},{"$f":"SUM(J$3:J50)","v":82},{"$f":"SUM(K$3:K50)","v":81},{"$f":"SUM(L$3:L50)","v":108},{"$f":"SUM(M$3:M50)","v":113},{"$f":"SUM(N$3:N50)","v":74},{"$f":"SUM(O$3:O50)","v":62},{"$f":"SUM(P$3:P50)","v":113},{"$f":"SUM(Q$3:Q50)","v":113},{"$f":"SUM(R$3:R50)","v":93},{"$f":"SUM(S$3:S50)","v":128},{"$f":"SUM(T$3:T50)","v":118},{"$f":"SUM(U$3:U50)","v":8},{"$f":"SUM(V$3:V50)","v":68},{"$f":"SUM(W$3:W50)","v":106},{"$f":"SUM(X$3:X50)","v":103},{"$f":"SUM(Y$3:Y50)","v":109},{"$f":"SUM(Z$3:Z50)","v":128},{"$f":"SUM(AA$3:AA50)","v":73},{"$f":"SUM(AB$3:AB50)","v":108},{"$f":"SUM(AC$3:AC50)","v":113},{"$f":"SUM(AD$3:AD50)","v":104},{"$f":"SUM(AE$3:AE50)","v":127},{"$f":"SUM(AF$3:AF50)","v":112},{"$f":"SUM(AG$3:AG50)","v":87},{"$f":"SUM(AH$3:AH50)","v":103},{"$f":"SUM(AI$3:AI50)","v":6},{"$f":"SUM(AJ$3:AJ50)","v":108},{"$f":"SUM(AK$3:AK50)","v":91},{"$f":"SUM(AL$3:AL50)","v":107},{"$f":"SUM(AM$3:AM50)","v":107},{"$f":"SUM(AN$3:AN50)","v":112},{"$f":"SUM(AO$3:AO50)","v":118},{"$f":"SUM(AP$3:AP50)","v":108},{"$f":"SUM(AQ$3:AQ50)","v":83},{"$f":"SUM(AR$3:AR50)","v":103},{"$f":"SUM(AS$3:AS50)","v":103},{"$f":"SUM(AT$3:AT50)","v":103},{"$f":"SUM(AU$3:AU50)","v":108},{"$f":"SUM(AV$3:AV50)","v":88},{"$f":"SUM(AW$3:AW50)","v":90},{"$f":"SUM(AX$3:AX50)","v":97},{"$f":"SUM(AY$3:AY50)","v":128},{"$f":"SUM(AZ$3:AZ50)","v":126},{"$f":"SUM(BA$3:BA50)","v":98},{"$f":"SUM(BB$3:BB50)","v":109},{"$f":"SUM(BC$3:BC50)","v":93},{"$f":"SUM(BD$3:BD50)","v":103},{"$f":"SUM(BE$3:BE50)","v":106},{"$f":"SUM(BF$3:BF50)","v":113},{"$f":"SUM(BG$3:BG50)","v":108},{"$f":"SUM(BH$3:BH50)","v":93},{"$f":"SUM(BI$3:BI50)","v":103},{"$f":"SUM(BJ$3:BJ50)","v":103},{"$f":"SUM(BK$3:BK50)","v":83},{"$f":"SUM(BL$3:BL50)","v":113},{"$f":"SUM(BM$3:BM50)","v":108},{"$f":"SUM(BN$3:BN50)","v":108},{"$f":"SUM(BO$3:BO50)","v":128},{"$f":"SUM(BP$3:BP50)","v":103},{"$f":"SUM(BQ$3:BQ50)","v":91},{"$f":"SUM(BR$3:BR50)","v":108},{"$f":"SUM(BS$3:BS50)","v":123},{"$f":"SUM(BT$3:BT50)","v":93},{"$f":"SUM(BU$3:BU50)","v":118},{"$f":"SUM(BV$3:BV50)","v":105},{"$f":"SUM(BW$3:BW50)","v":103},{"$f":"SUM(BX$3:BX50)","v":85},{"$f":"SUM(BY$3:BY50)","v":111},{"$f":"SUM(BZ$3:BZ50)","v":118},{"$f":"SUM(CA$3:CA50)","v":93},{"$f":"SUM(CB$3:CB50)","v":98},{"$f":"SUM(CC$3:CC50)","v":93},{"$f":"SUM(CD$3:CD50)","v":129},{"$f":"SUM(CE$3:CE50)","v":107},{"$f":"SUM(CF$3:CF50)","v":107},{"$f":"SUM(CG$3:CG50)","v":78},{"$f":"SUM(CH$3:CH50)","v":113},{"$f":"SUM(CI$3:CI50)","v":113},{"$f":"SUM(CJ$3:CJ50)","v":133},{"$f":"SUM(CK$3:CK50)","v":114},{"$f":"SUM(CL$3:CL50)","v":101},{"$f":"SUM(CM$3:CM50)","v":90},{"$f":"SUM(CN$3:CN50)","v":93},{"$f":"SUM(CO$3:CO50)","v":68},{"$f":"SUM(CP$3:CP50)","v":113},{"$f":"SUM(CQ$3:CQ50)","v":102},{"$f":"SUM(CR$3:CR50)","v":103},{"$f":"SUM(CS$3:CS50)","v":122},{"$f":"SUM(CT$3:CT50)","v":98},{"$f":"SUM(CU$3:CU50)","v":113},{"$f":"SUM(CV$3:CV50)","v":128},{"$f":"SUM(CW$3:CW50)","v":94},{"$f":"SUM(CX$3:CX50)","v":68},{"$f":"SUM(CY$3:CY50)","v":112},{"$f":"SUM(CZ$3:CZ50)","v":113},{"$f":"SUM(DA$3:DA50)","v":113},{"$f":"SUM(DB$3:DB50)","v":103},{"$f":"SUM(DC$3:DC50)","v":103}]

{"sheet":"November","index":4,"n_rows":61,"n_cols":107,"rows_kept":61,"cut":false,"hidden":false,"merged":[[1,1,1,4]]}
[null,null,null,null,null,null,null,"Aaron Nealon","Aidan Scanlon","Aidan White","Alain Verjans","Anastas Popov","Andy Dunne","Benny McCarthy","Billy McGinley","Bobby Hynes","Brendan Maguire","Brian Haughton","Brian Hearne","Brian Mullen","Calvin McGettigan","Caoimhin McEnteggart","Carl Toner","Caroline Carroll","Chris Keohan","Christina Morgan","Ciaran O'Hart","Colin Butterly","Con McSweeney","Craig Calvert","Craig Whelan","Daniel Dorrian","Darragh Kenny","Darren O'Gorman","Dave Lavelle","Dave McGinley","David Cooney","David Doyle","David King","Derek McDonald","Dylan Delaney","Dylan O'Riordan","Eamon Fox","Eamonn Gallagher","Eoghan Farrelly","Finbarr Corkery","Frank McSweeney","Gareth Pierpoint","Gary Donnelly","Gary Fitzpatrick","Gavin Goodwin","Gavin Morgan","Gerry Draper","Gerry Moore","Graham Pierpoint","Greg Donaghy","Helen Fadian","Jack Draper","Jason Maloney","Javier Suarez","Jim Foley","Jimmy Maguire","Joe Behan","Joe Turner","John Brophy","John Cafferkey","Johno Percy","Jonathan Fox","Joseph Kavanagh","Joseph Leppla","Keith Nerney","Keith Ryan","Kev Dalton","Kevin Lawless","Kevin Nolan","Kieran Killeen","Liam Keohan","Lionel Knott","Martin Kimmins","Micheal Joyce","Micheal Munnelly","Monica Collins","Niall Carroll","Paddy Devereux","Paul Foley","Paul Moore","Paul Prendergast","Peter Lavelle","Phil Doyle","Philip Jordan","Phoebe Suarez Behan","Realtin Dunne","Rhea Suarez Behan","Richard Johnston","Robert Foley","Robert Gaffney","Roisin Joyce","Sam Calvert","Sean Cafferkey","Sean Cleary","Sean O'Mairtin","Shane Horan","Simon Scanlon","Thomas Nolan","Tommy Hamill","Tommy Tormey","Tommy Walsh"]
["Date","Teams",null,null,null,"Time"]
["2025-11-01","Brighton",3,0,"Leeds Utd",45962.625,null,5,5,0,5,5,5,5,10,5,5,5,0,5,"-",0,5,5,5,5,5,0,5,5,0,5,5,5,"-",5,5,5,5,5,0,5,5,5,0,5,5,5,0,5,"-",5,5,5,5,5,5,0,5,5,10,0,5,5,5,5,5,5,5,5,5,0,5,5,5,5,5,5,5,0,5,5,0,0,5,5,5,5,5,5,5,5,5,0,5,5,5,5,10,5,5,5,5,5,5,0,5]
["2025-11-01","Burnley",0,2,"Arsenal",45962.625,null,10,5,10,5,10,10,"-",5,10,10,5,10,5,"-",10,10,5,10,0,5,0,10,10,5,5,10,10,"-",5,5,10,0,5,5,5,10,10,10,10,10,10,5,0,"-",10,10,5,10,10,5,10,10,5,10,5,10,5,5,5,10,10,5,5,10,5,5,5,5,10,5,5,10,10,5,5,10,5,5,10,10,5,5,10,5,10,5,5,10,5,5,10,10,10,10,5,5,0,10,5,10]
["2025-11-01","Crystal Palace",2,0,"Brentford",45962.625,null,0,0,5,5,5,0,"-",5,5,5,0,5,0,"-",0,0,5,5,5,10,0,5,5,0,5,5,5,"-",0,5,5,5,0,0,0,5,5,0,0,0,10,5,5,"-",5,5,0,5,5,10,5,10,10,10,0,0,5,0,5,5,5,0,0,0,10,5,5,0,0,5,0,0,5,0,0,5,5,0,0,5,5,5,5,5,0,0,0,5,5,0,5,10,5,5,0,10,5,0,5,0]
["2025-11-01","Fulham",3,0,"Wolves",45962.625,null,5,0,5,5,5,5,"-",5,5,5,5,5,5,"-",0,5,5,5,5,0,0,5,5,5,5,5,5,"-",5,0,10,5,5,5,0,5,5,5,0,5,5,0,5,"-",5,5,5,5,5,5,5,5,0,5,5,5,5,5,5,0,5,5,5,5,5,5,0,0,5,5,5,0,0,0,5,5,0,10,5,5,5,5,5,5,10,0,5,5,5,5,5,5,5,5,5,5,5,5,5,5]
["2025-11-01","Nott'm Forest",2,2,"Man Utd",45962.625,null,0,0,0,5,0,0,"-",0,0,0,0,0,0,"-",0,0,0,5,0,0,5,5,0,0,5,5,0,"-",0,0,0,0,0,0,0,0,10,0,0,0,10,5,0,"-",5,0,0,5,0,0,0,0,10,0,0,0,0,0,0,0,0,5,0,0,0,0,0,0,0,0,0,0,5,0,0,5,0,10,0,5,0,0,0,0,5,0,0,0,5,0,0,0,0,10,5,0,0,5,0,5]
["2025-11-01","Spurs",0,1,"Chelsea","17:30:00",null,5,5,0,0,0,0,"-",0,0,5,0,0,0,"-",0,0,0,0,0,0,0,0,0,0,0,0,0,"-",0,5,0,0,0,0,5,0,0,5,0,0,0,0,0,"-",0,0,0,0,5,0,5,0,0,5,0,0,0,0,0,0,0,0,0,5,0,0,0,0,0,5,0,0,5,5,5,5,0,0,0,0,0,0,0,5,5,5,0,0,0,0,0,0,0,0,0,0,5,5,0,0]
["2025-11-01","Liverpool",2,0,"Aston Villa","20:00:00",null,0,0,5,5,5,5,"-",0,5,0,5,5,0,"-",10,0,5,5,5,5,0,5,0,5,5,5,5,"-",5,0,10,5,0,5,5,0,5,10,0,5,5,5,5,"-",0,5,0,5,10,5,0,5,5,0,5,5,5,5,5,5,5,5,5,5,0,5,5,5,5,0,10,0,0,5,5,5,5,10,5,5,5,5,5,5,5,5,5,5,5,5,0,5,0,10,5,0,5,5,0,5]
["2025-11-02","West Ham",3,1,"Newcastle","14:00:00",null,0,0,0,0,0,0,"-",0,0,0,0,0,0,"-",0,0,0,0,5,0,0,0,0,0,0,0,0,"-",0,0,0,5,0,0,0,0,5,0,0,0,0,0,10,"-",0,0,0,0,0,0,0,0,0,0,5,0,0,0,0,0,0,0,0,0,0,0,5,0,0,0,0,0,0,0,0,0,0,0,0,0,0,0,5,0,0,5,0,0,0,0,0,0,0,0,0,0,0,0,0,0]
["2025-11-02","Man City",3,1,"Bournemouth","16:30:00",null,5,10,0,10,5,5,"-",5,5,5,0,5,5,"-",5,5,5,10,5,10,0,5,5,5,5,5,5,"-",5,0,5,5,10,10,10,5,5,5,5,5,5,5,10,"-",5,5,0,5,5,5,0,5,0,0,5,5,5,5,5,10,5,5,0,5,0,5,5,0,5,0,0,0,10,0,5,0,10,10,5,5,5,5,5,0,5,0,5,10,5,10,0,5,5,10,10,5,5,5,5,10]
["2025-11-03","Sunderland",1,1,"Everton","20:00:00",null,0,5,10,0,0,0,"-",0,10,10,0,5,10,"-",10,10,10,10,0,0,10,10,0,10,10,0,0,"-",10,0,0,0,0,0,10,0,0,0,0,0,10,0,0,"-",0,0,0,0,0,0,0,10,0,10,0,0,0,10,10,0,10,10,0,0,0,0,0,10,0,0,10,5,0,10,10,0,0,0,0,10,10,0,10,0,5,0,0,10,10,0,0,10,0,5,0,5,10,10,0,0]
["2025-11-08","Spurs",2,2,"Man Utd","12:30:00",null,5,0,10,0,0,0,0,0,5,0,10,0,5,"-",5,5,0,0,0,5,5,5,0,5,0,0,0,"-",5,10,0,0,10,0,10,0,0,0,5,0,0,0,10,"-",0,0,5,5,0,0,0,5,10,5,0,0,0,0,5,0,0,0,10,0,0,0,0,5,0,0,0,0,0,0,10,10,0,0,0,0,5,0,0,0,0,10,0,10,10,5,0,0,0,0,10,0,10,5,0,0]
["2025-11-08","Everton",2,0,"Fulham",45969.625,null,5,10,0,5,5,10,0,5,0,0,0,0,5,"-",0,5,5,5,5,5,0,0,5,5,5,5,10,"-",5,5,5,5,5,5,0,5,10,5,5,0,0,5,5,"-",5,0,5,5,5,10,0,0,5,5,0,0,5,5,5,0,5,5,5,5,0,10,0,5,5,5,5,0,0,5,0,0,0,0,0,5,5,5,5,0,0,0,5,5,0,5,5,5,5,0,10,5,0,0,5,0]
["2025-11-08","West Ham",3,2,"Burnley",45969.625,null,0,5,5,5,5,0,5,5,5,0,5,0,5,"-",0,5,5,5,5,5,0,5,0,0,5,5,0,"-",0,5,5,5,5,5,5,5,5,0,0,5,5,5,0,"-",5,5,0,5,5,5,0,5,5,5,5,5,5,0,5,5,5,5,0,5,0,5,0,5,5,5,5,0,0,0,5,5,0,5,0,5,5,0,5,0,0,0,5,0,5,5,5,5,5,5,5,0,5,5,5,5]
["2025-11-08","Sunderland",2,2,"Arsenal","17:30:00",null,0,0,0,0,0,0,0,0,0,0,0,0,0,"-",0,0,0,0,0,0,5,0,0,0,0,0,0,"-",0,0,0,0,0,0,0,0,0,0,0,0,0,0,0,"-",0,0,5,0,0,0,0,0,5,0,0,0,0,0,0,0,0,0,0,0,0,0,0,0,0,0,0,0,0,0,0,0,0,0,0,0,0,5,0,0,0,0,0,0,0,0,0,0,0,0,0,5,0,0,0,0]
["2025-11-08","Chelsea",3,0,"Wolves","20:00:00",null,5,5,10,5,5,10,5,10,5,10,5,5,10,"-",0,5,5,10,5,5,0,5,10,5,5,5,10,"-",5,5,5,5,5,5,5,5,5,5,5,5,5,5,5,"-",5,10,0,5,5,10,5,5,5,5,5,5,5,5,5,10,5,5,10,10,5,5,5,5,5,5,5,5,5,5,5,5,5,5,10,5,5,5,5,0,5,5,5,5,5,5,10,10,10,5,5,5,10,5,5,5]
["2025-11-09","Aston Villa",4,0,"Bournemouth","14:00:00",null,0,5,5,0,0,5,0,5,5,0,5,0,0,"-",0,0,0,5,5,5,0,0,0,0,0,5,0,"-",5,0,5,5,5,5,0,0,5,0,0,0,0,0,0,"-",5,0,5,0,0,5,0,0,5,0,0,0,0,5,5,0,5,5,0,0,0,5,0,0,0,5,0,0,0,0,5,0,0,0,0,5,5,5,5,0,5,0,5,0,5,0,0,5,0,0,5,0,0,0,5,0]
["2025-11-09","Brentford",3,1,"Newcastle","14:00:00",null,5,5,0,5,0,5,0,0,0,5,0,0,0,"-",0,0,0,0,5,0,0,0,0,0,0,5,0,"-",0,0,5,5,5,5,5,0,5,5,0,5,0,5,5,"-",5,5,0,0,0,0,0,0,0,0,0,5,5,5,0,0,0,0,0,5,0,0,5,5,5,5,5,5,0,5,0,5,5,5,0,0,0,0,0,0,0,0,0,0,0,5,0,0,5,0,0,0,5,0,5,0]
["2025-11-09","Crystal Palace",0,0,"Brighton","14:00:00",null,0,0,0,0,0,0,0,0,0,0,5,0,0,"-",5,0,0,5,0,0,5,0,0,0,5,0,0,"-",5,5,0,0,0,0,5,5,0,5,5,5,0,5,5,"-",0,0,0,0,0,0,0,5,5,0,0,10,0,0,0,5,5,0,5,0,0,0,0,0,5,0,5,5,0,5,5,5,0,5,0,5,0,0,0,0,0,0,0,0,0,5,0,0,0,0,0,0,0,0,0,0]
["2025-11-09","Nott'm Forest",3,1,"Leeds Utd","14:00:00",null,5,5,0,5,5,5,5,0,5,5,5,0,5,"-",5,5,5,5,5,5,0,5,5,0,5,5,0,"-",5,5,5,5,0,5,5,5,5,5,0,5,5,5,5,"-",0,5,5,5,0,5,0,5,5,5,0,5,5,5,5,5,5,5,0,5,0,5,0,5,5,5,5,5,0,5,0,5,5,0,5,5,5,5,5,0,5,0,5,0,5,0,5,5,5,5,10,5,5,0,5,5]
["2025-11-09","Man City",3,0,"Liverpool","16:30:00",null,0,5,5,0,5,0,0,5,0,5,0,5,5,"-",0,5,0,0,5,0,0,5,5,0,0,5,0,"-",0,0,5,5,5,5,0,5,5,5,5,0,0,0,0,"-",5,5,5,0,0,0,5,0,0,0,0,5,0,5,0,0,0,0,0,5,5,0,0,5,5,5,0,5,5,0,0,0,0,0,0,0,0,5,5,0,0,0,0,0,0,5,5,0,5,0,0,5,0,0,5,5]
["2025-11-22","Burnley",0,2,"Chelsea","12:30:00",null,10,5,0,5,5,10,"-",10,10,5,5,5,10,5,0,5,10,10,0,5,0,10,10,5,10,10,5,"-",5,10,0,"-",5,0,5,5,10,5,5,10,10,0,0,"-",10,5,5,10,0,10,10,0,5,10,5,10,10,5,10,10,5,10,10,0,5,5,10,0,0,10,10,0,5,5,10,5,10,5,5,5,5,5,5,5,5,0,5,5,5,5,5,5,0,5,5,5,5,10,5,5]
["2025-11-22","Bournemouth",2,2,"West Ham",45983.625,null,5,0,0,0,0,5,"-",5,0,0,0,0,0,0,0,5,10,0,0,0,5,0,0,0,0,5,10,"-",0,0,0,"-",10,0,0,0,0,5,0,0,0,0,0,"-",0,0,0,0,0,0,0,0,0,0,10,0,0,0,0,0,0,5,0,0,0,0,0,0,5,0,0,0,0,0,0,0,0,10,0,0,0,0,0,0,0,0,0,0,0,0,0,0,0,0,0,10,0,0,0,10]
["2025-11-22","Brighton",2,1,"Brentford",45983.625,null,10,0,10,0,5,0,"-",5,0,10,10,0,0,5,0,0,10,5,10,0,0,0,0,0,0,0,10,"-",5,5,10,"-",10,10,10,10,10,0,0,0,10,0,0,"-",10,5,0,10,10,0,10,10,5,0,0,0,5,0,0,0,10,10,10,10,5,0,0,10,0,5,0,0,0,0,10,0,0,0,5,10,0,5,5,0,0,10,10,0,10,10,0,10,5,5,5,10,0,0,10,10]
["2025-11-22","Fulham",1,0,"Sunderland",45983.625,null,10,0,0,10,0,5,"-",0,5,10,5,0,0,0,0,10,5,5,5,5,0,5,0,0,5,0,5,"-",0,0,5,"-",0,5,0,0,0,0,0,0,10,0,10,"-",0,10,0,0,5,5,0,5,5,0,0,0,10,0,5,0,10,10,10,0,0,5,0,5,0,0,0,0,0,0,10,0,0,5,0,0,5,0,10,0,0,5,0,0,5,0,0,10,5,10,0,0,5,0,0,0]
["2025-11-22","Liverpool",0,3,"Nott'm Forest",45983.625,null,0,0,0,0,0,0,"-",5,0,0,0,0,0,0,0,0,0,0,0,0,0,0,0,0,0,0,0,"-",0,0,0,"-",0,0,0,0,0,0,0,0,0,0,0,"-",0,0,0,0,0,0,0,0,0,0,0,0,0,0,0,0,0,0,0,0,0,0,0,0,0,0,0,0,0,0,0,0,0,0,0,0,0,0,0,0,0,0,0,0,0,0,0,0,0,0,0,0,0,0,0,0]
["2025-11-22","Wolves",0,2,"Crystal Palace",45983.625,null,0,5,10,5,5,10,"-",5,5,5,5,10,10,10,5,10,10,5,0,0,0,10,5,5,5,5,10,"-",5,5,0,"-",5,0,5,10,0,5,5,10,0,10,5,"-",5,10,0,5,0,0,5,0,0,10,10,5,5,0,0,5,5,5,5,10,10,10,10,10,0,10,5,5,10,5,0,10,5,0,0,5,10,0,5,0,5,0,0,5,5,5,5,0,0,5,0,5,5,0,5,5]
["2025-11-22","Newcastle",2,1,"Man City","17:30:00",null,0,0,0,0,0,0,"-",0,0,0,0,0,0,0,0,0,0,0,10,0,0,0,0,0,0,0,0,"-",0,0,10,"-",0,10,0,0,0,0,0,0,0,10,0,"-",0,0,0,0,10,0,0,10,0,0,0,0,0,5,0,0,0,5,0,0,0,0,0,0,0,0,0,0,0,0,0,0,0,0,0,0,0,0,0,0,0,0,0,0,0,0,0,0,5,0,0,0,0,0,0,0]
["2025-11-23","Leeds Utd",1,2,"Aston Villa","14:00:00",null,10,5,10,0,10,0,"-",5,10,0,10,10,10,5,0,5,5,0,0,0,0,10,10,0,0,10,5,"-",0,5,0,"-",0,0,0,10,0,0,5,10,5,5,10,"-",0,10,0,10,0,0,0,0,0,10,10,0,0,0,5,5,5,5,0,5,10,10,5,10,0,10,10,0,0,5,0,10,5,5,0,10,0,0,5,0,0,0,10,0,10,0,0,10,0,10,10,5,5,0,0,10]
["2025-11-23","Arsenal",4,1,"Spurs","16:30:00",null,0,0,5,0,5,5,"-",5,5,5,5,5,5,5,0,5,5,5,5,0,0,5,5,0,0,5,5,"-",5,0,5,"-",5,5,5,5,5,5,5,5,5,0,5,"-",5,5,5,5,5,5,5,5,5,5,5,5,5,5,5,5,5,5,5,5,5,5,5,5,0,5,5,5,5,5,5,0,0,5,5,5,5,5,5,5,5,5,5,5,5,5,5,5,5,5,0,0,5,5,5,5]
["2025-11-24","Man Utd",0,1,"Everton","20:00:00",null,0,0,0,0,0,0,"-",5,0,0,0,0,0,0,0,0,0,0,0,0,"-",0,0,0,0,0,0,"-",0,0,0,"-",0,0,0,0,0,0,0,0,0,0,0,"-",0,0,0,0,0,0,0,0,0,0,0,0,0,0,0,0,0,0,0,0,0,0,0,0,0,0,0,0,0,0,0,0,0,0,0,0,0,0,0,0,5,0,5,0,0,0,0,0,0,0,0,0,0,0,0,0]
["2025-11-29","Brentford",3,1,"Burnley",45990.625,null,5,5,5,5,5,5,"-",5,5,5,5,5,5,"-",0,5,5,5,5,5,"-",5,5,5,10,5,5,"-",5,5,5,"-",5,5,5,5,5,5,5,5,5,5,5,"-",5,5,5,5,10,5,5,5,5,5,5,5,5,5,5,5,5,5,10,5,0,5,5,5,5,5,10,5,0,10,5,10,5,5,5,5,5,5,0,0,5,0,5,5,5,5,0,5,5,5,5,0,5,5,5,10]
["2025-11-29","Man City",3,2,"Leeds Utd",45990.625,null,5,5,5,5,5,5,"-",5,5,5,5,5,5,"-",5,5,5,5,5,5,"-",5,5,5,5,5,5,"-",5,5,5,"-",5,5,5,5,5,5,5,5,5,5,5,"-",5,5,5,5,5,5,5,5,5,5,5,5,5,5,5,5,5,5,5,5,5,5,5,5,5,5,5,5,5,5,5,5,5,5,5,5,5,5,5,10,5,5,5,5,5,5,0,5,5,5,5,0,5,5,5,5]
["2025-11-29","Sunderland",3,2,"Bournemouth",45990.625,null,5,5,0,0,5,5,"-",5,0,0,0,0,5,"-",0,5,0,0,5,0,"-",0,0,5,0,5,0,"-",0,0,"-","-",5,5,5,0,5,5,0,0,0,0,5,"-",5,0,5,0,0,5,5,0,0,0,0,5,0,0,0,0,0,0,0,0,5,5,0,0,0,5,0,0,5,0,0,0,0,0,5,5,0,5,5,5,5,0,5,0,0,0,0,0,5,5,0,0,0,0,5,0]
["2025-11-29","Everton",1,4,"Newcastle","17:30:00",null,0,0,0,0,0,0,"-",5,0,0,5,0,0,"-",0,5,0,0,0,0,"-",0,5,0,5,0,0,"-",0,0,"-","-",0,0,0,0,0,0,0,5,5,5,0,"-",0,0,0,0,5,0,0,0,0,0,5,0,0,0,5,0,0,5,5,5,5,5,0,0,5,5,0,0,0,5,0,0,0,0,0,0,0,5,0,5,0,0,0,0,5,0,0,5,0,0,0,0,0,0,0,5]
["2025-11-29","Spurs",1,2,"Fulham","20:00:00",null,0,0,0,0,0,0,"-",0,0,0,0,0,0,"-",0,0,0,0,0,0,"-",0,0,0,0,0,0,"-",0,0,"-","-",0,0,0,0,0,0,0,0,0,0,10,"-",0,0,0,0,0,0,0,0,0,10,0,0,0,0,0,0,0,0,0,0,0,0,0,0,0,0,0,10,10,0,0,10,0,0,0,0,0,0,0,5,0,0,0,0,0,0,0,0,0,0,0,0,0,0,5,0]
["2025-11-30","Crystal Palace",1,2,"Man Utd","12:00:00",null,0,0,10,0,0,0,"-",0,0,10,0,0,0,"-",0,0,0,0,0,0,"-",0,0,0,0,0,0,"-",0,0,"-","-",0,0,0,0,0,0,0,0,0,0,0,"-",0,0,0,0,0,10,0,0,10,10,0,0,0,0,10,0,0,0,0,10,10,0,0,0,0,10,0,0,0,0,10,0,10,0,0,0,0,10,0,5,0,5,10,0,0,0,0,10,0,0,0,0,0,0,0,0]
["2025-11-30","Aston Villa",1,0,"Wolves","14:05:00",null,5,0,5,5,5,5,"-",5,5,5,5,5,5,"-",0,10,5,5,5,5,"-",5,5,5,5,5,5,"-",5,5,"-","-",5,5,10,5,5,10,5,5,5,5,5,"-",5,5,5,5,5,5,5,5,5,5,5,5,5,5,5,5,5,5,5,5,5,5,5,5,5,5,0,5,5,5,10,5,5,10,5,5,5,5,5,0,5,0,5,5,5,5,0,5,5,5,5,0,5,5,5,5]
["2025-11-30","Nott'm Forest",0,2,"Brighton","14:05:00",null,0,0,0,0,0,0,"-",10,5,0,0,0,0,"-",0,0,0,5,0,0,"-",0,0,0,0,0,0,"-",0,0,"-","-",0,0,0,0,0,0,0,0,0,0,0,"-",0,0,0,0,0,0,0,0,10,5,0,0,0,0,0,0,0,0,0,5,5,0,0,0,0,0,0,0,0,0,0,0,0,5,0,0,0,0,0,0,0,10,0,5,0,5,0,0,0,0,0,0,0,0,0,0]
["2025-11-30","West Ham",0,2,"Liverpool","14:05:00",null,5,0,5,5,5,5,"-",0,0,0,5,10,0,"-",0,5,5,5,0,10,"-",5,0,5,5,5,5,"-",5,0,"-","-",5,0,5,0,0,5,0,10,5,10,5,"-",0,0,0,5,5,5,10,5,0,0,0,5,5,0,5,0,5,5,5,5,0,5,5,5,5,0,5,10,0,5,5,0,5,5,5,5,10,0,10,5,5,5,5,5,5,5,0,5,0,0,5,0,5,5,0,5]
["2025-11-30","Chelsea",1,1,"Arsenal","16:30:00",null,0,5,0,10,10,0,"-",5,10,5,0,10,0,"-",5,0,0,5,0,10,"-",0,0,5,5,0,5,"-",10,0,"-","-",5,"-",0,0,0,0,0,10,0,0,10,"-",0,0,0,10,0,10,0,5,10,10,5,0,10,0,10,0,0,0,5,0,0,0,10,0,5,0,5,0,0,5,0,10,10,0,5,0,0,0,0,0,5,10,5,0,5,0,10,0,0,0,5,10,0,10,0,0]
[]
["Golden Boots"]
["Alexander Isak - Liverpool",null,null,{"$f":"COUNT(H45:JB45)","v":31},{"$f":"0+0+0+0","v":0},null,null,null,{"$f":"$E45*2","v":0},null,{"$f":"$E45*2","v":0},null,{"$f":"$E45*2","v":0},null,null,{"$f":"$E45*2","v":0},null,null,null,{"$f":"$E45*2","v":0},null,null,null,null,null,null,null,{"$f":"$E45*2","v":0},null,null,{"$f":"$E45*2","v":0},0,null,null,0,null,null,null,{"$f":"$E45*2","v":0},null,0,0,null,0,0,0,null,null,{"$f":"$E45*2","v":0},0,0,null,null,null,null,null,null,0,null,0,null,{"$f":"$E45*2","v":0},null,null,null,{"$f":"$E45*2","v":0},null,null,0,null,null,null,null,null,null,null,null,null,null,null,null,null,{"$f":"$E45*2","v":0},{"$f":"$E45*2","v":0},{"$f":"$E45*2","v":0},{"$f":"$E45*2","v":0},{"$f":"$E45*2","v":0},null,null,null,null,null,null,null,null,{"$f":"$E45*2","v":0},null,null,{"$f":"$E45*2","v":0},null,null,null,null,{"$f":"$E45*2","v":0}]
["Bryan Mbeumo - Man United",null,null,6,{"$f":"0+1+0+0","v":1},null,null,null,null,null,null,null,null,null,null,null,null,null,null,null,null,null,null,null,{"$f":"$E46*2","v":2},null,null,null,null,2,null,null,null,null,null,null,null,null,null,2,null,null,null,null,null,null,null,null,null,null,null,null,null,null,null,null,null,null,null,null,null,null,null,null,null,null,null,null,null,null,null,null,null,null,null,null,null,null,null,null,null,{"$f":"$E46*2","v":2},null,null,null,null,null,null,null,null,null,null,null,null,null,null,{"$f":"$E46*2","v":2},null,null,null,null,null,{"$f":"$E46*2","v":2}]
["Chris Wood - Nottingham Forest",null,null,5,{"$f":"0+0+0+0","v":0},null,null,null,null,null,null,null,null,null,null,null,null,null,{"$f":"$E47*2","v":0},null,null,{"$f":"$E47*2","v":0},null,null,null,null,null,null,null,null,null,null,null,null,null,null,null,null,null,null,null,null,null,null,null,null,null,null,null,null,null,null,null,null,null,null,null,null,null,null,null,null,null,null,null,null,null,null,null,null,null,null,null,null,null,{"$f":"$E47*2","v":0},null,null,null,null,{"$f":"$E47*2","v":0},null,null,null,null,null,null,null,null,null,null,null,null,null,null,null,null,null,null,null,null,null,null,null,null,{"$f":"$E47*2","v":0}]
["Cole Palmer - Chelsea",null,null,27,{"$f":"0+0+0+0","v":0},null,null,null,null,{"$f":"$E48*2","v":0},{"$f":"$E48*2","v":0},{"$f":"$E48*2","v":0},null,{"$f":"$E48*2","v":0},{"$f":"$E48*2","v":0},null,null,null,null,null,null,null,{"$f":"$E48*2","v":0},{"$f":"$E48*2","v":0},null,null,{"$f":"$E48*2","v":0},null,null,null,null,null,0,null,null,null,{"$f":"$E48*2","v":0},null,null,null,null,null,null,null,null,null,null,null,{"$f":"$E48*2","v":0},null,null,null,0,null,{"$f":"$E48*2","v":0},null,{"$f":"$E48*2","v":0},null,0,null,null,null,null,{"$f":"$E48*2","v":0},{"$f":"$E48*2","v":0},null,0,null,null,null,null,0,null,null,null,{"$f":"$E48*2","v":0},null,null,null,{"$f":"$E48*2","v":0},null,null,{"$f":"$E48*2","v":0},{"$f":"$E48*2","v":0},null,null,null,{"$f":"$E48*2","v":0},null,null,null,null,null,null,{"$f":"$E48*2","v":0},null,{"$f":"$E48*2","v":0},{"$f":"$E48*2","v":0}]
["Erling Haaland - Man City",null,null,80,{"$f":"2+1+0+0","v":3},null,null,{"$f":"$E49*2","v":6},{"$f":"$E49*2","v":6},null,{"$f":"$E49*2","v":6},{"$f":"$E49*2","v":6},{"$f":"$E49*2","v":6},null,null,{"$f":"$E49*2","v":6},6,6,6,6,{"$f":"$E49*2","v":6},6,{"$f":"$E49*2","v":6},{"$f":"$E49*2","v":6},{"$f":"$E49*2","v":6},{"$f":"$E49*2","v":6},{"$f":"$E49*2","v":6},{"$f":"$E49*2","v":6},{"$f":"$E49*2","v":6},{"$f":"$E49*2","v":6},null,null,null,{"$f":"$E49*2","v":6},6,6,6,null,null,{"$f":"$E49*2","v":6},6,6,{"$f":"$E49*2","v":6},{"$f":"$E49*2","v":6},{"$f":"$E49*2","v":6},{"$f":"$E49*2","v":6},6,6,null,null,{"$f":"$E49*2","v":6},6,6,null,6,6,6,{"$f":"$E49*2","v":6},6,6,6,{"$f":"$E49*2","v":6},{"$f":"$E49*2","v":6},null,6,6,6,6,6,6,6,6,6,{"$f":"$E49*2","v":6},{"$f":"$E49*2","v":6},null,null,{"$f":"$E49*2","v":6},{"$f":"$E49*2","v":6},{"$f":"$E49*2","v":6},{"$f":"$E49*2","v":6},{"$f":"$E49*2","v":6},null,null,{"$f":"$E49*2","v":6},{"$f":"$E49*2","v":6},{"$f":"$E49*2","v":6},{"$f":"$E49*2","v":6},null,null,{"$f":"$E49*2","v":6},{"$f":"$E49*2","v":6},{"$f":"$E49*2","v":6},{"$f":"$E49*2","v":6},null,{"$f":"$E49*2","v":6},{"$f":"$E49*2","v":6},null,{"$f":"$E49*2","v":6},{"$f":"$E49*2","v":6},6,6,6,6,6,6,6]
["Hugo Ekitike - Liverpool",null,null,12,{"$f":"0+0+0+0","v":0},null,null,null,null,null,null,null,null,null,null,null,null,{"$f":"$E50*2","v":0},null,null,null,null,null,null,null,{"$f":"$E50*2","v":0},null,null,null,null,null,null,null,null,null,null,null,{"$f":"$E50*2","v":0},{"$f":"$E50*2","v":0},0,null,null,null,null,null,null,null,null,0,null,null,0,null,null,null,null,0,null,null,null,null,null,null,null,null,null,null,null,null,null,null,null,null,null,null,null,{"$f":"$E50*2","v":0},{"$f":"$E50*2","v":0},null,null,null,null,null,null,null,null,null,null,null,{"$f":"$E50*2","v":0},null,null,null,null,null,null,null,null,null,null,null,null,null,null,null,null,{"$f":"$E50*2","v":0}]
["Jean-Philippe Mateta - Crystal Palace",null,null,5,{"$f":"1+0+0+1","v":2},null,null,null,null,null,null,null,null,null,null,null,null,null,null,null,null,null,null,null,null,null,null,null,null,null,null,null,null,null,null,null,null,null,null,null,null,null,null,null,null,null,null,null,null,null,null,null,null,null,null,null,null,null,null,null,null,null,null,{"$f":"$E51*2","v":4},null,null,null,null,null,null,null,null,null,null,null,null,{"$f":"$E51*2","v":4},null,null,null,null,null,null,null,null,null,null,null,null,{"$f":"$E51*2","v":4},null,null,null,null,null,null,null,{"$f":"$E51*2","v":4},null,null,{"$f":"$E51*2","v":4}]
["Jorgen Strand Larsen - Wolves",null,null,1,{"$f":"0+0+0+0","v":0},null,null,null,null,null,null,null,null,null,null,null,null,null,null,null,null,null,null,null,null,null,null,null,null,null,null,null,null,null,null,null,null,null,null,null,null,null,null,null,null,null,null,null,null,null,null,null,null,null,null,null,null,null,null,null,null,null,null,null,null,null,null,null,null,null,null,null,null,{"$f":"$E52*2","v":0}]
["Justin Kluivert - Bournemouth",null,null,1,{"$f":"0+0+0+0","v":0},null,null,null,null,null,null,null,null,{"$f":"$E53*2","v":0}]
["Liam Delap - Chelsea",null,null,1,{"$f":"0+0+0+0","v":0},null,null,null,null,null,null,null,null,null,null,null,null,null,null,null,null,null,null,null,null,null,null,null,null,null,null,null,null,null,null,null,null,null,null,null,null,null,null,null,null,null,null,null,null,null,null,null,null,null,null,null,null,null,null,null,null,null,null,null,null,null,null,null,null,null,null,null,null,null,null,null,null,null,null,null,null,null,null,null,null,null,null,null,null,{"$f":"$E54*2","v":0}]
["Matheus Cunha - Man United",null,null,5,{"$f":"0+0+0+0","v":0},null,null,null,null,null,null,null,null,{"$f":"$E55*2","v":0},null,null,null,null,null,null,null,null,null,null,null,null,null,null,null,null,null,null,null,null,null,null,null,null,null,null,null,null,null,null,null,null,null,null,null,null,null,null,null,{"$f":"$E55*2","v":0},null,null,null,null,null,null,null,null,null,null,null,null,null,null,null,null,null,null,null,null,null,null,null,null,null,null,null,null,null,{"$f":"$E55*2","v":0},null,null,null,null,{"$f":"$E55*2","v":0},null,{"$f":"$E55*2","v":0}]
["Mohamed Salah - Liverpool",null,null,83,{"$f":"1+0+0+0","v":1},null,null,{"$f":"$E56*2","v":2},null,{"$f":"$E56*2","v":2},null,{"$f":"$E56*2","v":2},{"$f":"$E56*2","v":2},null,{"$f":"$E56*2","v":2},{"$f":"$E56*2","v":2},{"$f":"$E56*2","v":2},{"$f":"$E56*2","v":2},{"$f":"$E56*2","v":2},{"$f":"$E56*2","v":2},{"$f":"$E56*2","v":2},{"$f":"$E56*2","v":2},null,2,{"$f":"$E56*2","v":2},{"$f":"$E56*2","v":2},2,{"$f":"$E56*2","v":2},{"$f":"$E56*2","v":2},2,2,2,2,2,null,{"$f":"$E56*2","v":2},null,{"$f":"$E56*2","v":2},2,null,2,2,2,2,{"$f":"$E56*2","v":2},2,2,2,null,{"$f":"$E56*2","v":2},2,null,{"$f":"$E56*2","v":2},2,2,2,null,{"$f":"$E56*2","v":2},{"$f":"$E56*2","v":2},2,{"$f":"$E56*2","v":2},{"$f":"$E56*2","v":2},{"$f":"$E56*2","v":2},{"$f":"$E56*2","v":2},2,2,2,2,null,{"$f":"$E56*2","v":2},2,2,2,{"$f":"$E56*2","v":2},{"$f":"$E56*2","v":2},null,null,{"$f":"$E56*2","v":2},2,{"$f":"$E56*2","v":2},{"$f":"$E56*2","v":2},2,{"$f":"$E56*2","v":2},null,{"$f":"$E56*2","v":2},{"$f":"$E56*2","v":2},{"$f":"$E56*2","v":2},{"$f":"$E56*2","v":2},{"$f":"$E56*2","v":2},null,{"$f":"$E56*2","v":2},{"$f":"$E56*2","v":2},{"$f":"$E56*2","v":2},{"$f":"$E56*2","v":2},{"$f":"$E56*2","v":2},{"$f":"$E56*2","v":2},null,{"$f":"$E56*2","v":2},2,{"$f":"$E56*2","v":2},2,{"$f":"$E56*2","v":2},null,2,2,{"$f":"$E56*2","v":2},2]
["Ollie Watkins - Aston Villa",null,null,3,{"$f":"0+0+0+0","v":0},null,null,null,null,null,null,null,null,null,null,null,null,null,null,null,null,null,null,null,null,null,null,null,null,null,null,0,null,null,null,null,null,null,null,null,null,null,null,null,null,null,null,null,null,null,null,null,null,null,null,null,null,null,null,null,null,null,null,null,null,null,null,null,null,null,null,null,null,null,null,{"$f":"$E57*2","v":0},null,null,null,null,null,null,null,null,null,null,null,null,null,null,null,{"$f":"$E57*2","v":0}]
["Viktor Gyokeres - Arsenal",null,null,39,{"$f":"1+0+0+0","v":1},null,null,{"$f":"$E58*2","v":2},{"$f":"$E58*2","v":2},{"$f":"$E58*2","v":2},null,null,null,null,{"$f":"$E58*2","v":2},null,{"$f":"$E58*2","v":2},null,null,null,{"$f":"$E58*2","v":2},null,{"$f":"$E58*2","v":2},null,null,null,null,null,{"$f":"$E58*2","v":2},null,{"$f":"$E58*2","v":2},null,{"$f":"$E58*2","v":2},2,2,2,2,2,null,null,null,null,{"$f":"$E58*2","v":2},null,null,null,{"$f":"$E58*2","v":2},2,null,{"$f":"$E58*2","v":2},null,{"$f":"$E58*2","v":2},null,{"$f":"$E58*2","v":2},null,{"$f":"$E58*2","v":2},null,null,null,null,{"$f":"$E58*2","v":2},null,{"$f":"$E58*2","v":2},null,null,null,null,{"$f":"$E58*2","v":2},2,2,2,null,{"$f":"$E58*2","v":2},null,{"$f":"$E58*2","v":2},null,{"$f":"$E58*2","v":2},null,{"$f":"$E58*2","v":2},null,null,null,null,null,null,null,null,null,{"$f":"$E58*2","v":2},null,null,null,null,{"$f":"$E58*2","v":2},{"$f":"$E58*2","v":2},null,null,null,null,{"$f":"$E58*2","v":2},null,{"$f":"$E58*2","v":2},{"$f":"$E58*2","v":2},null,{"$f":"$E58*2","v":2}]
["Yoane Wissa - Newcastle",null,null,1,{"$f":"0+0+0","v":0},null,null,null,null,null,null,null,null,null,null,null,null,null,null,null,null,null,null,null,null,null,null,null,null,null,null,null,null,null,null,null,null,null,null,null,null,null,null,null,null,null,null,null,null,null,null,null,null,null,null,null,null,null,null,null,null,null,null,null,null,null,null,null,null,null,null,null,null,null,null,null,null,null,null,null,null,null,null,null,null,null,null,null,null,null,null,null,{"$f":"$E59*2","v":0}]
[]
["Total Points - November",null,null,null,null,null,null,{"$f":"SUM(H$3:H60)","v":135},{"$f":"SUM(I$3:I60)","v":113},{"$f":"SUM(J$3:J60)","v":139},{"$f":"SUM(K$3:K60)","v":121},{"$f":"SUM(L$3:L60)","v":133},{"$f":"SUM(M$3:M60)","v":133},{"$f":"SUM(N$3:N60)","v":20},{"$f":"SUM(O$3:O60)","v":149},{"$f":"SUM(P$3:P60)","v":143},{"$f":"SUM(Q$3:Q60)","v":145},{"$f":"SUM(R$3:R60)","v":128},{"$f":"SUM(S$3:S60)","v":118},{"$f":"SUM(T$3:T60)","v":128},{"$f":"SUM(U$3:U60)","v":40},{"$f":"SUM(V$3:V60)","v":73},{"$f":"SUM(W$3:W60)","v":148},{"$f":"SUM(X$3:X60)","v":143},{"$f":"SUM(Y$3:Y60)","v":160},{"$f":"SUM(Z$3:Z60)","v":123},{"$f":"SUM(AA$3:AA60)","v":118},{"$f":"SUM(AB$3:AB60)","v":43},{"$f":"SUM(AC$3:AC60)","v":145},{"$f":"SUM(AD$3:AD60)","v":115},{"$f":"SUM(AE$3:AE60)","v":89},{"$f":"SUM(AF$3:AF60)","v":127},{"$f":"SUM(AG$3:AG60)","v":139},{"$f":"SUM(AH$3:AH60)","v":140},{"$f":"SUM(AI$3:AI60)","v":8},{"$f":"SUM(AJ$3:AJ60)","v":125},{"$f":"SUM(AK$3:AK60)","v":103},{"$f":"SUM(AL$3:AL60)","v":124},{"$f":"SUM(AM$3:AM60)","v":67},{"$f":"SUM(AN$3:AN60)","v":138},{"$f":"SUM(AO$3:AO60)","v":118},{"$f":"SUM(AP$3:AP60)","v":138},{"$f":"SUM(AQ$3:AQ60)","v":125},{"$f":"SUM(AR$3:AR60)","v":143},{"$f":"SUM(AS$3:AS60)","v":123},{"$f":"SUM(AT$3:AT60)","v":88},{"$f":"SUM(AU$3:AU60)","v":140},{"$f":"SUM(AV$3:AV60)","v":150},{"$f":"SUM(AW$3:AW60)","v":110},{"$f":"SUM(AX$3:AX60)","v":154},{"$f":"SUM(AY$3:AY60)","v":8},{"$f":"SUM(AZ$3:AZ60)","v":123},{"$f":"SUM(BA$3:BA60)","v":133},{"$f":"SUM(BB$3:BB60)","v":79},{"$f":"SUM(BC$3:BC60)","v":143},{"$f":"SUM(BD$3:BD60)","v":130},{"$f":"SUM(BE$3:BE60)","v":141},{"$f":"SUM(BF$3:BF60)","v":103},{"$f":"SUM(BG$3:BG60)","v":138},{"$f":"SUM(BH$3:BH60)","v":153},{"$f":"SUM(BI$3:BI60)","v":170},{"$f":"SUM(BJ$3:BJ60)","v":108},{"$f":"SUM(BK$3:BK60)","v":120},{"$f":"SUM(BL$3:BL60)","v":126},{"$f":"SUM(BM$3:BM60)","v":103},{"$f":"SUM(BN$3:BN60)","v":148},{"$f":"SUM(BO$3:BO60)","v":108},{"$f":"SUM(BP$3:BP60)","v":145},{"$f":"SUM(BQ$3:BQ60)","v":153},{"$f":"SUM(BR$3:BR60)","v":135},{"$f":"SUM(BS$3:BS60)","v":150},{"$f":"SUM(BT$3:BT60)","v":108},{"$f":"SUM(BU$3:BU60)","v":135},{"$f":"SUM(BV$3:BV60)","v":108},{"$f":"SUM(BW$3:BW60)","v":130},{"$f":"SUM(BX$3:BX60)","v":100},{"$f":"SUM(BY$3:BY60)","v":141},{"$f":"SUM(BZ$3:BZ60)","v":128},{"$f":"SUM(CA$3:CA60)","v":100},{"$f":"SUM(CB$3:CB60)","v":98},{"$f":"SUM(CC$3:CC60)","v":118},{"$f":"SUM(CD$3:CD60)","v":150},{"$f":"SUM(CE$3:CE60)","v":137},{"$f":"SUM(CF$3:CF60)","v":100},{"$f":"SUM(CG$3:CG60)","v":138},{"$f":"SUM(CH$3:CH60)","v":98},{"$f":"SUM(CI$3:CI60)","v":148},{"$f":"SUM(CJ$3:CJ60)","v":128},{"$f":"SUM(CK$3:CK60)","v":114},{"$f":"SUM(CL$3:CL60)","v":144},{"$f":"SUM(CM$3:CM60)","v":83},{"$f":"SUM(CN$3:CN60)","v":123},{"$f":"SUM(CO$3:CO60)","v":103},{"$f":"SUM(CP$3:CP60)","v":130},{"$f":"SUM(CQ$3:CQ60)","v":114},{"$f":"SUM(CR$3:CR60)","v":153},{"$f":"SUM(CS$3:CS60)","v":123},{"$f":"SUM(CT$3:CT60)","v":86},{"$f":"SUM(CU$3:CU60)","v":168},{"$f":"SUM(CV$3:CV60)","v":115},{"$f":"SUM(CW$3:CW60)","v":147},{"$f":"SUM(CX$3:CX60)","v":135},{"$f":"SUM(CY$3:CY60)","v":115},{"$f":"SUM(CZ$3:CZ60)","v":128},{"$f":"SUM(DA$3:DA60)","v":120},{"$f":"SUM(DB$3:DB60)","v":113},{"$f":"SUM(DC$3:DC60)","v":143}]

{"sheet":"December","index":5,"n_rows":81,"n_cols":107,"rows_kept":81,"cut":false,"hidden":false,"merged":[[1,1,1,4]]}
[null,null,null,null,null,null,null,"Aaron Nealon","Aidan Scanlon","Aidan White","Alain Verjans","Anastas Popov","Andy Dunne","Benny McCarthy","Billy McGinley","Bobby Hynes","Brendan Maguire","Brian Haughton","Brian Hearne","Brian Mullen","Calvin McGettigan","Caoimhin McEnteggart","Carl Toner","Caroline Carroll","Chris Keohan","Christina Morgan","Ciaran O'Hart","Colin Butterly","Con McSweeney","Craig Calvert","Craig Whelan","Daniel Dorrian","Darragh Kenny","Darren O'Gorman","Dave Lavelle","Dave McGinley","David Cooney","David Doyle","David King","Derek McDonald","Dylan Delaney","Dylan O'Riordan","Eamon Fox","Eamonn Gallagher","Eoghan Farrelly","Finbarr Corkery","Frank McSweeney","Gareth Pierpoint","Gary Donnelly","Gary Fitzpatrick","Gavin Goodwin","Gavin Morgan","Gerry Draper","Gerry Moore","Graham Pierpoint","Greg Donaghy","Helen Fadian","Jack Draper","Jason Maloney","Javier Suarez","Jim Foley","Jimmy Maguire","Joe Behan","Joe Turner","John Brophy","John Cafferkey","Johno Percy","Jonathan Fox","Joseph Kavanagh","Joseph Leppla","Keith Nerney","Keith Ryan","Kev Dalton","Kevin Lawless","Kevin Nolan","Kieran Killeen","Liam Keohan","Lionel Knott","Martin Kimmins","Micheal Joyce","Micheal Munnelly","Monica Collins","Niall Carroll","Paddy Devereux","Paul Foley","Paul Moore","Paul Prendergast","Peter Lavelle","Phil Doyle","Philip Jordan","Phoebe Suarez Behan","Realtin Dunne","Rhea Suarez Behan","Richard Johnston","Robert Foley","Robert Gaffney","Roisin Joyce","Sam Calvert","Sean Cafferkey","Sean Cleary","Sean O'Mairtin","Shane Horan","Simon Scanlon","Thomas Nolan","Tommy Hamill","Tommy Tormey","Tommy Walsh"]
["Date","Teams",null,null,null,"Time"]
["2025-12-02","Bournemouth",0,1,"Everton","19:30:00",null,0,5,0,0,0,0,"-",0,0,0,0,0,0,"-",0,0,0,0,0,0,"-",0,0,0,0,0,0,"-",0,0,5,"-",0,"-",0,0,0,0,0,0,0,0,0,"-",0,0,0,0,0,0,0,0,0,0,0,0,0,0,0,0,0,0,0,0,0,0,0,0,0,0,0,0,0,0,0,5,10,0,0,0,0,0,0,0,0,5,0,0,0,0,0,0,0,0,0,0,0,0,0,0]
["2025-12-02","Fulham",4,5,"Man City","19:30:00",null,5,5,5,5,5,0,"-",5,5,5,5,5,5,"-",5,5,0,5,0,5,"-",5,5,5,5,5,5,"-",5,5,5,"-",5,"-",0,5,5,5,5,5,5,0,5,"-",5,5,0,5,5,5,5,5,5,5,0,5,5,0,5,5,0,5,5,0,5,0,5,5,5,5,0,5,5,5,5,0,5,5,5,5,5,5,5,5,0,5,0,5,5,5,0,5,5,5,5,0,0,5,0,5]
["2025-12-02","Newcastle",2,2,"Spurs","20:15:00",null,0,0,5,5,0,0,"-",0,0,0,0,0,5,"-",10,0,0,0,0,5,"-",0,0,0,10,0,0,"-",0,0,0,"-",0,"-",0,0,0,0,0,0,0,0,0,"-",0,0,0,0,0,0,0,10,0,0,0,0,0,10,0,0,0,0,0,0,0,0,0,0,0,0,0,0,0,0,0,0,0,10,0,0,0,0,0,10,5,0,0,0,10,0,5,0,0,0,0,5,0,5,0,0]
["2025-12-03","Arsenal",2,0,"Brentford","19:30:00",null,5,0,5,5,10,5,"-",5,10,10,5,10,5,"-",5,10,5,5,5,10,"-",5,5,10,5,10,10,"-",10,5,5,"-",5,"-",5,5,10,0,5,5,5,5,5,"-",5,10,5,10,10,10,10,10,10,10,10,10,10,10,5,10,10,10,5,10,10,5,10,10,5,10,5,5,0,5,10,10,0,0,0,5,10,10,10,5,5,5,5,10,5,10,0,5,5,5,5,10,5,10,5,5]
["2025-12-03","Brighton",3,4,"Aston Villa","19:30:00",null,0,5,5,0,0,0,"-",0,0,0,0,0,0,"-",0,0,0,0,0,0,"-",0,0,0,0,5,0,"-",0,0,0,"-",0,"-",0,0,0,0,0,0,0,5,0,"-",0,0,0,0,0,5,0,0,0,0,0,0,0,0,0,0,5,0,0,5,0,0,0,0,0,5,0,0,0,0,0,0,5,0,0,0,0,5,0,5,0,0,0,0,0,0,0,0,0,0,0,0,5,0,0,0]
["2025-12-03","Burnley",0,1,"Crystal Palace","19:30:00",null,0,5,5,0,10,10,"-",5,0,0,5,5,10,"-",0,10,5,5,0,0,"-",5,5,5,5,5,0,"-",0,0,5,"-",5,"-",0,10,0,5,10,5,5,5,5,"-",10,5,0,5,5,0,5,5,5,5,0,0,0,0,5,5,10,5,5,10,0,5,10,5,5,10,5,0,5,5,0,0,10,5,0,5,5,5,10,0,0,5,0,5,0,0,0,0,5,5,5,5,10,10,0,5]
["2025-12-03","Wolves",0,1,"Nott'm Forest","19:30:00",null,0,5,0,0,5,0,"-",5,0,5,10,0,5,"-",0,10,5,10,0,0,"-",5,5,0,0,5,0,"-",0,5,5,"-",0,"-",0,10,0,10,5,5,5,0,5,"-",10,0,0,10,0,5,5,5,0,0,0,5,0,5,0,0,10,10,0,5,10,5,10,10,0,5,0,10,10,5,0,5,10,0,10,0,5,0,0,0,5,0,5,5,5,0,0,0,5,5,0,5,10,0,0,5]
["2025-12-03","Leeds Utd",3,1,"Chelsea","20:15:00",null,0,0,0,0,0,0,"-",0,0,0,0,0,0,"-",0,0,0,0,5,0,"-",0,0,0,0,0,0,"-",0,0,0,"-",0,"-",0,0,0,0,0,0,0,0,0,"-",0,0,0,0,0,0,0,0,0,0,5,0,0,0,0,0,0,0,0,0,0,5,0,0,0,0,0,0,0,0,0,0,0,0,0,0,0,0,0,0,0,0,0,0,0,0,0,0,0,0,0,0,0,0,5,0]
["2025-12-03","Liverpool",1,1,"Sunderland","20:15:00",null,0,5,0,0,0,0,"-",0,0,0,0,0,0,"-",0,0,0,0,0,0,"-",0,0,0,0,0,0,"-",0,5,10,"-",0,"-",0,0,0,0,0,0,0,0,10,"-",0,0,0,0,0,0,0,0,0,10,0,0,0,0,0,0,0,0,0,0,10,0,0,0,0,0,0,0,5,0,0,0,0,0,0,0,0,0,0,0,0,0,0,0,0,0,10,0,0,0,0,0,0,0,0,0]
["2025-12-04","Man Utd",1,1,"West Ham","20:00:00",null,0,0,0,0,0,0,"-",0,0,0,0,0,0,"-",0,0,0,0,0,0,"-",0,0,0,0,0,0,"-",0,0,0,"-",0,"-",0,0,0,0,0,0,0,0,0,"-",0,0,0,0,0,0,0,0,0,0,0,0,0,10,0,0,0,0,0,0,0,0,0,0,10,0,0,0,0,10,0,5,0,0,0,0,0,0,0,0,0,0,0,0,0,0,10,0,0,0,5,0,0,0,0,5]
["2025-12-06","Aston Villa",2,1,"Arsenal","12:30:00",null,0,0,5,0,0,10,"-",0,0,0,0,0,0,"-",0,5,10,0,10,0,"-",0,5,0,5,0,10,"-",0,0,"-","-",0,"-",0,0,5,5,0,10,10,0,10,"-",10,0,0,0,0,0,0,0,0,10,0,0,0,0,0,0,0,0,0,0,5,0,0,0,0,0,0,0,0,0,0,5,0,0,0,0,0,0,0,5,0,5,0,0,10,0,0,0,5,0,10,0,0,0,0,10]
["2025-12-06","Bournemouth",0,0,"Chelsea",45997.625,null,5,0,5,0,0,0,"-",0,0,5,0,0,5,"-",5,0,0,0,0,0,"-",5,5,0,0,5,0,"-",5,0,"-","-",0,"-",0,0,0,0,0,0,0,5,0,"-",0,0,0,0,0,5,0,5,0,5,5,0,5,0,0,0,0,5,5,0,0,0,5,0,5,0,0,0,0,0,0,0,0,0,0,5,0,0,0,0,5,0,0,0,0,5,5,0,0,0,0,5,0,0,0,5]
["2025-12-06","Everton",3,0,"Nott'm Forest",45997.625,null,0,5,5,5,5,5,"-",0,5,5,0,5,5,"-",0,0,0,5,5,5,"-",0,0,5,5,5,5,"-",5,5,"-","-",5,"-",5,5,5,5,0,0,5,5,5,"-",5,5,5,5,5,5,5,0,5,5,0,0,5,5,0,5,5,5,0,5,5,0,5,0,0,0,0,0,0,5,5,0,0,5,0,5,0,5,5,5,5,5,0,5,5,5,0,5,0,0,5,0,0,0,0,0]
["2025-12-06","Man City",3,0,"Sunderland",45997.625,null,5,5,5,5,5,5,"-",0,5,10,10,5,5,"-",5,5,5,10,5,5,"-",5,5,10,5,5,10,"-",5,0,"-","-",5,"-",0,5,5,5,5,5,5,5,5,"-",10,5,5,5,5,10,5,5,5,5,5,5,5,5,10,5,5,5,5,5,5,10,5,5,5,5,5,5,5,5,5,0,0,5,5,5,5,5,5,5,5,5,5,5,5,5,0,5,5,5,5,0,5,5,0,5]
["2025-12-06","Newcastle",2,1,"Burnley",45997.625,null,10,10,10,5,10,5,"-",10,10,10,10,10,10,"-",0,10,10,10,5,10,"-",10,10,10,10,10,10,"-",10,5,"-","-",5,"-",5,10,10,10,10,5,5,0,10,"-",10,10,5,10,5,5,10,10,10,5,5,10,10,5,10,5,5,10,10,10,10,5,5,5,5,5,10,10,5,5,5,5,0,5,10,10,10,10,10,5,10,5,5,10,5,10,0,5,5,10,5,0,5,10,10,10]
["2025-12-06","Spurs",2,0,"Brentford",45997.625,null,5,0,5,0,5,0,"-",10,0,5,5,0,5,"-",0,0,0,0,5,5,"-",0,5,5,10,0,10,"-",5,5,"-","-",0,"-",5,0,10,0,5,0,5,5,0,"-",5,0,0,5,0,5,5,5,0,0,0,0,0,0,5,5,5,5,5,0,10,0,0,0,5,0,5,0,10,0,0,0,0,5,5,5,10,0,10,5,5,5,5,0,5,5,0,5,0,5,5,"-",5,5,0,0]
["2025-12-06","Leeds Utd",3,3,"Liverpool","17:30:00",null,0,0,0,0,0,0,"-",0,0,5,0,0,5,"-",5,0,0,0,0,5,"-",0,0,0,0,0,0,"-",5,0,"-","-",5,"-",0,5,0,0,0,0,0,0,5,"-",0,0,5,0,0,0,0,0,0,0,5,5,0,0,0,5,0,0,0,0,0,0,5,0,0,5,0,0,5,0,5,0,0,0,0,0,0,0,0,0,0,0,0,0,0,0,5,0,0,0,0,"-",0,5,0,0]
["2025-12-07","Brighton",1,1,"West Ham","14:00:00",null,0,0,0,0,0,0,"-",0,0,0,0,0,0,"-",10,0,0,0,0,0,"-",0,0,10,0,0,10,"-",0,0,"-","-",0,"-",0,0,0,10,0,0,0,5,0,"-",0,0,0,0,0,0,0,10,0,0,5,0,0,0,0,0,0,0,0,0,0,0,0,0,5,0,0,0,0,5,0,10,0,0,0,0,0,0,0,0,0,0,0,0,0,0,10,0,0,0,0,"-",10,0,0,0]
["2025-12-07","Fulham",1,2,"Crystal Palace","16:30:00",null,0,0,10,0,5,10,"-",5,0,0,0,10,0,"-",0,0,0,0,0,0,"-",0,10,0,0,0,10,"-",0,10,"-","-",10,"-",5,0,0,5,0,10,0,5,0,"-",0,0,0,10,0,10,0,0,0,5,0,0,0,0,0,0,0,0,10,0,0,5,0,5,0,5,0,10,0,5,0,0,5,10,0,0,0,10,0,0,0,0,0,0,0,0,0,0,10,0,0,"-",5,0,0,10]
["2025-12-08","Wolves",1,4,"Man Utd","20:00:00",null,5,5,5,5,5,5,"-",5,0,5,5,5,5,"-",5,5,5,5,0,5,"-",5,5,5,"-",5,5,"-",5,5,"-","-",5,"-",0,5,0,5,5,5,5,5,5,"-",5,5,5,5,5,5,5,5,0,5,5,5,5,0,5,5,5,0,5,5,0,5,5,5,0,5,5,5,5,5,5,0,"-",10,5,5,5,5,5,0,5,0,5,5,5,5,"-",5,5,5,0,"-",5,0,0,5]
["2025-12-13","Chelsea",2,0,"Everton",46004.625,null,0,0,5,5,10,0,"-",0,5,10,10,5,5,"-",5,5,5,10,5,5,"-",5,5,10,5,0,5,"-",5,5,"-","-",5,"-",5,5,10,5,0,5,5,0,5,"-",10,0,0,10,5,10,10,10,10,5,5,5,5,10,5,10,5,10,5,5,5,10,5,5,5,5,5,5,5,5,5,0,5,5,10,0,10,5,10,5,10,5,5,5,5,5,"-",10,10,5,5,5,5,5,5,10]
["2025-12-13","Liverpool",2,0,"Brighton",46004.625,null,0,5,5,5,5,10,"-",0,5,0,5,0,0,"-",5,10,10,10,5,10,"-",5,10,5,5,5,5,"-",0,0,"-","-",5,"-",5,0,10,5,5,10,5,5,5,"-",5,0,0,5,5,5,10,5,5,0,10,5,5,0,10,0,5,10,5,5,0,5,5,0,10,5,10,5,5,0,5,5,5,5,5,5,10,0,5,0,10,0,5,5,5,5,"-",5,5,5,5,0,5,5,5,0]
["2025-12-13","Burnley",2,3,"Fulham","17:30:00",null,0,5,5,0,0,5,"-",5,5,0,5,0,5,"-",0,5,5,5,0,0,"-",5,5,5,5,0,0,"-",0,0,"-","-",5,"-",0,5,0,5,5,5,5,5,0,"-",0,5,5,0,5,5,5,5,0,5,5,0,0,0,0,5,5,5,5,5,5,5,0,0,5,0,0,0,5,0,0,5,5,5,0,5,5,0,5,0,0,0,0,5,5,0,"-",0,5,5,0,5,5,0,0,5]
["2025-12-13","Arsenal",2,1,"Wolves","20:00:00",null,5,5,5,5,5,5,"-",5,5,5,5,5,5,"-",10,5,5,5,10,5,"-",5,5,5,5,5,5,"-",5,5,"-","-",5,"-",5,5,5,5,5,5,5,5,5,"-",5,5,5,5,5,5,5,5,5,5,5,5,5,5,5,5,5,5,5,5,5,5,5,5,5,10,5,5,5,5,5,5,10,5,5,5,5,5,5,5,5,10,10,5,5,5,"-",5,5,5,10,5,5,5,10,5]
["2025-12-14","Crystal Palace",0,3,"Man City",46004.625,null,5,5,5,5,5,5,"-",0,5,5,5,5,5,"-",0,5,5,5,0,5,"-",5,5,5,0,5,5,"-",5,0,"-","-",0,"-",5,5,0,5,5,5,5,5,0,"-",5,0,5,0,5,5,5,0,5,5,5,5,5,0,5,5,5,0,5,5,0,5,5,10,5,0,0,0,5,0,0,0,5,5,0,0,5,5,5,5,0,5,5,5,0,5,"-",5,5,0,0,5,5,0,0,5]
["2025-12-14","Nott'm Forest",3,0,"Spurs","14:00:00",null,0,5,0,0,0,5,"-",5,0,0,0,0,0,"-",5,0,0,0,5,0,"-",0,5,0,0,0,0,"-",0,0,"-","-",0,"-",0,0,0,0,0,5,0,0,5,"-",5,5,0,0,0,0,0,0,0,0,0,0,5,5,0,0,0,5,0,0,0,5,0,0,0,5,0,0,0,0,0,0,0,0,5,0,0,5,0,0,5,0,0,0,0,5,"-",5,0,5,5,0,0,0,5,0]
["2025-12-14","Sunderland",1,0,"Newcastle","14:00:00",null,10,0,0,0,10,0,"-",5,0,10,0,0,0,"-",5,0,0,0,5,0,"-",5,0,0,5,0,0,"-",0,5,"-","-",5,"-",5,5,0,10,0,0,0,0,5,"-",5,5,10,0,0,0,5,0,0,0,0,0,10,0,0,0,0,0,0,0,0,0,0,0,0,5,0,0,0,0,0,0,0,0,10,0,0,0,5,5,0,0,5,5,0,0,"-",0,0,0,5,0,0,5,5,0]
["2025-12-14","West Ham",2,3,"Aston Villa","14:00:00",null,5,5,5,5,5,0,"-",5,0,5,5,5,5,"-",0,5,5,5,0,5,"-",5,5,5,5,5,5,"-",5,5,"-","-",5,"-",5,5,5,5,5,5,5,5,0,"-",5,5,5,5,5,5,5,5,0,5,5,5,5,5,0,0,5,5,5,5,5,5,5,5,5,0,5,5,5,5,5,0,5,5,5,5,5,5,5,5,0,0,0,5,5,5,"-",0,5,10,0,5,5,5,0,5]
["2025-12-14","Brentford",1,1,"Leeds Utd","16:30:00",null,10,0,10,10,0,0,"-",0,0,0,0,5,10,"-",0,10,0,10,0,0,"-",0,10,0,0,0,0,"-",10,0,"-","-",10,"-",10,0,0,0,0,0,0,0,0,"-",0,0,0,0,0,0,0,0,10,0,0,0,0,0,0,0,0,0,0,0,10,0,0,0,0,0,0,0,10,0,5,0,0,0,0,0,0,0,0,0,0,0,0,0,0,0,"-",0,0,0,0,0,10,0,"-",0]
["2025-12-15","Man Utd",null,null,"Bournemouth","20:00:00"]
["2025-12-20","Newcastle",null,null,"Chelsea","12:30:00"]
["2025-12-20","Bournemouth",null,null,"Burnley",46011.625]
["2025-12-20","Brighton",null,null,"Sunderland",46011.625]
["2025-12-20","Man City",null,null,"West Ham",46011.625]
["2025-12-20","Wolves",null,null,"Brentford",46011.625]
["2025-12-20","Spurs",null,null,"Liverpool","17:30:00"]
["2025-12-20","Everton",null,null,"Arsenal","20:00:00"]
["2025-12-20","Leeds Utd",null,null,"Crystal Palace","20:00:00"]
["2025-12-21","Aston Villa",null,null,"Man Utd","16:30:00"]
["2025-12-22","Fulham",null,null,"Nott'm Forest","20:00:00"]
["2025-12-26","Man Utd",null,null,"Newcastle","20:00:00"]
["2025-12-27","Nott'm Forest",null,null,"Man City","12:30:00"]
["2025-12-27","Arsenal",null,null,"Brighton",46018.625]
["2025-12-27","Brentford",null,null,"Bournemouth",46018.625]
["2025-12-27","Burnley",null,null,"Everton",46018.625]
["2025-12-27","Liverpool",null,null,"Wolves",46018.625]
["2025-12-27","West Ham",null,null,"Fulham",46018.625]
["2025-12-27","Chelsea",null,null,"Aston Villa","17:30:00"]
["2025-12-28","Sunderland",null,null,"Leeds Utd","14:00:00"]
["2025-12-28","Crystal Palace",null,null,"Spurs","16:30:00"]
["2025-12-30","Arsenal",null,null,"Aston Villa",46021.833333333336]
["2025-12-30","Brentford",null,null,"Spurs",46021.833333333336]
["2025-12-30","Burnley",null,null,"Newcastle",46021.833333333336]
["2025-12-30","Chelsea",null,null,"Bournemouth",46021.833333333336]
["2025-12-30","Crystal Palace",null,null,"Fulham",46021.833333333336]
["2025-12-30","Liverpool",null,null,"Leeds Utd",46021.833333333336]
["2025-12-30","Man Utd",null,null,"Wolves",46021.833333333336]
["2025-12-30","Nott'm Forest",null,null,"Everton",46021.833333333336]
["2025-12-30","Sunderland",null,null,"Man City",46021.833333333336]
["2025-12-30","West Ham",null,null,"Brighton",46021.833333333336]
[]
["Golden Boots"]
["Alexander Isak - Liverpool",null,null,{"$f":"COUNT(H65:JB65)","v":31},{"$f":"0+0+0","v":0},null,null,null,{"$f":"$E65*2","v":0},null,{"$f":"$E65*2","v":0},null,{"$f":"$E65*2","v":0},null,null,{"$f":"$E65*2","v":0},null,null,null,{"$f":"$E65*2","v":0},null,null,null,null,null,null,null,{"$f":"$E65*2","v":0},null,null,{"$f":"$E65*2","v":0},0,null,null,0,null,null,null,{"$f":"$E65*2","v":0},null,0,0,null,0,0,0,null,null,{"$f":"$E65*2","v":0},0,0,null,null,null,null,null,null,0,null,0,null,{"$f":"$E65*2","v":0},null,null,null,{"$f":"$E65*2","v":0},null,null,0,null,null,null,null,null,null,null,null,null,null,null,null,null,{"$f":"$E65*2","v":0},{"$f":"$E65*2","v":0},{"$f":"$E65*2","v":0},{"$f":"$E65*2","v":0},{"$f":"$E65*2","v":0},null,null,null,null,null,null,null,null,{"$f":"$E65*2","v":0},null,null,{"$f":"$E65*2","v":0},null,null,null,null,{"$f":"$E65*2","v":0}]
["Bryan Mbeumo - Man United",null,null,6,{"$f":"0+1","v":1},null,null,null,null,null,null,null,null,null,null,null,null,null,null,null,null,null,null,null,{"$f":"$E66*2","v":2},null,null,null,null,2,null,null,null,null,null,null,null,null,null,2,null,null,null,null,null,null,null,null,null,null,null,null,null,null,null,null,null,null,null,null,null,null,null,null,null,null,null,null,null,null,null,null,null,null,null,null,null,null,null,null,null,{"$f":"$E66*2","v":2},null,null,null,null,null,null,null,null,null,null,null,null,null,null,{"$f":"$E66*2","v":2},null,null,null,null,null,{"$f":"$E66*2","v":2}]
["Chris Wood - Nottingham Forest",null,null,5,{"$f":"0+0+0","v":0},null,null,null,null,null,null,null,null,null,null,null,null,null,{"$f":"$E67*2","v":0},null,null,{"$f":"$E67*2","v":0},null,null,null,null,null,null,null,null,null,null,null,null,null,null,null,null,null,null,null,null,null,null,null,null,null,null,null,null,null,null,null,null,null,null,null,null,null,null,null,null,null,null,null,null,null,null,null,null,null,null,null,null,null,{"$f":"$E67*2","v":0},null,null,null,null,{"$f":"$E67*2","v":0},null,null,null,null,null,null,null,null,null,null,null,null,null,null,null,null,null,null,null,null,null,null,null,null,{"$f":"$E67*2","v":0}]
["Cole Palmer - Chelsea",null,null,27,{"$f":"0+0+1","v":1},null,null,null,null,{"$f":"$E68*2","v":2},{"$f":"$E68*2","v":2},{"$f":"$E68*2","v":2},null,{"$f":"$E68*2","v":2},{"$f":"$E68*2","v":2},null,null,null,null,null,null,null,{"$f":"$E68*2","v":2},{"$f":"$E68*2","v":2},null,null,{"$f":"$E68*2","v":2},null,null,null,null,null,2,null,null,null,{"$f":"$E68*2","v":2},null,null,null,null,null,null,null,null,null,null,null,{"$f":"$E68*2","v":2},null,null,null,2,null,{"$f":"$E68*2","v":2},null,{"$f":"$E68*2","v":2},null,2,null,null,null,null,{"$f":"$E68*2","v":2},{"$f":"$E68*2","v":2},null,2,null,null,null,null,2,null,null,null,{"$f":"$E68*2","v":2},null,null,null,{"$f":"$E68*2","v":2},null,null,{"$f":"$E68*2","v":2},{"$f":"$E68*2","v":2},null,null,null,{"$f":"$E68*2","v":2},null,null,null,null,null,null,{"$f":"$E68*2","v":2},null,{"$f":"$E68*2","v":2},{"$f":"$E68*2","v":2}]
["Erling Haaland - Man City",null,null,80,{"$f":"1+0+2","v":3},null,null,{"$f":"$E69*2","v":6},{"$f":"$E69*2","v":6},null,{"$f":"$E69*2","v":6},{"$f":"$E69*2","v":6},{"$f":"$E69*2","v":6},null,null,{"$f":"$E69*2","v":6},6,6,6,6,{"$f":"$E69*2","v":6},6,{"$f":"$E69*2","v":6},{"$f":"$E69*2","v":6},{"$f":"$E69*2","v":6},{"$f":"$E69*2","v":6},{"$f":"$E69*2","v":6},{"$f":"$E69*2","v":6},{"$f":"$E69*2","v":6},{"$f":"$E69*2","v":6},null,null,null,{"$f":"$E69*2","v":6},6,6,6,null,null,{"$f":"$E69*2","v":6},6,6,{"$f":"$E69*2","v":6},{"$f":"$E69*2","v":6},{"$f":"$E69*2","v":6},{"$f":"$E69*2","v":6},6,6,null,null,{"$f":"$E69*2","v":6},6,6,null,6,6,6,{"$f":"$E69*2","v":6},6,6,6,{"$f":"$E69*2","v":6},{"$f":"$E69*2","v":6},null,6,6,6,6,6,6,6,6,6,{"$f":"$E69*2","v":6},{"$f":"$E69*2","v":6},null,null,{"$f":"$E69*2","v":6},{"$f":"$E69*2","v":6},{"$f":"$E69*2","v":6},{"$f":"$E69*2","v":6},{"$f":"$E69*2","v":6},null,null,{"$f":"$E69*2","v":6},{"$f":"$E69*2","v":6},{"$f":"$E69*2","v":6},{"$f":"$E69*2","v":6},null,null,{"$f":"$E69*2","v":6},{"$f":"$E69*2","v":6},{"$f":"$E69*2","v":6},{"$f":"$E69*2","v":6},null,{"$f":"$E69*2","v":6},{"$f":"$E69*2","v":6},null,{"$f":"$E69*2","v":6},{"$f":"$E69*2","v":6},6,6,6,6,6,6,6]
["Hugo Ekitike - Liverpool",null,null,12,{"$f":"0+2+2","v":4},null,null,null,null,null,null,null,null,null,null,null,null,{"$f":"$E70*2","v":8},null,null,null,null,null,null,null,{"$f":"$E70*2","v":8},null,null,null,null,null,null,null,null,null,null,null,{"$f":"$E70*2","v":8},{"$f":"$E70*2","v":8},8,null,null,null,null,null,null,null,null,8,null,null,8,null,null,null,null,8,null,null,null,null,null,null,null,null,null,null,null,null,null,null,null,null,null,null,null,{"$f":"$E70*2","v":8},{"$f":"$E70*2","v":8},null,null,null,null,null,null,null,null,null,null,null,{"$f":"$E70*2","v":8},null,null,null,null,null,null,null,null,null,null,null,null,null,null,null,null,{"$f":"$E70*2","v":8}]
["Jean-Philippe Mateta - Crystal Palace",null,null,5,{"$f":"0+0+0","v":0},null,null,null,null,null,null,null,null,null,null,null,null,null,null,null,null,null,null,null,null,null,null,null,null,null,null,null,null,null,null,null,null,null,null,null,null,null,null,null,null,null,null,null,null,null,null,null,null,null,null,null,null,null,null,null,null,null,null,{"$f":"$E71*2","v":0},null,null,null,null,null,null,null,null,null,null,null,null,{"$f":"$E71*2","v":0},null,null,null,null,null,null,null,null,null,null,null,null,{"$f":"$E71*2","v":0},null,null,null,null,null,null,null,{"$f":"$E71*2","v":0},null,null,{"$f":"$E71*2","v":0}]
["Jorgen Strand Larsen - Wolves",null,null,1,{"$f":"0+0+0","v":0},null,null,null,null,null,null,null,null,null,null,null,null,null,null,null,null,null,null,null,null,null,null,null,null,null,null,null,null,null,null,null,null,null,null,null,null,null,null,null,null,null,null,null,null,null,null,null,null,null,null,null,null,null,null,null,null,null,null,null,null,null,null,null,null,null,null,null,null,{"$f":"$E72*2","v":0}]
["Justin Kluivert - Bournemouth",null,null,1,{"$f":"0+0","v":0},null,null,null,null,null,null,null,null,{"$f":"$E73*2","v":0}]
["Liam Delap - Chelsea",null,null,1,{"$f":"0+0+0","v":0},null,null,null,null,null,null,null,null,null,null,null,null,null,null,null,null,null,null,null,null,null,null,null,null,null,null,null,null,null,null,null,null,null,null,null,null,null,null,null,null,null,null,null,null,null,null,null,null,null,null,null,null,null,null,null,null,null,null,null,null,null,null,null,null,null,null,null,null,null,null,null,null,null,null,null,null,null,null,null,null,null,null,null,null,{"$f":"$E74*2","v":0}]
["Matheus Cunha - Man United",null,null,5,0,null,null,null,null,null,null,null,null,{"$f":"$E75*2","v":0},null,null,null,null,null,null,null,null,null,null,null,null,null,null,null,null,null,null,null,null,null,null,null,null,null,null,null,null,null,null,null,null,null,null,null,null,null,null,null,{"$f":"$E75*2","v":0},null,null,null,null,null,null,null,null,null,null,null,null,null,null,null,null,null,null,null,null,null,null,null,null,null,null,null,null,null,{"$f":"$E75*2","v":0},null,null,null,null,{"$f":"$E75*2","v":0},null,{"$f":"$E75*2","v":0}]
["Mohamed Salah - Liverpool",null,null,83,{"$f":"0+0+0","v":0},null,null,{"$f":"$E76*2","v":0},null,{"$f":"$E76*2","v":0},null,{"$f":"$E76*2","v":0},{"$f":"$E76*2","v":0},null,{"$f":"$E76*2","v":0},{"$f":"$E76*2","v":0},{"$f":"$E76*2","v":0},{"$f":"$E76*2","v":0},{"$f":"$E76*2","v":0},{"$f":"$E76*2","v":0},{"$f":"$E76*2","v":0},{"$f":"$E76*2","v":0},null,0,{"$f":"$E76*2","v":0},{"$f":"$E76*2","v":0},0,{"$f":"$E76*2","v":0},{"$f":"$E76*2","v":0},0,0,0,0,0,null,{"$f":"$E76*2","v":0},null,{"$f":"$E76*2","v":0},0,null,0,0,0,0,{"$f":"$E76*2","v":0},0,0,0,null,{"$f":"$E76*2","v":0},0,null,{"$f":"$E76*2","v":0},0,0,0,null,{"$f":"$E76*2","v":0},{"$f":"$E76*2","v":0},0,{"$f":"$E76*2","v":0},{"$f":"$E76*2","v":0},{"$f":"$E76*2","v":0},{"$f":"$E76*2","v":0},0,0,0,0,null,{"$f":"$E76*2","v":0},0,0,0,{"$f":"$E76*2","v":0},{"$f":"$E76*2","v":0},null,null,{"$f":"$E76*2","v":0},0,{"$f":"$E76*2","v":0},{"$f":"$E76*2","v":0},0,{"$f":"$E76*2","v":0},null,{"$f":"$E76*2","v":0},{"$f":"$E76*2","v":0},{"$f":"$E76*2","v":0},{"$f":"$E76*2","v":0},{"$f":"$E76*2","v":0},null,{"$f":"$E76*2","v":0},{"$f":"$E76*2","v":0},{"$f":"$E76*2","v":0},{"$f":"$E76*2","v":0},{"$f":"$E76*2","v":0},{"$f":"$E76*2","v":0},null,{"$f":"$E76*2","v":0},0,{"$f":"$E76*2","v":0},0,{"$f":"$E76*2","v":0},null,0,0,{"$f":"$E76*2","v":0},0]
["Ollie Watkins - Aston Villa",null,null,3,{"$f":"2+0+0","v":2},null,null,null,null,null,null,null,null,null,null,null,null,null,null,null,null,null,null,null,null,null,null,null,null,null,null,4,null,null,null,null,null,null,null,null,null,null,null,null,null,null,null,null,null,null,null,null,null,null,null,null,null,null,null,null,null,null,null,null,null,null,null,null,null,null,null,null,null,null,null,{"$f":"$E77*2","v":4},null,null,null,null,null,null,null,null,null,null,null,null,null,null,null,{"$f":"$E77*2","v":4}]
["Viktor Gyokeres - Arsenal",null,null,39,{"$f":"0+0+0","v":0},null,null,{"$f":"$E78*2","v":0},{"$f":"$E78*2","v":0},{"$f":"$E78*2","v":0},null,null,null,null,{"$f":"$E78*2","v":0},null,{"$f":"$E78*2","v":0},null,null,null,{"$f":"$E78*2","v":0},null,{"$f":"$E78*2","v":0},null,null,null,null,null,{"$f":"$E78*2","v":0},null,{"$f":"$E78*2","v":0},null,{"$f":"$E78*2","v":0},0,0,0,0,0,null,null,null,null,{"$f":"$E78*2","v":0},null,null,null,{"$f":"$E78*2","v":0},0,null,{"$f":"$E78*2","v":0},null,{"$f":"$E78*2","v":0},null,{"$f":"$E78*2","v":0},null,{"$f":"$E78*2","v":0},null,null,null,null,{"$f":"$E78*2","v":0},null,{"$f":"$E78*2","v":0},null,null,null,null,{"$f":"$E78*2","v":0},0,0,0,null,{"$f":"$E78*2","v":0},null,{"$f":"$E78*2","v":0},null,{"$f":"$E78*2","v":0},null,{"$f":"$E78*2","v":0},null,null,null,null,null,null,null,null,null,{"$f":"$E78*2","v":0},null,null,null,null,{"$f":"$E78*2","v":0},{"$f":"$E78*2","v":0},null,null,null,null,{"$f":"$E78*2","v":0},null,{"$f":"$E78*2","v":0},{"$f":"$E78*2","v":0},null,{"$f":"$E78*2","v":0}]
["Yoane Wissa - Newcastle",null,null,1,{"$f":"0+0+0","v":0},null,null,null,null,null,null,null,null,null,null,null,null,null,null,null,null,null,null,null,null,null,null,null,null,null,null,null,null,null,null,null,null,null,null,null,null,null,null,null,null,null,null,null,null,null,null,null,null,null,null,null,null,null,null,null,null,null,null,null,null,null,null,null,null,null,null,null,null,null,null,null,null,null,null,null,null,null,null,null,null,null,null,null,null,null,null,null,{"$f":"$E79*2","v":0}]
[]
["Total Points - December",null,null,null,null,null,null,{"$f":"SUM(H$3:H80)","v":81},{"$f":"SUM(I$3:I80)","v":91},{"$f":"SUM(J$3:J80)","v":117},{"$f":"SUM(K$3:K80)","v":78},{"$f":"SUM(L$3:L80)","v":113},{"$f":"SUM(M$3:M80)","v":91},{"$f":"SUM(N$3:N80)","v":2},{"$f":"SUM(O$3:O80)","v":77},{"$f":"SUM(P$3:P80)","v":66},{"$f":"SUM(Q$3:Q80)","v":106},{"$f":"SUM(R$3:R80)","v":104},{"$f":"SUM(S$3:S80)","v":86},{"$f":"SUM(T$3:T80)","v":111},{"$f":"SUM(U$3:U80)","v":6},{"$f":"SUM(V$3:V80)","v":86},{"$f":"SUM(W$3:W80)","v":113},{"$f":"SUM(X$3:X80)","v":88},{"$f":"SUM(Y$3:Y80)","v":113},{"$f":"SUM(Z$3:Z80)","v":84},{"$f":"SUM(AA$3:AA80)","v":93},{"$f":"SUM(AB$3:AB80)","v":6},{"$f":"SUM(AC$3:AC80)","v":86},{"$f":"SUM(AD$3:AD80)","v":123},{"$f":"SUM(AE$3:AE80)","v":100},{"$f":"SUM(AF$3:AF80)","v":94},{"$f":"SUM(AG$3:AG80)","v":82},{"$f":"SUM(AH$3:AH80)","v":116},{"$f":"SUM(AI$3:AI80)","v":6},{"$f":"SUM(AJ$3:AJ80)","v":91},{"$f":"SUM(AK$3:AK80)","v":78},{"$f":"SUM(AL$3:AL80)","v":43},{"$f":"SUM(AM$3:AM80)","v":8},{"$f":"SUM(AN$3:AN80)","v":106},{"$f":"SUM(AO$3:AO80)","v":6},{"$f":"SUM(AP$3:AP80)","v":71},{"$f":"SUM(AQ$3:AQ80)","v":96},{"$f":"SUM(AR$3:AR80)","v":86},{"$f":"SUM(AS$3:AS80)","v":111},{"$f":"SUM(AT$3:AT80)","v":81},{"$f":"SUM(AU$3:AU80)","v":101},{"$f":"SUM(AV$3:AV80)","v":91},{"$f":"SUM(AW$3:AW80)","v":85},{"$f":"SUM(AX$3:AX80)","v":95},{"$f":"SUM(AY$3:AY80)","v":6},{"$f":"SUM(AZ$3:AZ80)","v":129},{"$f":"SUM(BA$3:BA80)","v":78},{"$f":"SUM(BB$3:BB80)","v":60},{"$f":"SUM(BC$3:BC80)","v":103},{"$f":"SUM(BD$3:BD80)","v":76},{"$f":"SUM(BE$3:BE80)","v":121},{"$f":"SUM(BF$3:BF80)","v":106},{"$f":"SUM(BG$3:BG80)","v":113},{"$f":"SUM(BH$3:BH80)","v":81},{"$f":"SUM(BI$3:BI80)","v":101},{"$f":"SUM(BJ$3:BJ80)","v":86},{"$f":"SUM(BK$3:BK80)","v":76},{"$f":"SUM(BL$3:BL80)","v":87},{"$f":"SUM(BM$3:BM80)","v":83},{"$f":"SUM(BN$3:BN80)","v":76},{"$f":"SUM(BO$3:BO80)","v":83},{"$f":"SUM(BP$3:BP80)","v":96},{"$f":"SUM(BQ$3:BQ80)","v":106},{"$f":"SUM(BR$3:BR80)","v":91},{"$f":"SUM(BS$3:BS80)","v":91},{"$f":"SUM(BT$3:BT80)","v":108},{"$f":"SUM(BU$3:BU80)","v":91},{"$f":"SUM(BV$3:BV80)","v":96},{"$f":"SUM(BW$3:BW80)","v":81},{"$f":"SUM(BX$3:BX80)","v":91},{"$f":"SUM(BY$3:BY80)","v":98},{"$f":"SUM(BZ$3:BZ80)","v":74},{"$f":"SUM(CA$3:CA80)","v":76},{"$f":"SUM(CB$3:CB80)","v":103},{"$f":"SUM(CC$3:CC80)","v":81},{"$f":"SUM(CD$3:CD80)","v":73},{"$f":"SUM(CE$3:CE80)","v":62},{"$f":"SUM(CF$3:CF80)","v":82},{"$f":"SUM(CG$3:CG80)","v":96},{"$f":"SUM(CH$3:CH80)","v":86},{"$f":"SUM(CI$3:CI80)","v":76},{"$f":"SUM(CJ$3:CJ80)","v":103},{"$f":"SUM(CK$3:CK80)","v":85},{"$f":"SUM(CL$3:CL80)","v":108},{"$f":"SUM(CM$3:CM80)","v":81},{"$f":"SUM(CN$3:CN80)","v":90},{"$f":"SUM(CO$3:CO80)","v":71},{"$f":"SUM(CP$3:CP80)","v":66},{"$f":"SUM(CQ$3:CQ80)","v":87},{"$f":"SUM(CR$3:CR80)","v":91},{"$f":"SUM(CS$3:CS80)","v":90},{"$f":"SUM(CT$3:CT80)","v":47},{"$f":"SUM(CU$3:CU80)","v":71},{"$f":"SUM(CV$3:CV80)","v":91},{"$f":"SUM(CW$3:CW80)","v":86},{"$f":"SUM(CX$3:CX80)","v":86},{"$f":"SUM(CY$3:CY80)","v":63},{"$f":"SUM(CZ$3:CZ80)","v":111},{"$f":"SUM(DA$3:DA80)","v":86},{"$f":"SUM(DB$3:DB80)","v":56},{"$f":"SUM(DC$3:DC80)","v":114}]

{"sheet":"January","index":6,"n_rows":52,"n_cols":6,"rows_kept":52,"cut":false,"hidden":false,"merged":[[1,1,1,4]]}
[]
["Date","Teams",null,null,null,"Time"]
["2026-01-03","Aston Villa",null,null,"Nott'm Forest",46025.625]
["2026-01-03","Bournemouth",null,null,"Arsenal",46025.625]
["2026-01-03","Brighton",null,null,"Burnley",46025.625]
["2026-01-03","Everton",null,null,"Brentford",46025.625]
["2026-01-03","Fulham",null,null,"Liverpool",46025.625]
["2026-01-03","Leeds Utd",null,null,"Man Utd",46025.625]
["2026-01-03","Man City",null,null,"Chelsea",46025.625]
["2026-01-03","Newcastle",null,null,"Crystal Palace",46025.625]
["2026-01-03","Spurs",null,null,"Sunderland",46025.625]
["2026-01-03","Wolves",null,null,"West Ham",46025.625]
["2026-01-07","Arsenal",null,null,"Liverpool",46029.833333333336]
["2026-01-07","Bournemouth",null,null,"Spurs",46029.833333333336]
["2026-01-07","Brentford",null,null,"Sunderland",46029.833333333336]
["2026-01-07","Burnley",null,null,"Man Utd",46029.833333333336]
["2026-01-07","Crystal Palace",null,null,"Aston Villa",46029.833333333336]
["2026-01-07","Everton",null,null,"Wolves",46029.833333333336]
["2026-01-07","Fulham",null,null,"Chelsea",46029.833333333336]
["2026-01-07","Man City",null,null,"Brighton",46029.833333333336]
["2026-01-07","Newcastle",null,null,"Leeds Utd",46029.833333333336]
["2026-01-07","West Ham",null,null,"Nott'm Forest",46029.833333333336]
["2026-01-17","Aston Villa",null,null,"Everton",46039.625]
["2026-01-17","Brighton",null,null,"Bournemouth",46039.625]
["2026-01-17","Chelsea",null,null,"Brentford",46039.625]
["2026-01-17","Leeds Utd",null,null,"Fulham",46039.625]
["2026-01-17","Liverpool",null,null,"Burnley",46039.625]
["2026-01-17","Man Utd",null,null,"Man City",46039.625]
["2026-01-17","Nott'm Forest",null,null,"Arsenal",46039.625]
["2026-01-17","Spurs",null,null,"West Ham",46039.625]
["2026-01-17","Sunderland",null,null,"Crystal Palace",46039.625]
["2026-01-17","Wolves",null,null,"Newcastle",46039.625]
["2026-01-24","Arsenal",null,null,"Man Utd",46046.625]
["2026-01-24","Bournemouth",null,null,"Liverpool",46046.625]
["2026-01-24","Brentford",null,null,"Nott'm Forest",46046.625]
["2026-01-24","Burnley",null,null,"Spurs",46046.625]
["2026-01-24","Crystal Palace",null,null,"Chelsea",46046.625]
["2026-01-24","Everton",null,null,"Leeds Utd",46046.625]
["2026-01-24","Fulham",null,null,"Brighton",46046.625]
["2026-01-24","Man City",null,null,"Wolves",46046.625]
["2026-01-24","Newcastle",null,null,"Aston Villa",46046.625]
["2026-01-24","West Ham",null,null,"Sunderland",46046.625]
["2026-01-31","Aston Villa",null,null,"Brentford",46053.625]
["2026-01-31","Brighton",null,null,"Everton",46053.625]
["2026-01-31","Chelsea",null,null,"West Ham",46053.625]
["2026-01-31","Leeds Utd",null,null,"Arsenal",46053.625]
["2026-01-31","Liverpool",null,null,"Newcastle",46053.625]
["2026-01-31","Man Utd",null,null,"Fulham",46053.625]
["2026-01-31","Nott'm Forest",null,null,"Crystal Palace",46053.625]
["2026-01-31","Spurs",null,null,"Man City",46053.625]
["2026-01-31","Sunderland",null,null,"Burnley",46053.625]
["2026-01-31","Wolves",null,null,"Bournemouth",46053.625]

{"sheet":"February","index":7,"n_rows":42,"n_cols":6,"rows_kept":42,"cut":false,"hidden":false,"merged":[[1,1,1,4]]}
[]
["Date","Teams",null,null,null,"Time"]
["2026-02-07","Arsenal",null,null,"Sunderland",46060.625]
["2026-02-07","Bournemouth",null,null,"Aston Villa",46060.625]
["2026-02-07","Brighton",null,null,"Crystal Palace",46060.625]
["2026-02-07","Burnley",null,null,"West Ham",46060.625]
["2026-02-07","Fulham",null,null,"Everton",46060.625]
["2026-02-07","Leeds Utd",null,null,"Nott'm Forest",46060.625]
["2026-02-07","Liverpool",null,null,"Man City",46060.625]
["2026-02-07","Man Utd",null,null,"Spurs",46060.625]
["2026-02-07","Newcastle",null,null,"Brentford",46060.625]
["2026-02-07","Wolves",null,null,"Chelsea",46060.625]
["2026-02-11","Aston Villa",null,null,"Brighton",46064.833333333336]
["2026-02-11","Brentford",null,null,"Arsenal",46064.833333333336]
["2026-02-11","Chelsea",null,null,"Leeds Utd",46064.833333333336]
["2026-02-11","Crystal Palace",null,null,"Burnley",46064.833333333336]
["2026-02-11","Everton",null,null,"Bournemouth",46064.833333333336]
["2026-02-11","Man City",null,null,"Fulham",46064.833333333336]
["2026-02-11","Nott'm Forest",null,null,"Wolves",46064.833333333336]
["2026-02-11","Spurs",null,null,"Newcastle",46064.833333333336]
["2026-02-11","Sunderland",null,null,"Liverpool",46064.833333333336]
["2026-02-11","West Ham",null,null,"Man Utd",46064.833333333336]
["2026-02-21","Aston Villa",null,null,"Leeds Utd",46074.625]
["2026-02-21","Brentford",null,null,"Brighton",46074.625]
["2026-02-21","Chelsea",null,null,"Burnley",46074.625]
["2026-02-21","Crystal Palace",null,null,"Wolves",46074.625]
["2026-02-21","Everton",null,null,"Man Utd",46074.625]
["2026-02-21","Man City",null,null,"Newcastle",46074.625]
["2026-02-21","Nott'm Forest",null,null,"Liverpool",46074.625]
["2026-02-21","Spurs",null,null,"Arsenal",46074.625]
["2026-02-21","Sunderland",null,null,"Fulham",46074.625]
["2026-02-21","West Ham",null,null,"Bournemouth",46074.625]
["2026-02-28","Arsenal",null,null,"Chelsea",46081.625]
["2026-02-28","Bournemouth",null,null,"Sunderland",46081.625]
["2026-02-28","Brighton",null,null,"Nott'm Forest",46081.625]
["2026-02-28","Burnley",null,null,"Brentford",46081.625]
["2026-02-28","Fulham",null,null,"Spurs",46081.625]
["2026-02-28","Leeds Utd",null,null,"Man City",46081.625]
["2026-02-28","Liverpool",null,null,"West Ham",46081.625]
["2026-02-28","Man Utd",null,null,"Crystal Palace",46081.625]
["2026-02-28","Newcastle",null,null,"Everton",46081.625]
["2026-02-28","Wolves",null,null,"Aston Villa",46081.625]

{"sheet":"March","index":8,"n_rows":32,"n_cols":6,"rows_kept":32,"cut":false,"hidden":false,"merged":[[1,1,1,4]]}
[]
["Date","Teams",null,null,null,"Time"]
["2026-03-04","Aston Villa",null,null,"Chelsea",46085.833333333336]
["2026-03-04","Bournemouth",null,null,"Brentford",46085.833333333336]
["2026-03-04","Brighton",null,null,"Arsenal",46085.833333333336]
["2026-03-04","Everton",null,null,"Burnley",46085.833333333336]
["2026-03-04","Fulham",null,null,"West Ham",46085.833333333336]
["2026-03-04","Leeds Utd",null,null,"Sunderland",46085.833333333336]
["2026-03-04","Man City",null,null,"Nott'm Forest",46085.833333333336]
["2026-03-04","Newcastle",null,null,"Man Utd",46085.833333333336]
["2026-03-04","Spurs",null,null,"Crystal Palace",46085.833333333336]
["2026-03-04","Wolves",null,null,"Liverpool",46085.833333333336]
["2026-03-14","Arsenal",null,null,"Everton",46095.625]
["2026-03-14","Brentford",null,null,"Wolves",46095.625]
["2026-03-14","Burnley",null,null,"Bournemouth",46095.625]
["2026-03-14","Chelsea",null,null,"Newcastle",46095.625]
["2026-03-14","Crystal Palace",null,null,"Leeds Utd",46095.625]
["2026-03-14","Liverpool",null,null,"Spurs",46095.625]
["2026-03-14","Man Utd",null,null,"Aston Villa",46095.625]
["2026-03-14","Nott'm Forest",null,null,"Fulham",46095.625]
["2026-03-14","Sunderland",null,null,"Brighton",46095.625]
["2026-03-14","West Ham",null,null,"Man City",46095.625]
["2026-03-21","Aston Villa",null,null,"West Ham",46102.625]
["2026-03-21","Bournemouth",null,null,"Man Utd",46102.625]
["2026-03-21","Brighton",null,null,"Liverpool",46102.625]
["2026-03-21","Everton",null,null,"Chelsea",46102.625]
["2026-03-21","Fulham",null,null,"Burnley",46102.625]
["2026-03-21","Leeds Utd",null,null,"Brentford",46102.625]
["2026-03-21","Man City",null,null,"Crystal Palace",46102.625]
["2026-03-21","Newcastle",null,null,"Sunderland",46102.625]
["2026-03-21","Spurs",null,null,"Nott'm Forest",46102.625]
["2026-03-21","Wolves",null,null,"Arsenal",46102.625]

{"sheet":"April","index":9,"n_rows":32,"n_cols":6,"rows_kept":32,"cut":false,"hidden":false,"merged":[[1,1,1,4]]}
[]
["Date","Teams",null,null,null,"Time"]
["2026-04-11","Arsenal",null,null,"Bournemouth",46123.625]
["2026-04-11","Brentford",null,null,"Everton",46123.625]
["2026-04-11","Burnley",null,null,"Brighton",46123.625]
["2026-04-11","Chelsea",null,null,"Man City",46123.625]
["2026-04-11","Crystal Palace",null,null,"Newcastle",46123.625]
["2026-04-11","Liverpool",null,null,"Fulham",46123.625]
["2026-04-11","Man Utd",null,null,"Leeds Utd",46123.625]
["2026-04-11","Nott'm Forest",null,null,"Aston Villa",46123.625]
["2026-04-11","Sunderland",null,null,"Spurs",46123.625]
["2026-04-11","West Ham",null,null,"Wolves",46123.625]
["2026-04-18","Aston Villa",null,null,"Sunderland",46130.625]
["2026-04-18","Brentford",null,null,"Fulham",46130.625]
["2026-04-18","Chelsea",null,null,"Man Utd",46130.625]
["2026-04-18","Crystal Palace",null,null,"West Ham",46130.625]
["2026-04-18","Everton",null,null,"Liverpool",46130.625]
["2026-04-18","Leeds Utd",null,null,"Wolves",46130.625]
["2026-04-18","Man City",null,null,"Arsenal",46130.625]
["2026-04-18","Newcastle",null,null,"Bournemouth",46130.625]
["2026-04-18","Nott'm Forest",null,null,"Burnley",46130.625]
["2026-04-18","Spurs",null,null,"Brighton",46130.625]
["2026-04-25","Arsenal",null,null,"Newcastle",46137.625]
["2026-04-25","Bournemouth",null,null,"Leeds Utd",46137.625]
["2026-04-25","Brighton",null,null,"Chelsea",46137.625]
["2026-04-25","Burnley",null,null,"Man City",46137.625]
["2026-04-25","Fulham",null,null,"Aston Villa",46137.625]
["2026-04-25","Liverpool",null,null,"Crystal Palace",46137.625]
["2026-04-25","Man Utd",null,null,"Brentford",46137.625]
["2026-04-25","Sunderland",null,null,"Nott'm Forest",46137.625]
["2026-04-25","West Ham",null,null,"Everton",46137.625]
["2026-04-25","Wolves",null,null,"Spurs",46137.625]

{"sheet":"May","index":10,"n_rows":42,"n_cols":6,"rows_kept":42,"cut":false,"hidden":false,"merged":[[1,1,1,4]]}
[]
["Date","Teams",null,null,null,"Time"]
["2026-05-02","Arsenal",null,null,"Fulham",46144.625]
["2026-05-02","Aston Villa",null,null,"Spurs",46144.625]
["2026-05-02","Bournemouth",null,null,"Crystal Palace",46144.625]
["2026-05-02","Brentford",null,null,"West Ham",46144.625]
["2026-05-02","Chelsea",null,null,"Nott'm Forest",46144.625]
["2026-05-02","Everton",null,null,"Man City",46144.625]
["2026-05-02","Leeds Utd",null,null,"Burnley",46144.625]
["2026-05-02","Man Utd",null,null,"Liverpool",46144.625]
["2026-05-02","Newcastle",null,null,"Brighton",46144.625]
["2026-05-02","Wolves",null,null,"Sunderland",46144.625]
["2026-05-09","Brighton",null,null,"Wolves",46151.625]
["2026-05-09","Burnley",null,null,"Aston Villa",46151.625]
["2026-05-09","Crystal Palace",null,null,"Everton",46151.625]
["2026-05-09","Fulham",null,null,"Bournemouth",46151.625]
["2026-05-09","Liverpool",null,null,"Chelsea",46151.625]
["2026-05-09","Man City",null,null,"Brentford",46151.625]
["2026-05-09","Nott'm Forest",null,null,"Newcastle",46151.625]
["2026-05-09","Spurs",null,null,"Leeds Utd",46151.625]
["2026-05-09","Sunderland",null,null,"Man Utd",46151.625]
["2026-05-09","West Ham",null,null,"Arsenal",46151.625]
["2026-05-17","Arsenal",null,null,"Burnley",46159.625]
["2026-05-17","Aston Villa",null,null,"Liverpool",46159.625]
["2026-05-17","Bournemouth",null,null,"Man City",46159.625]
["2026-05-17","Brentford",null,null,"Crystal Palace",46159.625]
["2026-05-17","Chelsea",null,null,"Spurs",46159.625]
["2026-05-17","Everton",null,null,"Sunderland",46159.625]
["2026-05-17","Leeds Utd",null,null,"Brighton",46159.625]
["2026-05-17","Man Utd",null,null,"Nott'm Forest",46159.625]
["2026-05-17","Newcastle",null,null,"West Ham",46159.625]
["2026-05-17","Wolves",null,null,"Fulham",46159.625]
["2026-05-24","Brighton",null,null,"Man Utd",46166.666666666664]
["2026-05-24","Burnley",null,null,"Wolves",46166.666666666664]
["2026-05-24","Crystal Palace",null,null,"Arsenal",46166.666666666664]
["2026-05-24","Fulham",null,null,"Newcastle",46166.666666666664]
["2026-05-24","Liverpool",null,null,"Brentford",46166.666666666664]
["2026-05-24","Man City",null,null,"Aston Villa",46166.666666666664]
["2026-05-24","Nott'm Forest",null,null,"Bournemouth",46166.666666666664]
["2026-05-24","Spurs",null,null,"Everton",46166.666666666664]
["2026-05-24","Sunderland",null,null,"Chelsea",46166.666666666664]
["2026-05-24","West Ham",null,null,"Leeds Utd",46166.666666666664]

{"sheet":"Jokers","index":11,"n_rows":101,"n_cols":35,"rows_kept":101,"cut":false,"hidden":false,"merged":[]}
["No.","Player","Team Name","Joker",1,2,3,4,5,6,7,8,9,10,11,12,13,14,15,16,17,18,19,20,21,22,23,24,25,26,27,28,29,30,"Total"]
[1,"Aaron Nealon","Backstreet Moyes",null,null,null,null,null,null,null,null,null,null,null,null,null,null,null,null,null,null,null,null,null,null,null,null,null,null,null,null,null,null,null,{"$f":"COUNTIF(E2:AH2,\"a\")","v":0}]
[2,"Aidan Scanlon","St Pats",null,null,null,null,null,null,null,null,null,null,null,null,null,null,null,null,null,null,null,null,null,null,null,null,null,null,null,null,null,null,null,0]
[3,"Aidan White","The Emery Board","1-0","a",null,null,null,null,null,null,null,null,null,null,null,null,null,null,null,null,null,null,null,null,null,null,null,null,null,null,null,null,null,1]
[4,"Alain Verjans","TheCoysAreBackInTown",null,null,null,null,null,null,null,null,null,null,null,null,null,null,null,null,null,null,null,null,null,null,null,null,null,null,null,null,null,null,null,0]
[5,"Anastas Popov","Golden State Saints","1-0","a","a","a",null,null,null,null,null,null,null,null,null,null,null,null,null,null,null,null,null,null,null,null,null,null,null,null,null,null,null,3]
[6,"Andy Dunne","Escape To Victory FC",null,null,null,null,null,null,null,null,null,null,null,null,null,null,null,null,null,null,null,null,null,null,null,null,null,null,null,null,null,null,null,0]
[7,"Benny McCarthy","Brendan's Navigators","2-1","a","a","a","a","a","a","a","a","a","a","a","a","a","a","a","a","a","a","a","a","a","a","a","a","a","a","a","a","a","a",30]
[8,"Billy McGinley","Seagulls Flying High","0-0","a",null,null,null,null,null,null,null,null,null,null,null,null,null,null,null,null,null,null,null,null,null,null,null,null,null,null,null,null,null,1]
[9,"Bobby Hynes","Born To Run","2-1","a","a",null,null,null,null,null,null,null,null,null,null,null,null,null,null,null,null,null,null,null,null,null,null,null,null,null,null,null,null,2]
[10,"Brendan Maguire","Cantthinkofone",null,null,null,null,null,null,null,null,null,null,null,null,null,null,null,null,null,null,null,null,null,null,null,null,null,null,null,null,null,null,null,0]
[11,"Brian Haughton","Poolabu","1-1","a","a","a","a","a","a","a","a","a","a",null,null,null,null,null,null,null,null,null,null,null,null,null,null,null,null,null,null,null,null,10]
[12,"Brian Hearne","Team Phoenix","1-0","a",null,null,null,null,null,null,null,null,null,null,null,null,null,null,null,null,null,null,null,null,null,null,null,null,null,null,null,null,null,1]
[13,"Brian Mullen","Are They My Feet?","2-1","a","a","a","a","a","a","a","a","a","a",null,null,null,null,null,null,null,null,null,null,null,null,null,null,null,null,null,null,null,null,10]
[14,"Calvin McGettigan","Right Behind United","0-0","a","a","a","a","a","a","a","a","a","a","a","a","a","a","a","a","a","a","a","a","a","a","a","a","a","a","a","a","a","a",{"$f":"COUNTIF(E15:AH15,\"a\")","v":30}]
[15,"Caoimhin McEnteggart","Macs Marvels","2-1","a","a","a","a","a","a","a","a","a","a","a","a","a","a","a","a","a","a","a","a",null,null,null,null,null,null,null,null,null,null,{"$f":"COUNTIF(E16:AH16,\"a\")","v":20}]
[16,"Carl Toner","COYI","1-0","a","a","a","a","a","a","a","a","a","a","a",null,null,null,null,null,null,null,null,null,null,null,null,null,null,null,null,null,null,null,11]
[17,"Caroline Carroll","Glenview","2-1","a",null,null,null,null,null,null,null,null,null,null,null,null,null,null,null,null,null,null,null,null,null,null,null,null,null,null,null,null,null,1]
[18,"Chris Keohan","Nancy's Warriors","2-0","a","a","a","a","a","a","a","a","a","a","a","a","a","a","a","a","a","a","a","a",null,null,null,null,null,null,null,null,null,null,20]
[19,"Christina Morgan","I'll Try 2-1 Again This Year","2-1","a","a","a","a",null,null,null,null,null,null,null,null,null,null,null,null,null,null,null,null,null,null,null,null,null,null,null,null,null,null,4]
[20,"Ciaran O'Hart","Riverchapel Plate","1-1","a","a","a","a","a","a","a","a","a","a",null,null,null,null,null,null,null,null,null,null,null,null,null,null,null,null,null,null,null,null,10]
[21,"Colin Butterly","Butters FC","1-1","a","a","a","a","a","a","a","a","a","a","a","a","a","a","a","a","a","a","a","a","a","a","a","a","a","a","a","a","a","a",30]
[22,"Con McSweeney","Queer-Hawks",null,null,null,null,null,null,null,null,null,null,null,null,null,null,null,null,null,null,null,null,null,null,null,null,null,null,null,null,null,null,null,0]
[23,"Craig Calvert","Cunha Win A Few Games United?","2-0","a","a",null,null,null,null,null,null,null,null,null,null,null,null,null,null,null,null,null,null,null,null,null,null,null,null,null,null,null,null,2]
[24,"Craig Whelan","Saints",null,null,null,null,null,null,null,null,null,null,null,null,null,null,null,null,null,null,null,null,null,null,null,null,null,null,null,null,null,null,null,0]
[25,"Daniel Dorrian","Donegallad97","2-0","a","a","a","a","a","a","a","a","a","a","a","a","a","a","a","a","a","a","a","a","a","a","a","a","a","a","a","a","a","a",30]
[26,"Darragh Kenny","Tony Fitz",null,null,null,null,null,null,null,null,null,null,null,null,null,null,null,null,null,null,null,null,null,null,null,null,null,null,null,null,null,null,null,0]
[27,"Darren O'Gorman","Pass n Move","2-1","a","a","a",null,null,null,null,null,null,null,null,null,null,null,null,null,null,null,null,null,null,null,null,null,null,null,null,null,null,null,3]
[28,"Dave Lavelle","Isak Is A Red","2-0","a","a","a","a","a","a","a","a","a","a","a","a","a","a","a","a","a","a","a","a","a","a","a","a","a","a","a","a","a","a",30]
[29,"Dave McGinley","Reservoir Dubs","2-1","a",null,null,null,null,null,null,null,null,null,null,null,null,null,null,null,null,null,null,null,null,null,null,null,null,null,null,null,null,null,1]
[30,"David Cooney","London Is Blue",null,null,null,null,null,null,null,null,null,null,null,null,null,null,null,null,null,null,null,null,null,null,null,null,null,null,null,null,null,null,null,0]
[31,"David Doyle","Ekitike Max","2-1","a","a","a","a","a","a","a","a","a","a","a","a","a","a","a","a","a","a","a","a","a","a","a","a","a","a","a","a","a","a",30]
[32,"David King","Alisson Wonderland","2-1","a","a","a","a","a","a","a","a","a","a","a","a","a","a","a","a","a","a","a","a","a","a","a","a","a","a","a","a","a","a",30]
[33,"Derek McDonald","United We Stand","2-1","a","a",null,null,null,null,null,null,null,null,null,null,null,null,null,null,null,null,null,null,null,null,null,null,null,null,null,null,null,null,2]
[34,"Dylan Delaney","Amorin's At The Wheel","2-1","a","a","a","a","a","a","a","a","a","a","a","a","a","a","a","a","a","a","a","a","a","a","a","a","a","a","a","a","a","a",30]
[35,"Dylan O'Riordan","Friday Night Slots","1-0","a","a","a","a","a","a","a","a","a","a",null,null,null,null,null,null,null,null,null,null,null,null,null,null,null,null,null,null,null,null,10]
[36,"Eamon Fox","Deus Ex Machina","1-1","a","a","a","a","a","a","a","a","a",null,null,null,null,null,null,null,null,null,null,null,null,null,null,null,null,null,null,null,null,null,9]
[37,"Eamonn Gallagher","Gally's Prem Hoops","2-0","a","a","a","a","a","a","a","a","a","a","a","a","a","a","a","a","a","a","a","a","a","a","a","a","a","a","a","a","a","a",30]
[38,"Eoghan Farrelly","Maybe This Year","1-0","a",null,null,null,null,null,null,null,null,null,null,null,null,null,null,null,null,null,null,null,null,null,null,null,null,null,null,null,null,null,1]
[39,"Finbarr Corkery","Firies FC",null,null,null,null,null,null,null,null,null,null,null,null,null,null,null,null,null,null,null,null,null,null,null,null,null,null,null,null,null,null,null,0]
[40,"Frank McSweeney","Poolabu 1","1-0","a",null,null,null,null,null,null,null,null,null,null,null,null,null,null,null,null,null,null,null,null,null,null,null,null,null,null,null,null,null,1]
[41,"Gareth Pierpoint","Wirtz A Fortune",null,null,null,null,null,null,null,null,null,null,null,null,null,null,null,null,null,null,null,null,null,null,null,null,null,null,null,null,null,null,null,0]
[42,"Gary Donnelly","Drop It Like It's Slot","2-1","a","a","a",null,null,null,null,null,null,null,null,null,null,null,null,null,null,null,null,null,null,null,null,null,null,null,null,null,null,null,3]
[43,"Gary Fitzpatrick","Can't Get Any Wirtz","3-1","a","a","a","a","a","a","a","a","a","a","a","a","a","a","a","a","a","a","a","a",null,null,null,null,null,null,null,null,null,null,20]
[44,"Gavin Goodwin","Gorey United","2-1","a","a","a","a","a","a","a","a","a","a","a","a","a","a","a","a","a","a","a","a","a","a","a","a","a","a","a","a","a","a",30]
[45,"Gavin Morgan","FC Lorem Ipsum",null,null,null,null,null,null,null,null,null,null,null,null,null,null,null,null,null,null,null,null,null,null,null,null,null,null,null,null,null,null,null,0]
[46,"Gerry Draper","Everton10",null,null,null,null,null,null,null,null,null,null,null,null,null,null,null,null,null,null,null,null,null,null,null,null,null,null,null,null,null,null,null,0]
[47,"Gerry Moore","Victor! For Mikel",null,null,null,null,null,null,null,null,null,null,null,null,null,null,null,null,null,null,null,null,null,null,null,null,null,null,null,null,null,null,null,0]
[48,"Graham Pierpoint","Que Salah Salah",null,null,null,null,null,null,null,null,null,null,null,null,null,null,null,null,null,null,null,null,null,null,null,null,null,null,null,null,null,null,null,0]
[49,"Greg Donaghy","Champagne Super Rovers","2-1","a","a","a","a","a","a","a","a","a","a","a","a","a","a","a","a",null,null,null,null,null,null,null,null,null,null,null,null,null,null,16]
[50,"Helen Fadian","Keelwestkats",null,null,null,null,null,null,null,null,null,null,null,null,null,null,null,null,null,null,null,null,null,null,null,null,null,null,null,null,null,null,null,0]
[51,"Jack Draper","Always Losing",null,null,null,null,null,null,null,null,null,null,null,null,null,null,null,null,null,null,null,null,null,null,null,null,null,null,null,null,null,null,null,0]
[52,"Jason Maloney","Time Out Hoops","2-1","a","a","a","a","a","a","a","a","a","a",null,null,null,null,null,null,null,null,null,null,null,null,null,null,null,null,null,null,null,null,10]
[53,"Javier Suarez","Loseronius FC",null,null,null,null,null,null,null,null,null,null,null,null,null,null,null,null,null,null,null,null,null,null,null,null,null,null,null,null,null,null,null,0]
[54,"Jim Foley","Ronaldo's A Cod","3-0","a","a",null,null,null,null,null,null,null,null,null,null,null,null,null,null,null,null,null,null,null,null,null,null,null,null,null,null,null,null,2]
[55,"Jimmy Maguire","Jimmy's Jewels","2-0","a","a","a","a","a","a","a","a","a","a",null,null,null,null,null,null,null,null,null,null,null,null,null,null,null,null,null,null,null,null,10]
[56,"Joe Behan","NC750X","1-0","a",null,null,null,null,null,null,null,null,null,null,null,null,null,null,null,null,null,null,null,null,null,null,null,null,null,null,null,null,null,1]
[57,"Joe Turner","The Coutinho Money",null,null,null,null,null,null,null,null,null,null,null,null,null,null,null,null,null,null,null,null,null,null,null,null,null,null,null,null,null,null,null,0]
[58,"John Brophy","Carrig ABU","1-0","a",null,null,null,null,null,null,null,null,null,null,null,null,null,null,null,null,null,null,null,null,null,null,null,null,null,null,null,null,null,1]
[59,"John Cafferkey","Beach Boys",null,null,null,null,null,null,null,null,null,null,null,null,null,null,null,null,null,null,null,null,null,null,null,null,null,null,null,null,null,null,null,0]
[60,"Johno Percy","Moves Like Agger",null,null,null,null,null,null,null,null,null,null,null,null,null,null,null,null,null,null,null,null,null,null,null,null,null,null,null,null,null,null,null,0]
[61,"Jonathan Fox","He's A Lad From Portugal, Better Than Figo Don’t You Know","1-0","a","a",null,null,null,null,null,null,null,null,null,null,null,null,null,null,null,null,null,null,null,null,null,null,null,null,null,null,null,null,2]
[62,"Joseph Kavanagh","CherryOrchardThieves",null,null,null,null,null,null,null,null,null,null,null,null,null,null,null,null,null,null,null,null,null,null,null,null,null,null,null,null,null,null,null,0]
[63,"Joseph Leppla","Play Jaya Frimpong",null,null,null,null,null,null,null,null,null,null,null,null,null,null,null,null,null,null,null,null,null,null,null,null,null,null,null,null,null,null,null,0]
[64,"Keith Nerney","Now I'm A Baleba","1-0","a","a","a","a","a","a","a","a","a","a","a","a","a","a","a","a","a","a","a","a","a",null,null,null,null,null,null,null,null,null,21]
[65,"Keith Ryan","Cunha Please Hurry Up","2-0","a","a","a","a","a","a","a","a","a","a",null,null,null,null,null,null,null,null,null,null,null,null,null,null,null,null,null,null,null,null,10]
[66,"Kev Dalton","Don't Know Why I Bother!","2-1","a","a","a",null,null,null,null,null,null,null,null,null,null,null,null,null,null,null,null,null,null,null,null,null,null,null,null,null,null,null,3]
[67,"Kevin Lawless","Delays FC","1-0","a","a","a","a","a","a","a","a","a","a","a","a","a",null,null,null,null,null,null,null,null,null,null,null,null,null,null,null,null,null,13]
[68,"Kevin Nolan","Frimpong Frimpong","1-0","a","a","a","a","a",null,null,null,null,null,null,null,null,null,null,null,null,null,null,null,null,null,null,null,null,null,null,null,null,null,5]
[69,"Kieran Killeen","Olde Gold Gloom","1-1","a","a","a","a","a","a","a","a","a","a",null,null,null,null,null,null,null,null,null,null,null,null,null,null,null,null,null,null,null,null,10]
[70,"Liam Keohan","Stranger Wings","2-1","a","a","a","a","a","a","a","a","a","a","a","a","a","a","a","a","a","a","a","a","a","a","a","a","a","a","a","a","a","a",30]
[71,"Lionel Knott","Knott's Landing","2-1","a","a","a",null,null,null,null,null,null,null,null,null,null,null,null,null,null,null,null,null,null,null,null,null,null,null,null,null,null,null,3]
[72,"Martin Kimmins","Los Pollos Hermanos","1-1","a",null,null,null,null,null,null,null,null,null,null,null,null,null,null,null,null,null,null,null,null,null,null,null,null,null,null,null,null,null,1]
[73,"Micheal Joyce","Whiter Shade Of Pale",null,null,null,null,null,null,null,null,null,null,null,null,null,null,null,null,null,null,null,null,null,null,null,null,null,null,null,null,null,null,null,0]
[74,"Micheal Munnelly","The Cunning Stunts","2-1","a","a",null,null,null,null,null,null,null,null,null,null,null,null,null,null,null,null,null,null,null,null,null,null,null,null,null,null,null,null,2]
[75,"Monica Collins","Monchester United",null,null,null,null,null,null,null,null,null,null,null,null,null,null,null,null,null,null,null,null,null,null,null,null,null,null,null,null,null,null,null,0]
[76,"Niall Carroll","Yellow Bellies","2-0","a",null,null,null,null,null,null,null,null,null,null,null,null,null,null,null,null,null,null,null,null,null,null,null,null,null,null,null,null,null,1]
[77,"Paddy Devereux","Wirtz The Story Lads","0-1","a","a","a","a","a","a","a","a","a","a","a","a","a","a","a","a","a","a","a","a","a","a","a","a","a","a","a","a","a","a",30]
[78,"Paul Foley","Foley's Sublime 11","2-0","a",null,null,null,null,null,null,null,null,null,null,null,null,null,null,null,null,null,null,null,null,null,null,null,null,null,null,null,null,null,1]
[79,"Paul Moore","Wirtz The Story, Morning Glory",null,null,null,null,null,null,null,null,null,null,null,null,null,null,null,null,null,null,null,null,null,null,null,null,null,null,null,null,null,null,null,0]
[80,"Paul Prendergast","The Untouchables",null,null,null,null,null,null,null,null,null,null,null,null,null,null,null,null,null,null,null,null,null,null,null,null,null,null,null,null,null,null,null,0]
[81,"Peter Lavelle","Lavfavs","2-1","a","a","a","a","a","a","a","a","a","a","a",null,null,null,null,null,null,null,null,null,null,null,null,null,null,null,null,null,null,null,11]
[82,"Phil Doyle","FC Muertos Erraticos",null,null,null,null,null,null,null,null,null,null,null,null,null,null,null,null,null,null,null,null,null,null,null,null,null,null,null,null,null,null,null,0]
[83,"Philip Jordan","Frankie's Army",null,null,null,null,null,null,null,null,null,null,null,null,null,null,null,null,null,null,null,null,null,null,null,null,null,null,null,null,null,null,null,{"$f":"COUNTIF(E84:AH84,\"a\")","v":0}]
[84,"Phoebe Suarez Behan","Unicorn FC","1-0","a","a","a","a","a","a","a","a","a","a","a","a","a","a","a","a","a","a","a","a","a",null,null,null,null,null,null,null,null,null,21]
[85,"Realtin Dunne","Little Stars FC","2-1","a","a","a","a","a","a","a","a","a","a","a","a","a","a","a","a","a","a","a","a","a","a","a","a","a","a","a","a","a","a",30]
[86,"Rhea Suarez Behan","Rhea's Reds","1-0","a","a","a","a","a","a","a","a","a","a","a","a","a","a","a","a","a","a","a","a","a","a",null,null,null,null,null,null,null,null,22]
[87,"Richard Johnston","Oumuamua FC","2-1","a","a","a","a","a",null,null,null,null,null,null,null,null,null,null,null,null,null,null,null,null,null,null,null,null,null,null,null,null,null,5]
[88,"Robert Foley","Alisson Wonderland","2-1","a",null,null,null,null,null,null,null,null,null,null,null,null,null,null,null,null,null,null,null,null,null,null,null,null,null,null,null,null,null,1]
[89,"Robert Gaffney","Fiorentina Turner",null,null,null,null,null,null,null,null,null,null,null,null,null,null,null,null,null,null,null,null,null,null,null,null,null,null,null,null,null,null,null,0]
[90,"Roisin Joyce","Joyce's Choices",null,null,null,null,null,null,null,null,null,null,null,null,null,null,null,null,null,null,null,null,null,null,null,null,null,null,null,null,null,null,null,0]
[91,"Sam Calvert","Samchester United","1-1","a","a","a","a","a","a","a","a","a","a","a","a","a","a","a","a","a","a","a","a","a","a","a","a","a","a","a","a","a","a",30]
[92,"Sean Cafferkey","Yoryies",null,null,null,null,null,null,null,null,null,null,null,null,null,null,null,null,null,null,null,null,null,null,null,null,null,null,null,null,null,null,null,0]
[93,"Sean Cleary","Sean's Stars","2-0","a","a","a","a","a","a","a","a","a","a","a","a","a","a","a","a","a","a","a","a","a","a","a","a","a","a",null,null,null,null,26]
[94,"Sean O'Mairtin","Creweless",null,null,null,null,null,null,null,null,null,null,null,null,null,null,null,null,null,null,null,null,null,null,null,null,null,null,null,null,null,null,null,0]
[95,"Shane Horan","Welsh Xavi","2-1","a","a","a","a","a","a","a","a","a","a","a","a","a","a","a","a","a","a","a","a","a","a",null,null,null,null,null,null,null,null,22]
[96,"Simon Scanlon","Amorin's United Red Devils","1-1","a","a","a","a","a","a","a","a","a","a","a","a","a","a","a","a","a","a","a","a","a","a","a","a","a","a","a","a","a","a",30]
[97,"Thomas Nolan","Sons of Pitches","1-0","a","a","a","a","a","a","a","a","a",null,null,null,null,null,null,null,null,null,null,null,null,null,null,null,null,null,null,null,null,null,9]
[98,"Tommy Hamill","Omeath All-Stars",null,null,null,null,null,null,null,null,null,null,null,null,null,null,null,null,null,null,null,null,null,null,null,null,null,null,null,null,null,null,null,0]
[99,"Tommy Tormey","Shay Brennan's Testimonial XI","2-1","a","a","a","a","a","a","a","a","a","a","a","a","a","a","a","a","a","a","a","a","a","a","a","a","a","a","a","a","a","a",30]
[100,"Tommy Walsh","Toon Army","2-1","a","a","a","a","a","a","a",null,null,null,null,null,null,null,null,null,null,null,null,null,null,null,null,null,null,null,null,null,null,null,7]